Back to Multiple platform build/check report for BioC 3.21:   simplified   long
A[B]CDEFGHIJKLMNOPQRSTUVWXYZ

This page was generated on 2025-10-16 11:38 -0400 (Thu, 16 Oct 2025).

HostnameOSArch (*)R versionInstalled pkgs
nebbiolo1Linux (Ubuntu 24.04.3 LTS)x86_644.5.1 (2025-06-13) -- "Great Square Root" 4833
merida1macOS 12.7.6 Montereyx86_644.5.1 RC (2025-06-05 r88288) -- "Great Square Root" 4614
kjohnson1macOS 13.7.5 Venturaarm644.5.1 Patched (2025-06-14 r88325) -- "Great Square Root" 4555
kunpeng2Linux (openEuler 24.03 LTS)aarch64R Under development (unstable) (2025-02-19 r87757) -- "Unsuffered Consequences" 4586
Click on any hostname to see more info about the system (e.g. compilers)      (*) as reported by 'uname -p', except on Windows and Mac OS X

Package 217/2341HostnameOS / ArchINSTALLBUILDCHECKBUILD BIN
BioNAR 1.10.0  (landing page)
Anatoly Sorokin
Snapshot Date: 2025-10-13 13:40 -0400 (Mon, 13 Oct 2025)
git_url: https://git.bioconductor.org/packages/BioNAR
git_branch: RELEASE_3_21
git_last_commit: d3036b1
git_last_commit_date: 2025-04-15 12:58:11 -0400 (Tue, 15 Apr 2025)
nebbiolo1Linux (Ubuntu 24.04.3 LTS) / x86_64  OK    OK    ERROR  
merida1macOS 12.7.6 Monterey / x86_64  OK    OK    ERROR    OK  
kjohnson1macOS 13.7.5 Ventura / arm64  OK    OK    ERROR    OK  
kunpeng2Linux (openEuler 24.03 LTS) / aarch64  OK    ERROR  skipped


CHECK results for BioNAR on merida1

To the developers/maintainers of the BioNAR package:
- Allow up to 24 hours (and sometimes 48 hours) for your latest push to git@git.bioconductor.org:packages/BioNAR.git to reflect on this report. See Troubleshooting Build Report for more information.
- Use the following Renviron settings to reproduce errors and warnings.
- If 'R CMD check' started to fail recently on the Linux builder(s) over a missing dependency, add the missing dependency to 'Suggests:' in your DESCRIPTION file. See Renviron.bioc for more information.

raw results


Summary

Package: BioNAR
Version: 1.10.0
Command: /Library/Frameworks/R.framework/Resources/bin/R CMD check --install=check:BioNAR.install-out.txt --library=/Library/Frameworks/R.framework/Resources/library --no-vignettes --timings BioNAR_1.10.0.tar.gz
StartedAt: 2025-10-14 00:41:50 -0400 (Tue, 14 Oct 2025)
EndedAt: 2025-10-14 00:56:19 -0400 (Tue, 14 Oct 2025)
EllapsedTime: 868.8 seconds
RetCode: 1
Status:   ERROR  
CheckDir: BioNAR.Rcheck
Warnings: NA

Command output

##############################################################################
##############################################################################
###
### Running command:
###
###   /Library/Frameworks/R.framework/Resources/bin/R CMD check --install=check:BioNAR.install-out.txt --library=/Library/Frameworks/R.framework/Resources/library --no-vignettes --timings BioNAR_1.10.0.tar.gz
###
##############################################################################
##############################################################################


* using log directory ‘/Users/biocbuild/bbs-3.21-bioc/meat/BioNAR.Rcheck’
* using R version 4.5.1 RC (2025-06-05 r88288)
* using platform: x86_64-apple-darwin20
* R was compiled by
    Apple clang version 14.0.0 (clang-1400.0.29.202)
    GNU Fortran (GCC) 14.2.0
* running under: macOS Monterey 12.7.6
* using session charset: UTF-8
* using option ‘--no-vignettes’
* checking for file ‘BioNAR/DESCRIPTION’ ... OK
* this is package ‘BioNAR’ version ‘1.10.0’
* package encoding: UTF-8
* checking package namespace information ... OK
* checking package dependencies ... OK
* checking if this is a source package ... OK
* checking if there is a namespace ... OK
* checking for hidden files and directories ... OK
* checking for portable file names ... OK
* checking for sufficient/correct file permissions ... OK
* checking whether package ‘BioNAR’ can be installed ... OK
* checking installed package size ... INFO
  installed size is  6.8Mb
  sub-directories of 1Mb or more:
    extdata   6.1Mb
* checking package directory ... OK
* checking ‘build’ directory ... OK
* checking DESCRIPTION meta-information ... OK
* checking top-level files ... OK
* checking for left-over files ... OK
* checking index information ... OK
* checking package subdirectories ... OK
* checking code files for non-ASCII characters ... OK
* checking R files for syntax errors ... OK
* checking whether the package can be loaded ... OK
* checking whether the package can be loaded with stated dependencies ... OK
* checking whether the package can be unloaded cleanly ... OK
* checking whether the namespace can be loaded with stated dependencies ... OK
* checking whether the namespace can be unloaded cleanly ... OK
* checking dependencies in R code ... NOTE
Package in Depends field not imported from: ‘Rdpack’
  These packages need to be imported from (in the NAMESPACE file)
  for when this namespace is loaded but not attached.
There are ::: calls to the package's namespace in its code. A package
  almost never needs to use ::: for its own objects:
  ‘addNoise’ ‘gofs’ ‘highlightRate’ ‘plotSigmoid’
* checking S3 generic/method consistency ... OK
* checking replacement functions ... OK
* checking foreign function calls ... OK
* checking R code for possible problems ... OK
* checking Rd files ... OK
* checking Rd metadata ... OK
* checking Rd cross-references ... NOTE
Unknown package ‘clusterCons’ in Rd xrefs
* checking for missing documentation entries ... OK
* checking for code/documentation mismatches ... OK
* checking Rd \usage sections ... OK
* checking Rd contents ... OK
* checking for unstated dependencies in examples ... OK
* checking contents of ‘data’ directory ... OK
* checking data for non-ASCII characters ... OK
* checking LazyData ... OK
* checking data for ASCII and uncompressed saves ... OK
* checking files in ‘vignettes’ ... OK
* checking examples ... OK
Examples with CPU (user + system) or elapsed time > 5s
                           user system elapsed
calcEntropy              19.972  4.076  28.565
plotEntropy              20.924  1.061  22.275
clusteringSummary        21.526  0.215  24.969
getEntropy               18.645  0.993  19.931
addEdgeAtts              15.503  3.320  21.810
getCentralityMatrix      17.423  0.668  18.455
getGraphCentralityECDF   17.241  0.829  18.159
annotateTopOntoOVG       16.656  0.875  17.965
runPermDisease           11.397  0.177  11.727
annotateSCHanno          10.769  0.761  12.278
calcSparsness             9.363  1.674  13.274
annotateGOont             8.326  1.526  11.507
normModularity            8.652  0.771   9.463
annotateGoBP              8.615  0.492   9.928
annotateGoMF              6.934  0.427   8.362
annotateGoCC              6.796  0.424   7.795
calcAllClustering         6.508  0.025   6.559
FitDegree                 2.289  0.086  13.501
getRandomGraphCentrality  1.380  0.035  23.929
* checking for unstated dependencies in ‘tests’ ... OK
* checking tests ...
  Running ‘testthat.R’
 ERROR
Running the tests in ‘tests/testthat.R’ failed.
Last 13 lines of output:
  [ FAIL 1 | WARN 0 | SKIP 2 | PASS 124 ]
  
  ══ Skipped tests (2) ═══════════════════════════════════════════════════════════
  • On CRAN (2): 'test_bridgeness.R:38:5', 'test_bridgeness.R:81:5'
  
  ══ Failed tests ════════════════════════════════════════════════════════════════
  ── Failure ('test_bridgeness.R:101:5'): Norm Modularity ────────────────────────
  `nm` (`actual`) not equal to 0.009390085 (`expected`).
  
    `actual`: 0.0070
  `expected`: 0.0094
  
  [ FAIL 1 | WARN 0 | SKIP 2 | PASS 124 ]
  Error: Test failures
  Execution halted
* checking for unstated dependencies in vignettes ... OK
* checking package vignettes ... OK
* checking running R code from vignettes ... SKIPPED
* checking re-building of vignette outputs ... SKIPPED
* checking PDF version of manual ... OK
* DONE

Status: 1 ERROR, 2 NOTEs
See
  ‘/Users/biocbuild/bbs-3.21-bioc/meat/BioNAR.Rcheck/00check.log’
for details.


Installation output

BioNAR.Rcheck/00install.out

##############################################################################
##############################################################################
###
### Running command:
###
###   /Library/Frameworks/R.framework/Resources/bin/R CMD INSTALL BioNAR
###
##############################################################################
##############################################################################


* installing to library ‘/Library/Frameworks/R.framework/Versions/4.5-x86_64/Resources/library’
* installing *source* package ‘BioNAR’ ...
** this is package ‘BioNAR’ version ‘1.10.0’
** using staged installation
** R
** data
*** moving datasets to lazyload DB
** inst
** byte-compile and prepare package for lazy loading
** help
*** installing help indices
** building package indices
** installing vignettes
** testing if installed package can be loaded from temporary location
** testing if installed package can be loaded from final location
** testing if installed package keeps a record of temporary installation path
* DONE (BioNAR)

Tests output

BioNAR.Rcheck/tests/testthat.Rout.fail


R version 4.5.1 RC (2025-06-05 r88288) -- "Great Square Root"
Copyright (C) 2025 The R Foundation for Statistical Computing
Platform: x86_64-apple-darwin20

R is free software and comes with ABSOLUTELY NO WARRANTY.
You are welcome to redistribute it under certain conditions.
Type 'license()' or 'licence()' for distribution details.

R is a collaborative project with many contributors.
Type 'contributors()' for more information and
'citation()' on how to cite R or R packages in publications.

Type 'demo()' for some demos, 'help()' for on-line help, or
'help.start()' for an HTML browser interface to help.
Type 'q()' to quit R.

> library(testthat)
> library(BioNAR)
Loading required package: igraph

Attaching package: 'igraph'

The following object is masked from 'package:testthat':

    compare

The following objects are masked from 'package:stats':

    decompose, spectrum

The following object is masked from 'package:base':

    union

Loading required package: poweRlaw
Loading required package: latex2exp
Loading required package: RSpectra
Loading required package: Rdpack



Attaching package: 'BioNAR'

The following object is masked from 'package:igraph':

    permute

> 
> test_check("BioNAR")
[ FAIL 1 | WARN 0 | SKIP 2 | PASS 124 ]

══ Skipped tests (2) ═══════════════════════════════════════════════════════════
• On CRAN (2): 'test_bridgeness.R:38:5', 'test_bridgeness.R:81:5'

══ Failed tests ════════════════════════════════════════════════════════════════
── Failure ('test_bridgeness.R:101:5'): Norm Modularity ────────────────────────
`nm` (`actual`) not equal to 0.009390085 (`expected`).

  `actual`: 0.0070
`expected`: 0.0094

[ FAIL 1 | WARN 0 | SKIP 2 | PASS 124 ]
Error: Test failures
Execution halted

Example timings

BioNAR.Rcheck/BioNAR-Ex.timings

nameusersystemelapsed
FitDegree 2.289 0.08613.501
addEdgeAtts15.503 3.32021.810
annotateGOont 8.326 1.52611.507
annotateGeneNames0.4970.0260.606
annotateGoBP8.6150.4929.928
annotateGoCC6.7960.4247.795
annotateGoMF6.9340.4278.362
annotatePresynaptic3.5470.2154.131
annotateSCHanno10.769 0.76112.278
annotateTopOntoOVG16.656 0.87517.965
annotateVertex0.0070.0020.008
applpMatrixToGraph0.0040.0010.006
buildNetwork0.0080.0010.009
calcAllClustering6.5080.0256.559
calcBridgeness0.1720.0070.259
calcCentrality0.2260.0060.236
calcCentralityExternalDistances1.4200.0611.486
calcCentralityInternalDistances1.4860.2692.130
calcClustering0.0100.0040.018
calcDiseasePairs0.9280.2391.485
calcEntropy19.972 4.07628.565
calcMembership0.0120.0050.028
calcReclusterMatrix0.0880.0220.137
calcSparsness 9.363 1.67413.274
clusterORA0.8140.0750.929
clusteringSummary21.526 0.21524.969
degreeBinnedGDAs0.5500.0420.739
escapeAnnotation0.0010.0020.004
evalCentralitySignificance1.4210.0311.614
findLCC0.0100.0020.012
getAnnotationList0.1250.0090.140
getAnnotationVertexList0.1580.0570.285
getBridgeness0.1690.0080.213
getCentralityMatrix17.423 0.66818.455
getClusterSubgraphByID0.0520.0030.055
getClustering0.0530.0030.058
getCommunityGraph0.0560.0030.059
getDType0.0000.0010.000
getDYNAMO0.0690.0030.073
getDiseases0.0010.0010.001
getEntropy18.645 0.99319.931
getEntropyRate0.0090.0010.010
getGNP0.0450.0020.049
getGraphCentralityECDF17.241 0.82918.159
getPA0.0460.0030.048
getRandomGraphCentrality 1.380 0.03523.929
getRobustness1.2770.0431.328
layoutByCluster0.2520.0040.259
layoutByRecluster0.2270.0070.235
makeConsensusMatrix1.3120.0421.426
makeMembership0.0050.0010.006
metlMatrix0.0180.0040.022
normModularity8.6520.7719.463
permute0.0000.0000.001
plotBridgeness1.0970.0161.143
plotEntropy20.924 1.06122.275
prepareGDA0.5130.0190.533
recluster0.0820.0030.086
removeVertexTerm0.0090.0030.014
runPermDisease11.397 0.17711.727
sampleDegBinnedGDA0.6630.0130.690
sampleGraphClust0.0600.0040.065
unescapeAnnotation0.0020.0020.005
zeroNA0.0000.0010.001