Back to Multiple platform build/check report for BioC 3.22:   simplified   long
A[B]CDEFGHIJKLMNOPQRSTUVWXYZ

This page was generated on 2025-11-12 11:58 -0500 (Wed, 12 Nov 2025).

HostnameOSArch (*)R versionInstalled pkgs
nebbiolo2Linux (Ubuntu 24.04.3 LTS)x86_644.5.1 Patched (2025-08-23 r88802) -- "Great Square Root" 4902
taishanLinux (openEuler 24.03 LTS)aarch644.5.0 (2025-04-11) -- "How About a Twenty-Six" 4668
Click on any hostname to see more info about the system (e.g. compilers)      (*) as reported by 'uname -p', except on Windows and Mac OS X

Package 221/2361HostnameOS / ArchINSTALLBUILDCHECKBUILD BIN
BioNAR 1.12.0  (landing page)
Anatoly Sorokin
Snapshot Date: 2025-11-11 13:45 -0500 (Tue, 11 Nov 2025)
git_url: https://git.bioconductor.org/packages/BioNAR
git_branch: RELEASE_3_22
git_last_commit: a683d4b
git_last_commit_date: 2025-10-29 11:19:29 -0500 (Wed, 29 Oct 2025)
nebbiolo2Linux (Ubuntu 24.04.3 LTS) / x86_64  OK    OK    ERROR  
taishanLinux (openEuler 24.03 LTS) / aarch64  OK    OK    ERROR  


CHECK results for BioNAR on taishan

To the developers/maintainers of the BioNAR package:
- Allow up to 24 hours (and sometimes 48 hours) for your latest push to git@git.bioconductor.org:packages/BioNAR.git to reflect on this report. See Troubleshooting Build Report for more information.
- Use the following Renviron settings to reproduce errors and warnings.
- If 'R CMD check' started to fail recently on the Linux builder(s) over a missing dependency, add the missing dependency to 'Suggests:' in your DESCRIPTION file. See Renviron.bioc for more information.
- See Martin Grigorov's blog post for how to debug Linux ARM64 related issues on a x86_64 host.

raw results


Summary

Package: BioNAR
Version: 1.12.0
Command: /home/biocbuild/R/R/bin/R CMD check --install=check:BioNAR.install-out.txt --library=/home/biocbuild/R/R/site-library --no-vignettes --timings BioNAR_1.12.0.tar.gz
StartedAt: 2025-11-11 07:37:01 -0000 (Tue, 11 Nov 2025)
EndedAt: 2025-11-11 07:45:23 -0000 (Tue, 11 Nov 2025)
EllapsedTime: 502.7 seconds
RetCode: 1
Status:   ERROR  
CheckDir: BioNAR.Rcheck
Warnings: NA

Command output

##############################################################################
##############################################################################
###
### Running command:
###
###   /home/biocbuild/R/R/bin/R CMD check --install=check:BioNAR.install-out.txt --library=/home/biocbuild/R/R/site-library --no-vignettes --timings BioNAR_1.12.0.tar.gz
###
##############################################################################
##############################################################################


* using log directory ‘/home/biocbuild/bbs-3.22-bioc/meat/BioNAR.Rcheck’
* using R version 4.5.0 (2025-04-11)
* using platform: aarch64-unknown-linux-gnu
* R was compiled by
    aarch64-unknown-linux-gnu-gcc (GCC) 14.2.0
    GNU Fortran (GCC) 14.2.0
* running under: openEuler 24.03 (LTS)
* using session charset: UTF-8
* using option ‘--no-vignettes’
* checking for file ‘BioNAR/DESCRIPTION’ ... OK
* this is package ‘BioNAR’ version ‘1.12.0’
* package encoding: UTF-8
* checking package namespace information ... OK
* checking package dependencies ... OK
* checking if this is a source package ... OK
* checking if there is a namespace ... OK
* checking for hidden files and directories ... OK
* checking for portable file names ... OK
* checking for sufficient/correct file permissions ... OK
* checking whether package ‘BioNAR’ can be installed ... OK
* checking installed package size ... INFO
  installed size is  6.8Mb
  sub-directories of 1Mb or more:
    extdata   6.1Mb
* checking package directory ... OK
* checking ‘build’ directory ... OK
* checking DESCRIPTION meta-information ... OK
* checking top-level files ... OK
* checking for left-over files ... OK
* checking index information ... OK
* checking package subdirectories ... OK
* checking code files for non-ASCII characters ... OK
* checking R files for syntax errors ... OK
* checking whether the package can be loaded ... OK
* checking whether the package can be loaded with stated dependencies ... OK
* checking whether the package can be unloaded cleanly ... OK
* checking whether the namespace can be loaded with stated dependencies ... OK
* checking whether the namespace can be unloaded cleanly ... OK
* checking loading without being on the library search path ... OK
* checking dependencies in R code ... NOTE
Package in Depends field not imported from: ‘Rdpack’
  These packages need to be imported from (in the NAMESPACE file)
  for when this namespace is loaded but not attached.
There are ::: calls to the package's namespace in its code. A package
  almost never needs to use ::: for its own objects:
  ‘addNoise’ ‘gofs’ ‘highlightRate’ ‘plotSigmoid’
* checking S3 generic/method consistency ... OK
* checking replacement functions ... OK
* checking foreign function calls ... OK
* checking R code for possible problems ... OK
* checking Rd files ... OK
* checking Rd metadata ... OK
* checking Rd cross-references ... NOTE
Unknown package ‘clusterCons’ in Rd xrefs
* checking for missing documentation entries ... OK
* checking for code/documentation mismatches ... OK
* checking Rd \usage sections ... OK
* checking Rd contents ... OK
* checking for unstated dependencies in examples ... OK
* checking contents of ‘data’ directory ... OK
* checking data for non-ASCII characters ... OK
* checking LazyData ... OK
* checking data for ASCII and uncompressed saves ... OK
* checking files in ‘vignettes’ ... OK
* checking examples ... OK
Examples with CPU (user + system) or elapsed time > 5s
                           user system elapsed
clusteringSummary        13.932  0.012  13.975
calcEntropy              13.671  0.020  13.732
plotEntropy              13.437  0.044  13.519
getEntropy               12.633  0.068  12.737
getGraphCentralityECDF   12.444  0.028  12.508
getCentralityMatrix      12.382  0.060  12.478
addEdgeAtts              11.077  0.128  11.236
annotateTopOntoOVG       10.832  0.064  10.928
runPermDisease            8.774  0.128   8.927
annotateSCHanno           7.060  0.028   7.110
annotateGOont             6.303  0.131   6.475
annotateGoBP              6.119  0.032   6.170
normModularity            5.936  0.015   5.970
calcSparsness             5.711  0.004   5.731
annotateGoMF              5.590  0.032   5.641
calcAllClustering         5.192  0.004   5.209
FitDegree                 1.450  0.006   8.134
getRandomGraphCentrality  0.885  0.016  14.364
* checking for unstated dependencies in ‘tests’ ... OK
* checking tests ...
  Running ‘testthat.R’
 ERROR
Running the tests in ‘tests/testthat.R’ failed.
Last 13 lines of output:
  [ FAIL 1 | WARN 0 | SKIP 2 | PASS 124 ]
  
  ══ Skipped tests (2) ═══════════════════════════════════════════════════════════
  • On CRAN (2): 'test_bridgeness.R:38:5', 'test_bridgeness.R:81:5'
  
  ══ Failed tests ════════════════════════════════════════════════════════════════
  ── Failure ('test_bridgeness.R:101:5'): Norm Modularity ────────────────────────
  `nm` (`actual`) not equal to 0.009390085 (`expected`).
  
    `actual`: 0.0070
  `expected`: 0.0094
  
  [ FAIL 1 | WARN 0 | SKIP 2 | PASS 124 ]
  Error: Test failures
  Execution halted
* checking for unstated dependencies in vignettes ... OK
* checking package vignettes ... OK
* checking running R code from vignettes ... SKIPPED
* checking re-building of vignette outputs ... SKIPPED
* checking PDF version of manual ... OK
* DONE

Status: 1 ERROR, 2 NOTEs
See
  ‘/home/biocbuild/bbs-3.22-bioc/meat/BioNAR.Rcheck/00check.log’
for details.


Installation output

BioNAR.Rcheck/00install.out

##############################################################################
##############################################################################
###
### Running command:
###
###   /home/biocbuild/R/R/bin/R CMD INSTALL BioNAR
###
##############################################################################
##############################################################################


* installing to library ‘/home/biocbuild/R/R-4.5.0/site-library’
* installing *source* package ‘BioNAR’ ...
** this is package ‘BioNAR’ version ‘1.12.0’
** using staged installation
** R
** data
*** moving datasets to lazyload DB
** inst
** byte-compile and prepare package for lazy loading
** help
*** installing help indices
** building package indices
** installing vignettes
** testing if installed package can be loaded from temporary location
** testing if installed package can be loaded from final location
** testing if installed package keeps a record of temporary installation path
* DONE (BioNAR)

Tests output

BioNAR.Rcheck/tests/testthat.Rout.fail


R version 4.5.0 (2025-04-11) -- "How About a Twenty-Six"
Copyright (C) 2025 The R Foundation for Statistical Computing
Platform: aarch64-unknown-linux-gnu

R is free software and comes with ABSOLUTELY NO WARRANTY.
You are welcome to redistribute it under certain conditions.
Type 'license()' or 'licence()' for distribution details.

R is a collaborative project with many contributors.
Type 'contributors()' for more information and
'citation()' on how to cite R or R packages in publications.

Type 'demo()' for some demos, 'help()' for on-line help, or
'help.start()' for an HTML browser interface to help.
Type 'q()' to quit R.

> library(testthat)
> library(BioNAR)
Loading required package: igraph

Attaching package: 'igraph'

The following object is masked from 'package:testthat':

    compare

The following objects are masked from 'package:stats':

    decompose, spectrum

The following object is masked from 'package:base':

    union

Loading required package: poweRlaw
Loading required package: latex2exp
Loading required package: RSpectra
Loading required package: Rdpack



Attaching package: 'BioNAR'

The following object is masked from 'package:igraph':

    permute

> 
> test_check("BioNAR")
[ FAIL 1 | WARN 0 | SKIP 2 | PASS 124 ]

══ Skipped tests (2) ═══════════════════════════════════════════════════════════
• On CRAN (2): 'test_bridgeness.R:38:5', 'test_bridgeness.R:81:5'

══ Failed tests ════════════════════════════════════════════════════════════════
── Failure ('test_bridgeness.R:101:5'): Norm Modularity ────────────────────────
`nm` (`actual`) not equal to 0.009390085 (`expected`).

  `actual`: 0.0070
`expected`: 0.0094

[ FAIL 1 | WARN 0 | SKIP 2 | PASS 124 ]
Error: Test failures
Execution halted

Example timings

BioNAR.Rcheck/BioNAR-Ex.timings

nameusersystemelapsed
FitDegree1.4500.0068.134
addEdgeAtts11.077 0.12811.236
annotateGOont6.3030.1316.475
annotateGeneNames0.2830.0000.304
annotateGoBP6.1190.0326.170
annotateGoCC4.9430.0164.975
annotateGoMF5.5900.0325.641
annotatePresynaptic2.1930.0002.202
annotateSCHanno7.0600.0287.110
annotateTopOntoOVG10.832 0.06410.928
annotateVertex0.0050.0000.005
applpMatrixToGraph0.0020.0000.003
buildNetwork0.0040.0000.005
calcAllClustering5.1920.0045.209
calcBridgeness0.1040.0000.105
calcCentrality0.1290.0040.134
calcCentralityExternalDistances0.7920.0440.838
calcCentralityInternalDistances0.8310.0040.838
calcClustering0.0060.0000.007
calcDiseasePairs0.6880.0230.714
calcEntropy13.671 0.02013.732
calcMembership0.0080.0000.008
calcReclusterMatrix0.0480.0030.051
calcSparsness5.7110.0045.731
clusterORA0.4610.0040.468
clusteringSummary13.932 0.01213.975
degreeBinnedGDAs0.3120.0120.325
escapeAnnotation0.0010.0000.001
evalCentralitySignificance0.8310.0160.849
findLCC0.0070.0000.007
getAnnotationList0.0730.0000.073
getAnnotationVertexList0.0830.0030.086
getBridgeness0.0950.0010.095
getCentralityMatrix12.382 0.06012.478
getClusterSubgraphByID0.0320.0000.032
getClustering0.0310.0000.031
getCommunityGraph0.0340.0000.033
getDType000
getDYNAMO0.0450.0040.050
getDiseases000
getEntropy12.633 0.06812.737
getEntropyRate0.0060.0000.006
getGNP0.0270.0000.028
getGraphCentralityECDF12.444 0.02812.508
getPA0.0280.0000.028
getRandomGraphCentrality 0.885 0.01614.364
getRobustness0.7210.0240.748
layoutByCluster0.4290.0040.435
layoutByRecluster0.2900.0000.291
makeConsensusMatrix0.7330.0120.746
makeMembership0.0030.0000.002
metlMatrix0.010.000.01
normModularity5.9360.0155.970
permute000
plotBridgeness0.6390.0000.641
plotEntropy13.437 0.04413.519
prepareGDA0.3190.0000.322
recluster0.0480.0000.048
removeVertexTerm0.0050.0000.006
runPermDisease8.7740.1288.927
sampleDegBinnedGDA0.3730.0160.390
sampleGraphClust0.0350.0000.036
unescapeAnnotation0.0010.0000.001
zeroNA000