| Back to Multiple platform build/check report for BioC 3.22: simplified long |
|
This page was generated on 2025-11-04 12:03 -0500 (Tue, 04 Nov 2025).
| Hostname | OS | Arch (*) | R version | Installed pkgs |
|---|---|---|---|---|
| nebbiolo2 | Linux (Ubuntu 24.04.3 LTS) | x86_64 | 4.5.1 Patched (2025-08-23 r88802) -- "Great Square Root" | 4902 |
| lconway | macOS 12.7.6 Monterey | x86_64 | 4.5.1 Patched (2025-09-10 r88807) -- "Great Square Root" | 4692 |
| kjohnson3 | macOS 13.7.7 Ventura | arm64 | 4.5.1 Patched (2025-09-10 r88807) -- "Great Square Root" | 4638 |
| Click on any hostname to see more info about the system (e.g. compilers) (*) as reported by 'uname -p', except on Windows and Mac OS X | ||||
| Package 147/2361 | Hostname | OS / Arch | INSTALL | BUILD | CHECK | BUILD BIN | ||||||||
| BatchQC 2.6.0 (landing page) Jessica Anderson
| nebbiolo2 | Linux (Ubuntu 24.04.3 LTS) / x86_64 | OK | OK | OK | |||||||||
| lconway | macOS 12.7.6 Monterey / x86_64 | OK | OK | OK | OK | |||||||||
| kjohnson3 | macOS 13.7.7 Ventura / arm64 | OK | OK | OK | OK | |||||||||
|
To the developers/maintainers of the BatchQC package: - Allow up to 24 hours (and sometimes 48 hours) for your latest push to git@git.bioconductor.org:packages/BatchQC.git to reflect on this report. See Troubleshooting Build Report for more information. - Use the following Renviron settings to reproduce errors and warnings. - If 'R CMD check' started to fail recently on the Linux builder(s) over a missing dependency, add the missing dependency to 'Suggests:' in your DESCRIPTION file. See Renviron.bioc for more information. |
| Package: BatchQC |
| Version: 2.6.0 |
| Command: /Library/Frameworks/R.framework/Resources/bin/R CMD check --install=check:BatchQC.install-out.txt --library=/Library/Frameworks/R.framework/Resources/library --no-vignettes --timings BatchQC_2.6.0.tar.gz |
| StartedAt: 2025-11-03 19:38:16 -0500 (Mon, 03 Nov 2025) |
| EndedAt: 2025-11-03 19:47:27 -0500 (Mon, 03 Nov 2025) |
| EllapsedTime: 551.5 seconds |
| RetCode: 0 |
| Status: OK |
| CheckDir: BatchQC.Rcheck |
| Warnings: 0 |
##############################################################################
##############################################################################
###
### Running command:
###
### /Library/Frameworks/R.framework/Resources/bin/R CMD check --install=check:BatchQC.install-out.txt --library=/Library/Frameworks/R.framework/Resources/library --no-vignettes --timings BatchQC_2.6.0.tar.gz
###
##############################################################################
##############################################################################
* using log directory ‘/Users/biocbuild/bbs-3.22-bioc/meat/BatchQC.Rcheck’
* using R version 4.5.1 Patched (2025-09-10 r88807)
* using platform: x86_64-apple-darwin20
* R was compiled by
Apple clang version 14.0.0 (clang-1400.0.29.202)
GNU Fortran (GCC) 14.2.0
* running under: macOS Monterey 12.7.6
* using session charset: UTF-8
* using option ‘--no-vignettes’
* checking for file ‘BatchQC/DESCRIPTION’ ... OK
* checking extension type ... Package
* this is package ‘BatchQC’ version ‘2.6.0’
* package encoding: UTF-8
* checking package namespace information ... OK
* checking package dependencies ... INFO
Imports includes 27 non-default packages.
Importing from so many packages makes the package vulnerable to any of
them becoming unavailable. Move as many as possible to Suggests and
use conditionally.
* checking if this is a source package ... OK
* checking if there is a namespace ... OK
* checking for hidden files and directories ... OK
* checking for portable file names ... OK
* checking for sufficient/correct file permissions ... OK
* checking whether package ‘BatchQC’ can be installed ... OK
* checking installed package size ... OK
* checking package directory ... OK
* checking ‘build’ directory ... OK
* checking DESCRIPTION meta-information ... OK
* checking top-level files ... OK
* checking for left-over files ... OK
* checking index information ... OK
* checking package subdirectories ... OK
* checking code files for non-ASCII characters ... OK
* checking R files for syntax errors ... OK
* checking whether the package can be loaded ... OK
* checking whether the package can be loaded with stated dependencies ... OK
* checking whether the package can be unloaded cleanly ... OK
* checking whether the namespace can be loaded with stated dependencies ... OK
* checking whether the namespace can be unloaded cleanly ... OK
* checking dependencies in R code ... OK
* checking S3 generic/method consistency ... OK
* checking replacement functions ... OK
* checking foreign function calls ... OK
* checking R code for possible problems ... OK
* checking Rd files ... OK
* checking Rd metadata ... OK
* checking Rd cross-references ... OK
* checking for missing documentation entries ... OK
* checking for code/documentation mismatches ... OK
* checking Rd \usage sections ... OK
* checking Rd contents ... OK
* checking for unstated dependencies in examples ... OK
* checking contents of ‘data’ directory ... OK
* checking data for non-ASCII characters ... OK
* checking data for ASCII and uncompressed saves ... OK
* checking files in ‘vignettes’ ... OK
* checking examples ... OK
Examples with CPU (user + system) or elapsed time > 5s
user system elapsed
compute_aic 42.812 0.549 43.622
volcano_plot 31.080 0.609 32.051
tb_data_upload 21.886 1.846 25.223
DE_analyze 21.028 0.466 21.581
pval_summary 20.351 0.394 20.913
pval_plotter 20.308 0.353 20.789
batch_correct 14.234 0.247 14.540
PCA_plotter 12.888 0.260 13.194
compute_lambda 6.429 0.055 6.520
goodness_of_fit_DESeq2 5.045 0.069 5.147
* checking for unstated dependencies in ‘tests’ ... OK
* checking tests ...
Running ‘spelling.R’
Running ‘testthat.R’
OK
* checking for unstated dependencies in vignettes ... OK
* checking package vignettes ... OK
* checking running R code from vignettes ... SKIPPED
* checking re-building of vignette outputs ... SKIPPED
* checking PDF version of manual ... OK
* DONE
Status: OK
BatchQC.Rcheck/00install.out
############################################################################## ############################################################################## ### ### Running command: ### ### /Library/Frameworks/R.framework/Resources/bin/R CMD INSTALL BatchQC ### ############################################################################## ############################################################################## * installing to library ‘/Library/Frameworks/R.framework/Versions/4.5-x86_64/Resources/library’ * installing *source* package ‘BatchQC’ ... ** this is package ‘BatchQC’ version ‘2.6.0’ ** using staged installation ** R ** data ** inst ** byte-compile and prepare package for lazy loading ** help *** installing help indices ** building package indices ** installing vignettes ** testing if installed package can be loaded from temporary location ** testing if installed package can be loaded from final location ** testing if installed package keeps a record of temporary installation path * DONE (BatchQC)
BatchQC.Rcheck/tests/spelling.Rout
R version 4.5.1 Patched (2025-09-10 r88807) -- "Great Square Root"
Copyright (C) 2025 The R Foundation for Statistical Computing
Platform: x86_64-apple-darwin20
R is free software and comes with ABSOLUTELY NO WARRANTY.
You are welcome to redistribute it under certain conditions.
Type 'license()' or 'licence()' for distribution details.
R is a collaborative project with many contributors.
Type 'contributors()' for more information and
'citation()' on how to cite R or R packages in publications.
Type 'demo()' for some demos, 'help()' for on-line help, or
'help.start()' for an HTML browser interface to help.
Type 'q()' to quit R.
> if (requireNamespace('spelling', quietly = TRUE))
+ spelling::spell_check_test(vignettes = TRUE, error = FALSE,
+ skip_on_cran = TRUE)
All Done!
>
> proc.time()
user system elapsed
0.219 0.088 0.391
BatchQC.Rcheck/tests/testthat.Rout
R version 4.5.1 Patched (2025-09-10 r88807) -- "Great Square Root"
Copyright (C) 2025 The R Foundation for Statistical Computing
Platform: x86_64-apple-darwin20
R is free software and comes with ABSOLUTELY NO WARRANTY.
You are welcome to redistribute it under certain conditions.
Type 'license()' or 'licence()' for distribution details.
R is a collaborative project with many contributors.
Type 'contributors()' for more information and
'citation()' on how to cite R or R packages in publications.
Type 'demo()' for some demos, 'help()' for on-line help, or
'help.start()' for an HTML browser interface to help.
Type 'q()' to quit R.
> library(testthat)
> library(BatchQC)
>
> test_check("BatchQC")
[ FAIL 0 | WARN 0 | SKIP 1 | PASS 0 ]
══ Skipped tests (1) ═══════════════════════════════════════════════════════════
• On CRAN (1): 'test-lintr.R:3:5'
[ FAIL 0 | WARN 0 | SKIP 1 | PASS 0 ]
>
> proc.time()
user system elapsed
13.941 0.834 14.974
BatchQC.Rcheck/BatchQC-Ex.timings
| name | user | system | elapsed | |
| BatchQC | 0.001 | 0.000 | 0.000 | |
| DE_analyze | 21.028 | 0.466 | 21.581 | |
| EV_plotter | 2.220 | 0.056 | 2.285 | |
| EV_table | 1.036 | 0.031 | 1.071 | |
| PCA_plotter | 12.888 | 0.260 | 13.194 | |
| batch_correct | 14.234 | 0.247 | 14.540 | |
| batch_design | 0.631 | 0.027 | 0.660 | |
| batchqc_explained_variation | 1.072 | 0.145 | 1.224 | |
| bisect | 0.004 | 0.000 | 0.004 | |
| bladder_data_upload | 0.270 | 0.029 | 0.302 | |
| color_palette | 0.316 | 0.021 | 0.339 | |
| compute_aic | 42.812 | 0.549 | 43.622 | |
| compute_lambda | 6.429 | 0.055 | 6.520 | |
| confound_metrics | 0.697 | 0.023 | 0.726 | |
| cor_props | 0.613 | 0.024 | 0.641 | |
| covariates_not_confounded | 0.652 | 0.021 | 0.677 | |
| cramers_v | 0.595 | 0.022 | 0.619 | |
| dendrogram_alpha_numeric_check | 0.563 | 0.021 | 0.589 | |
| dendrogram_color_palette | 0.871 | 0.024 | 0.902 | |
| dendrogram_plotter | 2.937 | 0.068 | 3.027 | |
| goodness_of_fit_DESeq2 | 5.045 | 0.069 | 5.147 | |
| heatmap_num_to_char_converter | 0.558 | 0.023 | 0.584 | |
| heatmap_plotter | 1.511 | 0.041 | 1.562 | |
| is_design_balanced | 0.661 | 0.030 | 0.698 | |
| kBET | 3.123 | 0.069 | 3.213 | |
| normalize_SE | 0.894 | 0.036 | 0.937 | |
| plot_kBET | 3.690 | 0.070 | 3.789 | |
| process_dendrogram | 0.866 | 0.054 | 0.925 | |
| pval_plotter | 20.308 | 0.353 | 20.789 | |
| pval_summary | 20.351 | 0.394 | 20.913 | |
| ratio_plotter | 1.402 | 0.046 | 1.464 | |
| run_kBET | 3.531 | 0.071 | 3.644 | |
| run_lambda | 0.594 | 0.023 | 0.625 | |
| std_pearson_corr_coef | 0.666 | 0.036 | 0.708 | |
| summarized_experiment | 0.015 | 0.003 | 0.018 | |
| tb_data_upload | 21.886 | 1.846 | 25.223 | |
| umap | 3.530 | 0.185 | 3.744 | |
| variation_ratios | 1.166 | 0.096 | 1.279 | |
| volcano_plot | 31.080 | 0.609 | 32.051 | |