| Back to Multiple platform build/check report for BioC 3.21: simplified long | 
 | 
This page was generated on 2025-10-16 11:38 -0400 (Thu, 16 Oct 2025).
| Hostname | OS | Arch (*) | R version | Installed pkgs | 
|---|---|---|---|---|
| nebbiolo1 | Linux (Ubuntu 24.04.3 LTS) | x86_64 | 4.5.1 (2025-06-13) -- "Great Square Root" | 4833 | 
| merida1 | macOS 12.7.6 Monterey | x86_64 | 4.5.1 RC (2025-06-05 r88288) -- "Great Square Root" | 4614 | 
| kjohnson1 | macOS 13.7.5 Ventura | arm64 | 4.5.1 Patched (2025-06-14 r88325) -- "Great Square Root" | 4555 | 
| kunpeng2 | Linux (openEuler 24.03 LTS) | aarch64 | R Under development (unstable) (2025-02-19 r87757) -- "Unsuffered Consequences" | 4586 | 
| Click on any hostname to see more info about the system (e.g. compilers) (*) as reported by 'uname -p', except on Windows and Mac OS X | ||||
| Package 59/2341 | Hostname | OS / Arch | INSTALL | BUILD | CHECK | BUILD BIN | ||||||||
| AlpsNMR 4.10.1  (landing page) Sergio Oller Moreno 
 | nebbiolo1 | Linux (Ubuntu 24.04.3 LTS) / x86_64 | OK | OK | OK |  | ||||||||
| merida1 | macOS 12.7.6 Monterey / x86_64 | OK | OK | OK | OK |  | ||||||||
| kjohnson1 | macOS 13.7.5 Ventura / arm64 | OK | OK | OK | OK |  | ||||||||
| kunpeng2 | Linux (openEuler 24.03 LTS) / aarch64 | OK | ERROR | skipped | ||||||||||
| To the developers/maintainers of the AlpsNMR package: - Allow up to 24 hours (and sometimes 48 hours) for your latest push to git@git.bioconductor.org:packages/AlpsNMR.git to reflect on this report. See Troubleshooting Build Report for more information. - Use the following Renviron settings to reproduce errors and warnings. - If 'R CMD check' started to fail recently on the Linux builder(s) over a missing dependency, add the missing dependency to 'Suggests:' in your DESCRIPTION file. See Renviron.bioc for more information. | 
| Package: AlpsNMR | 
| Version: 4.10.1 | 
| Command: /Library/Frameworks/R.framework/Resources/bin/R CMD check --install=check:AlpsNMR.install-out.txt --library=/Library/Frameworks/R.framework/Resources/library --no-vignettes --timings AlpsNMR_4.10.1.tar.gz | 
| StartedAt: 2025-10-13 23:56:54 -0400 (Mon, 13 Oct 2025) | 
| EndedAt: 2025-10-14 00:03:44 -0400 (Tue, 14 Oct 2025) | 
| EllapsedTime: 409.8 seconds | 
| RetCode: 0 | 
| Status: OK | 
| CheckDir: AlpsNMR.Rcheck | 
| Warnings: 0 | 
##############################################################################
##############################################################################
###
### Running command:
###
###   /Library/Frameworks/R.framework/Resources/bin/R CMD check --install=check:AlpsNMR.install-out.txt --library=/Library/Frameworks/R.framework/Resources/library --no-vignettes --timings AlpsNMR_4.10.1.tar.gz
###
##############################################################################
##############################################################################
* using log directory ‘/Users/biocbuild/bbs-3.21-bioc/meat/AlpsNMR.Rcheck’
* using R version 4.5.1 RC (2025-06-05 r88288)
* using platform: x86_64-apple-darwin20
* R was compiled by
    Apple clang version 14.0.0 (clang-1400.0.29.202)
    GNU Fortran (GCC) 14.2.0
* running under: macOS Monterey 12.7.6
* using session charset: UTF-8
* using option ‘--no-vignettes’
* checking for file ‘AlpsNMR/DESCRIPTION’ ... OK
* checking extension type ... Package
* this is package ‘AlpsNMR’ version ‘4.10.1’
* package encoding: UTF-8
* checking package namespace information ... OK
* checking package dependencies ... INFO
Imports includes 26 non-default packages.
Importing from so many packages makes the package vulnerable to any of
them becoming unavailable.  Move as many as possible to Suggests and
use conditionally.
* checking if this is a source package ... OK
* checking if there is a namespace ... OK
* checking for hidden files and directories ... OK
* checking for portable file names ... OK
* checking for sufficient/correct file permissions ... OK
* checking whether package ‘AlpsNMR’ can be installed ... OK
* checking installed package size ... OK
* checking package directory ... OK
* checking ‘build’ directory ... OK
* checking DESCRIPTION meta-information ... OK
* checking top-level files ... OK
* checking for left-over files ... OK
* checking index information ... OK
* checking package subdirectories ... OK
* checking code files for non-ASCII characters ... OK
* checking R files for syntax errors ... OK
* checking whether the package can be loaded ... OK
* checking whether the package can be loaded with stated dependencies ... OK
* checking whether the package can be unloaded cleanly ... OK
* checking whether the namespace can be loaded with stated dependencies ... OK
* checking whether the namespace can be unloaded cleanly ... OK
* checking dependencies in R code ... OK
* checking S3 generic/method consistency ... OK
* checking replacement functions ... OK
* checking foreign function calls ... OK
* checking R code for possible problems ... OK
* checking Rd files ... OK
* checking Rd metadata ... OK
* checking Rd cross-references ... NOTE
Non-topic package-anchored link(s) in Rd file 'reexports.Rd':
  ‘[magrittr:pipe]{%>%}’
See section 'Cross-references' in the 'Writing R Extensions' manual.
Found the following Rd file(s) with Rd \link{} targets missing package
anchors:
  filter.nmr_dataset_family.Rd: dplyr
Please provide package anchors for all Rd \link{} targets not in the
package itself and the base packages.
* checking for missing documentation entries ... OK
* checking for code/documentation mismatches ... OK
* checking Rd \usage sections ... OK
* checking Rd contents ... OK
* checking for unstated dependencies in examples ... OK
* checking contents of ‘data’ directory ... OK
* checking data for non-ASCII characters ... OK
* checking data for ASCII and uncompressed saves ... OK
* checking sizes of PDF files under ‘inst/doc’ ... OK
* checking files in ‘vignettes’ ... OK
* checking examples ... OK
Examples with CPU (user + system) or elapsed time > 5s
                                      user system elapsed
Peak_detection                      22.154  4.828  20.888
nmr_pca_outliers_robust             15.935  1.379  17.933
SummarizedExperiment_to_nmr_data_1r 13.779  1.549  15.259
bp_VIP_analysis                      8.177  6.896   7.662
permutation_test_plot                8.307  3.816   4.363
permutation_test_model               6.045  2.906   4.174
nmr_pca_build_model                  4.376  2.937   4.312
nmr_meta_add                         4.616  2.526   4.489
validate_nmr_dataset                 3.549  2.114   2.736
nmr_read_samples                     3.485  2.103   2.815
nmr_interpolate_1D                   3.493  1.770   2.949
print.nmr_dataset_peak_table         2.177  1.482   7.541
sub-.nmr_dataset                     1.886  1.406   5.091
* checking for unstated dependencies in ‘tests’ ... OK
* checking tests ...
  Running ‘testthat.R’
 OK
* checking for unstated dependencies in vignettes ... OK
* checking package vignettes ... OK
* checking running R code from vignettes ... SKIPPED
* checking re-building of vignette outputs ... SKIPPED
* checking PDF version of manual ... OK
* DONE
Status: 1 NOTE
See
  ‘/Users/biocbuild/bbs-3.21-bioc/meat/AlpsNMR.Rcheck/00check.log’
for details.
AlpsNMR.Rcheck/00install.out
############################################################################## ############################################################################## ### ### Running command: ### ### /Library/Frameworks/R.framework/Resources/bin/R CMD INSTALL AlpsNMR ### ############################################################################## ############################################################################## * installing to library ‘/Library/Frameworks/R.framework/Versions/4.5-x86_64/Resources/library’ * installing *source* package ‘AlpsNMR’ ... ** this is package ‘AlpsNMR’ version ‘4.10.1’ ** using staged installation ** R ** data ** inst ** byte-compile and prepare package for lazy loading ** help *** installing help indices *** copying figures ** building package indices ** installing vignettes ** testing if installed package can be loaded from temporary location ** testing if installed package can be loaded from final location ** testing if installed package keeps a record of temporary installation path * DONE (AlpsNMR)
AlpsNMR.Rcheck/tests/testthat.Rout
R version 4.5.1 RC (2025-06-05 r88288) -- "Great Square Root"
Copyright (C) 2025 The R Foundation for Statistical Computing
Platform: x86_64-apple-darwin20
R is free software and comes with ABSOLUTELY NO WARRANTY.
You are welcome to redistribute it under certain conditions.
Type 'license()' or 'licence()' for distribution details.
R is a collaborative project with many contributors.
Type 'contributors()' for more information and
'citation()' on how to cite R or R packages in publications.
Type 'demo()' for some demos, 'help()' for on-line help, or
'help.start()' for an HTML browser interface to help.
Type 'q()' to quit R.
> library(testthat)
> library(AlpsNMR)
Attaching package: 'AlpsNMR'
The following object is masked from 'package:stats':
    filter
> 
> test_check("AlpsNMR")
[ FAIL 0 | WARN 0 | SKIP 1 | PASS 93 ]
══ Skipped tests (1) ═══════════════════════════════════════════════════════════
• On Bioconductor (1): 'test_rDolphin.R:2:5'
[ FAIL 0 | WARN 0 | SKIP 1 | PASS 93 ]
> 
> proc.time()
   user  system elapsed 
 45.663  14.717  44.580 
AlpsNMR.Rcheck/AlpsNMR-Ex.timings
| name | user | system | elapsed | |
| AlpsNMR-package | 3.352 | 0.847 | 3.054 | |
| HMDB_blood | 0.011 | 0.005 | 0.016 | |
| HMDB_cell | 0.005 | 0.002 | 0.008 | |
| HMDB_urine | 0.009 | 0.005 | 0.014 | |
| Parameters_blood | 0.003 | 0.003 | 0.006 | |
| Parameters_cell | 0.003 | 0.002 | 0.005 | |
| Parameters_urine | 0.004 | 0.003 | 0.007 | |
| Peak_detection | 22.154 | 4.828 | 20.888 | |
| Pipelines | 0.003 | 0.003 | 0.007 | |
| ROI_blood | 0.007 | 0.003 | 0.010 | |
| ROI_cell | 0.007 | 0.003 | 0.010 | |
| ROI_urine | 0.007 | 0.003 | 0.011 | |
| SummarizedExperiment_to_nmr_data_1r | 13.779 | 1.549 | 15.259 | |
| SummarizedExperiment_to_nmr_dataset_peak_table | 2.491 | 1.170 | 2.184 | |
| bp_VIP_analysis | 8.177 | 6.896 | 7.662 | |
| bp_kfold_VIP_analysis | 2.357 | 1.247 | 1.717 | |
| download_MTBLS242 | 0.000 | 0.000 | 0.001 | |
| file_lister | 0.182 | 0.036 | 0.229 | |
| files_to_rDolphin | 0.000 | 0.001 | 0.002 | |
| filter.nmr_dataset_family | 1.703 | 0.685 | 1.333 | |
| format.nmr_dataset | 1.822 | 1.161 | 1.523 | |
| format.nmr_dataset_1D | 1.844 | 1.059 | 1.515 | |
| format.nmr_dataset_peak_table | 2.111 | 1.265 | 1.864 | |
| get_integration_with_metadata | 0.067 | 0.013 | 0.084 | |
| hmdb | 0.113 | 0.016 | 0.141 | |
| is.nmr_dataset | 1.864 | 1.209 | 1.567 | |
| is.nmr_dataset_1D | 1.869 | 1.077 | 1.634 | |
| is.nmr_dataset_peak_table | 2.159 | 1.284 | 1.901 | |
| load_and_save_functions | 1.789 | 1.078 | 1.494 | |
| models_stability_plot_bootstrap | 0.003 | 0.002 | 0.005 | |
| models_stability_plot_plsda | 0.922 | 0.694 | 0.806 | |
| new_nmr_dataset | 0.003 | 0.002 | 0.004 | |
| new_nmr_dataset_1D | 0.002 | 0.001 | 0.003 | |
| new_nmr_dataset_peak_table | 1.897 | 0.899 | 1.577 | |
| nmr_autophase | 0.597 | 0.340 | 0.932 | |
| nmr_baseline_estimation | 0.019 | 0.010 | 0.029 | |
| nmr_baseline_removal | 0.036 | 0.034 | 0.070 | |
| nmr_baseline_threshold | 0.002 | 0.001 | 0.003 | |
| nmr_baseline_threshold_plot | 0.741 | 0.098 | 0.875 | |
| nmr_batman | 0.005 | 0.002 | 0.006 | |
| nmr_batman_options | 0.000 | 0.000 | 0.001 | |
| nmr_build_peak_table | 0.079 | 0.010 | 0.099 | |
| nmr_data | 0.123 | 0.015 | 0.138 | |
| nmr_data_1r_to_SummarizedExperiment | 3.092 | 1.051 | 2.961 | |
| nmr_data_analysis | 0.957 | 0.719 | 0.882 | |
| nmr_dataset | 0.002 | 0.001 | 0.003 | |
| nmr_dataset_1D | 0.002 | 0.001 | 0.004 | |
| nmr_dataset_peak_table_to_SummarizedExperiment | 2.226 | 0.910 | 1.953 | |
| nmr_exclude_region | 0.011 | 0.003 | 0.016 | |
| nmr_export_data_1r | 1.923 | 1.195 | 1.674 | |
| nmr_get_peak_distances | 0.015 | 0.003 | 0.021 | |
| nmr_identify_regions_blood | 0.031 | 0.007 | 0.039 | |
| nmr_identify_regions_cell | 0.024 | 0.004 | 0.031 | |
| nmr_identify_regions_urine | 0.034 | 0.006 | 0.044 | |
| nmr_integrate_regions | 0.014 | 0.003 | 0.018 | |
| nmr_interpolate_1D | 3.493 | 1.770 | 2.949 | |
| nmr_meta_add | 4.616 | 2.526 | 4.489 | |
| nmr_meta_export | 1.546 | 0.683 | 1.173 | |
| nmr_meta_get | 1.891 | 1.177 | 1.898 | |
| nmr_meta_get_column | 1.766 | 0.939 | 1.589 | |
| nmr_meta_groups | 1.852 | 1.166 | 1.619 | |
| nmr_normalize | 0.835 | 0.126 | 1.059 | |
| nmr_pca_build_model | 4.376 | 2.937 | 4.312 | |
| nmr_pca_outliers | 2.149 | 1.272 | 2.011 | |
| nmr_pca_outliers_filter | 2.288 | 1.368 | 2.212 | |
| nmr_pca_outliers_plot | 0.000 | 0.001 | 0.001 | |
| nmr_pca_outliers_robust | 15.935 | 1.379 | 17.933 | |
| nmr_pca_plots | 1.229 | 0.026 | 1.365 | |
| nmr_peak_clustering | 0.157 | 0.002 | 0.167 | |
| nmr_ppm_resolution | 0.014 | 0.004 | 0.021 | |
| nmr_read_bruker_fid | 0.001 | 0.000 | 0.001 | |
| nmr_read_samples | 3.485 | 2.103 | 2.815 | |
| nmr_zip_bruker_samples | 0.321 | 0.064 | 0.396 | |
| peaklist_accept_peaks | 0.008 | 0.003 | 0.012 | |
| permutation_test_model | 6.045 | 2.906 | 4.174 | |
| permutation_test_plot | 8.307 | 3.816 | 4.363 | |
| plot.nmr_dataset_1D | 2.205 | 0.921 | 0.035 | |
| plot_bootstrap_multimodel | 0.004 | 0.011 | 0.015 | |
| plot_interactive | 1.858 | 0.988 | 1.489 | |
| plot_plsda_multimodel | 0.573 | 0.687 | 0.719 | |
| plot_plsda_samples | 0.293 | 0.297 | 0.576 | |
| plot_vip_scores | 0.004 | 0.004 | 0.007 | |
| plot_webgl | 0.003 | 0.003 | 0.005 | |
| plsda_auroc_vip_compare | 1.294 | 0.709 | 2.025 | |
| plsda_auroc_vip_method | 0.000 | 0.000 | 0.001 | |
| ppm_resolution | 0.005 | 0.002 | 0.006 | |
| print.nmr_dataset | 1.977 | 1.375 | 1.596 | |
| print.nmr_dataset_1D | 1.889 | 1.064 | 1.617 | |
| print.nmr_dataset_peak_table | 2.177 | 1.482 | 7.541 | |
| random_subsampling | 0.005 | 0.018 | 0.023 | |
| save_files_to_rDolphin | 0.001 | 0.001 | 0.001 | |
| save_profiling_output | 0.000 | 0.001 | 0.001 | |
| sub-.nmr_dataset | 1.886 | 1.406 | 5.091 | |
| sub-.nmr_dataset_1D | 1.874 | 1.100 | 3.577 | |
| sub-.nmr_dataset_peak_table | 2.192 | 1.435 | 1.920 | |
| tidy.nmr_dataset_1D | 2.211 | 1.432 | 2.030 | |
| to_ASICS | 2.840 | 0.400 | 3.258 | |
| to_ChemoSpec | 2.052 | 0.906 | 1.762 | |
| validate_nmr_dataset | 3.549 | 2.114 | 2.736 | |
| validate_nmr_dataset_family | 1.414 | 0.820 | 1.532 | |
| validate_nmr_dataset_peak_table | 0.002 | 0.002 | 0.004 | |
| zzz | 0.439 | 0.275 | 2.017 | |