| Back to Multiple platform build/check report for BioC 3.22: simplified long |
|
This page was generated on 2025-11-11 12:02 -0500 (Tue, 11 Nov 2025).
| Hostname | OS | Arch (*) | R version | Installed pkgs |
|---|---|---|---|---|
| nebbiolo2 | Linux (Ubuntu 24.04.3 LTS) | x86_64 | 4.5.1 Patched (2025-08-23 r88802) -- "Great Square Root" | 4902 |
| kjohnson3 | macOS 13.7.7 Ventura | arm64 | 4.5.1 Patched (2025-09-10 r88807) -- "Great Square Root" | 4638 |
| Click on any hostname to see more info about the system (e.g. compilers) (*) as reported by 'uname -p', except on Windows and Mac OS X | ||||
| Package 59/2361 | Hostname | OS / Arch | INSTALL | BUILD | CHECK | BUILD BIN | ||||||||
| AlpsNMR 4.12.0 (landing page) Sergio Oller Moreno
| nebbiolo2 | Linux (Ubuntu 24.04.3 LTS) / x86_64 | OK | OK | OK | |||||||||
| kjohnson3 | macOS 13.7.7 Ventura / arm64 | OK | OK | OK | OK | |||||||||
|
To the developers/maintainers of the AlpsNMR package: - Allow up to 24 hours (and sometimes 48 hours) for your latest push to git@git.bioconductor.org:packages/AlpsNMR.git to reflect on this report. See Troubleshooting Build Report for more information. - Use the following Renviron settings to reproduce errors and warnings. - If 'R CMD check' started to fail recently on the Linux builder(s) over a missing dependency, add the missing dependency to 'Suggests:' in your DESCRIPTION file. See Renviron.bioc for more information. |
| Package: AlpsNMR |
| Version: 4.12.0 |
| Command: /home/biocbuild/bbs-3.22-bioc/R/bin/R CMD check --install=check:AlpsNMR.install-out.txt --library=/home/biocbuild/bbs-3.22-bioc/R/site-library --timings AlpsNMR_4.12.0.tar.gz |
| StartedAt: 2025-11-10 21:08:43 -0500 (Mon, 10 Nov 2025) |
| EndedAt: 2025-11-10 21:13:30 -0500 (Mon, 10 Nov 2025) |
| EllapsedTime: 286.3 seconds |
| RetCode: 0 |
| Status: OK |
| CheckDir: AlpsNMR.Rcheck |
| Warnings: 0 |
##############################################################################
##############################################################################
###
### Running command:
###
### /home/biocbuild/bbs-3.22-bioc/R/bin/R CMD check --install=check:AlpsNMR.install-out.txt --library=/home/biocbuild/bbs-3.22-bioc/R/site-library --timings AlpsNMR_4.12.0.tar.gz
###
##############################################################################
##############################################################################
* using log directory ‘/home/biocbuild/bbs-3.22-bioc/meat/AlpsNMR.Rcheck’
* using R version 4.5.1 Patched (2025-08-23 r88802)
* using platform: x86_64-pc-linux-gnu
* R was compiled by
gcc (Ubuntu 13.3.0-6ubuntu2~24.04) 13.3.0
GNU Fortran (Ubuntu 13.3.0-6ubuntu2~24.04) 13.3.0
* running under: Ubuntu 24.04.3 LTS
* using session charset: UTF-8
* checking for file ‘AlpsNMR/DESCRIPTION’ ... OK
* checking extension type ... Package
* this is package ‘AlpsNMR’ version ‘4.12.0’
* package encoding: UTF-8
* checking package namespace information ... OK
* checking package dependencies ... INFO
Imports includes 26 non-default packages.
Importing from so many packages makes the package vulnerable to any of
them becoming unavailable. Move as many as possible to Suggests and
use conditionally.
* checking if this is a source package ... OK
* checking if there is a namespace ... OK
* checking for hidden files and directories ... OK
* checking for portable file names ... OK
* checking for sufficient/correct file permissions ... OK
* checking whether package ‘AlpsNMR’ can be installed ... OK
* checking installed package size ... OK
* checking package directory ... OK
* checking ‘build’ directory ... OK
* checking DESCRIPTION meta-information ... OK
* checking top-level files ... OK
* checking for left-over files ... OK
* checking index information ... OK
* checking package subdirectories ... OK
* checking code files for non-ASCII characters ... OK
* checking R files for syntax errors ... OK
* checking whether the package can be loaded ... OK
* checking whether the package can be loaded with stated dependencies ... OK
* checking whether the package can be unloaded cleanly ... OK
* checking whether the namespace can be loaded with stated dependencies ... OK
* checking whether the namespace can be unloaded cleanly ... OK
* checking loading without being on the library search path ... OK
* checking dependencies in R code ... OK
* checking S3 generic/method consistency ... OK
* checking replacement functions ... OK
* checking foreign function calls ... OK
* checking R code for possible problems ... OK
* checking Rd files ... OK
* checking Rd metadata ... OK
* checking Rd cross-references ... NOTE
Non-topic package-anchored link(s) in Rd file 'reexports.Rd':
‘[magrittr:pipe]{%>%}’
See section 'Cross-references' in the 'Writing R Extensions' manual.
Found the following Rd file(s) with Rd \link{} targets missing package
anchors:
filter.nmr_dataset_family.Rd: dplyr
Please provide package anchors for all Rd \link{} targets not in the
package itself and the base packages.
* checking for missing documentation entries ... OK
* checking for code/documentation mismatches ... OK
* checking Rd \usage sections ... OK
* checking Rd contents ... OK
* checking for unstated dependencies in examples ... OK
* checking contents of ‘data’ directory ... OK
* checking data for non-ASCII characters ... OK
* checking data for ASCII and uncompressed saves ... OK
* checking files in ‘vignettes’ ... OK
* checking examples ... OK
Examples with CPU (user + system) or elapsed time > 5s
user system elapsed
Peak_detection 7.585 1.745 6.843
SummarizedExperiment_to_nmr_data_1r 6.817 1.042 7.210
nmr_pca_outliers_robust 5.676 1.146 5.954
bp_VIP_analysis 3.170 1.881 3.372
permutation_test_plot 3.256 1.774 1.665
* checking for unstated dependencies in ‘tests’ ... OK
* checking tests ...
Running ‘testthat.R’
OK
* checking for unstated dependencies in vignettes ... OK
* checking package vignettes ... OK
* checking re-building of vignette outputs ... OK
* checking PDF version of manual ... OK
* DONE
Status: 1 NOTE
See
‘/home/biocbuild/bbs-3.22-bioc/meat/AlpsNMR.Rcheck/00check.log’
for details.
AlpsNMR.Rcheck/00install.out
############################################################################## ############################################################################## ### ### Running command: ### ### /home/biocbuild/bbs-3.22-bioc/R/bin/R CMD INSTALL AlpsNMR ### ############################################################################## ############################################################################## * installing to library ‘/home/biocbuild/bbs-3.22-bioc/R/site-library’ * installing *source* package ‘AlpsNMR’ ... ** this is package ‘AlpsNMR’ version ‘4.12.0’ ** using staged installation ** R ** data ** inst ** byte-compile and prepare package for lazy loading ** help *** installing help indices *** copying figures ** building package indices ** installing vignettes ** testing if installed package can be loaded from temporary location ** testing if installed package can be loaded from final location ** testing if installed package keeps a record of temporary installation path * DONE (AlpsNMR)
AlpsNMR.Rcheck/tests/testthat.Rout
R version 4.5.1 Patched (2025-08-23 r88802) -- "Great Square Root"
Copyright (C) 2025 The R Foundation for Statistical Computing
Platform: x86_64-pc-linux-gnu
R is free software and comes with ABSOLUTELY NO WARRANTY.
You are welcome to redistribute it under certain conditions.
Type 'license()' or 'licence()' for distribution details.
R is a collaborative project with many contributors.
Type 'contributors()' for more information and
'citation()' on how to cite R or R packages in publications.
Type 'demo()' for some demos, 'help()' for on-line help, or
'help.start()' for an HTML browser interface to help.
Type 'q()' to quit R.
> library(testthat)
> library(AlpsNMR)
Attaching package: 'AlpsNMR'
The following object is masked from 'package:stats':
filter
>
> test_check("AlpsNMR")
[ FAIL 0 | WARN 0 | SKIP 1 | PASS 93 ]
══ Skipped tests (1) ═══════════════════════════════════════════════════════════
• On Bioconductor (1): 'test_rDolphin.R:2:5'
[ FAIL 0 | WARN 0 | SKIP 1 | PASS 93 ]
>
> proc.time()
user system elapsed
20.610 6.869 19.834
AlpsNMR.Rcheck/AlpsNMR-Ex.timings
| name | user | system | elapsed | |
| AlpsNMR-package | 1.999 | 0.387 | 1.868 | |
| HMDB_blood | 0.005 | 0.000 | 0.006 | |
| HMDB_cell | 0.002 | 0.000 | 0.002 | |
| HMDB_urine | 0.004 | 0.000 | 0.004 | |
| Parameters_blood | 0.002 | 0.000 | 0.001 | |
| Parameters_cell | 0.002 | 0.000 | 0.002 | |
| Parameters_urine | 0.001 | 0.000 | 0.002 | |
| Peak_detection | 7.585 | 1.745 | 6.843 | |
| Pipelines | 0.001 | 0.000 | 0.001 | |
| ROI_blood | 0.002 | 0.001 | 0.003 | |
| ROI_cell | 0.003 | 0.000 | 0.003 | |
| ROI_urine | 0.005 | 0.004 | 0.009 | |
| SummarizedExperiment_to_nmr_data_1r | 6.817 | 1.042 | 7.210 | |
| SummarizedExperiment_to_nmr_dataset_peak_table | 1.038 | 0.587 | 0.919 | |
| bp_VIP_analysis | 3.170 | 1.881 | 3.372 | |
| bp_kfold_VIP_analysis | 0.840 | 0.617 | 0.623 | |
| download_MTBLS242 | 0 | 0 | 0 | |
| file_lister | 0.061 | 0.013 | 0.074 | |
| files_to_rDolphin | 0 | 0 | 0 | |
| filter.nmr_dataset_family | 0.709 | 0.399 | 0.552 | |
| format.nmr_dataset | 0.719 | 0.507 | 0.521 | |
| format.nmr_dataset_1D | 0.711 | 0.547 | 0.586 | |
| format.nmr_dataset_peak_table | 0.878 | 0.721 | 0.742 | |
| get_integration_with_metadata | 0.030 | 0.006 | 0.036 | |
| hmdb | 0.046 | 0.015 | 0.061 | |
| is.nmr_dataset | 0.714 | 0.625 | 0.591 | |
| is.nmr_dataset_1D | 0.794 | 0.528 | 0.628 | |
| is.nmr_dataset_peak_table | 0.896 | 0.645 | 0.761 | |
| load_and_save_functions | 0.695 | 0.606 | 0.576 | |
| models_stability_plot_bootstrap | 0.001 | 0.001 | 0.002 | |
| models_stability_plot_plsda | 0.334 | 0.372 | 0.367 | |
| new_nmr_dataset | 0.001 | 0.000 | 0.002 | |
| new_nmr_dataset_1D | 0.025 | 0.033 | 0.001 | |
| new_nmr_dataset_peak_table | 0.832 | 0.582 | 0.696 | |
| nmr_autophase | 0.224 | 0.158 | 0.359 | |
| nmr_baseline_estimation | 0.009 | 0.002 | 0.011 | |
| nmr_baseline_removal | 0.003 | 0.002 | 0.006 | |
| nmr_baseline_threshold | 0.002 | 0.000 | 0.001 | |
| nmr_baseline_threshold_plot | 0.283 | 0.075 | 0.358 | |
| nmr_batman | 0.003 | 0.000 | 0.003 | |
| nmr_batman_options | 0.000 | 0.001 | 0.000 | |
| nmr_build_peak_table | 0.037 | 0.002 | 0.040 | |
| nmr_data | 0.053 | 0.005 | 0.059 | |
| nmr_data_1r_to_SummarizedExperiment | 1.056 | 0.632 | 0.940 | |
| nmr_data_analysis | 0.408 | 0.504 | 0.423 | |
| nmr_dataset | 0.000 | 0.001 | 0.001 | |
| nmr_dataset_1D | 0.000 | 0.001 | 0.001 | |
| nmr_dataset_peak_table_to_SummarizedExperiment | 0.968 | 0.743 | 0.918 | |
| nmr_exclude_region | 0.006 | 0.001 | 0.007 | |
| nmr_export_data_1r | 0.825 | 0.671 | 0.686 | |
| nmr_get_peak_distances | 0.009 | 0.001 | 0.010 | |
| nmr_identify_regions_blood | 0.015 | 0.002 | 0.017 | |
| nmr_identify_regions_cell | 0.011 | 0.000 | 0.010 | |
| nmr_identify_regions_urine | 0.012 | 0.004 | 0.016 | |
| nmr_integrate_regions | 0.007 | 0.001 | 0.008 | |
| nmr_interpolate_1D | 1.594 | 1.421 | 1.435 | |
| nmr_meta_add | 1.951 | 1.342 | 1.677 | |
| nmr_meta_export | 0.763 | 0.638 | 0.627 | |
| nmr_meta_get | 0.724 | 0.539 | 0.557 | |
| nmr_meta_get_column | 0.645 | 0.491 | 0.510 | |
| nmr_meta_groups | 0.814 | 0.706 | 0.653 | |
| nmr_normalize | 0.314 | 0.037 | 0.350 | |
| nmr_pca_build_model | 2.568 | 1.653 | 2.587 | |
| nmr_pca_outliers | 0.864 | 0.691 | 0.743 | |
| nmr_pca_outliers_filter | 0.919 | 0.595 | 0.731 | |
| nmr_pca_outliers_plot | 0 | 0 | 0 | |
| nmr_pca_outliers_robust | 5.676 | 1.146 | 5.954 | |
| nmr_pca_plots | 0.524 | 0.013 | 0.537 | |
| nmr_peak_clustering | 0.075 | 0.000 | 0.075 | |
| nmr_ppm_resolution | 0.007 | 0.001 | 0.008 | |
| nmr_read_bruker_fid | 0.000 | 0.000 | 0.001 | |
| nmr_read_samples | 1.392 | 1.212 | 1.139 | |
| nmr_zip_bruker_samples | 0.266 | 0.009 | 0.276 | |
| peaklist_accept_peaks | 0.004 | 0.000 | 0.004 | |
| permutation_test_model | 0.646 | 0.759 | 1.602 | |
| permutation_test_plot | 3.256 | 1.774 | 1.665 | |
| plot.nmr_dataset_1D | 0.003 | 0.000 | 0.003 | |
| plot_bootstrap_multimodel | 0.002 | 0.001 | 0.002 | |
| plot_interactive | 3.219 | 1.756 | 0.655 | |
| plot_plsda_multimodel | 0.199 | 0.422 | 0.326 | |
| plot_plsda_samples | 0.116 | 0.132 | 0.196 | |
| plot_vip_scores | 0.001 | 0.000 | 0.001 | |
| plot_webgl | 0.001 | 0.000 | 0.001 | |
| plsda_auroc_vip_compare | 0.533 | 0.407 | 0.764 | |
| plsda_auroc_vip_method | 0 | 0 | 0 | |
| ppm_resolution | 0.004 | 0.000 | 0.003 | |
| print.nmr_dataset | 0.680 | 0.570 | 0.548 | |
| print.nmr_dataset_1D | 0.730 | 0.604 | 0.648 | |
| print.nmr_dataset_peak_table | 0.792 | 0.574 | 0.682 | |
| random_subsampling | 0.001 | 0.000 | 0.001 | |
| save_files_to_rDolphin | 0 | 0 | 0 | |
| save_profiling_output | 0 | 0 | 0 | |
| sub-.nmr_dataset | 0.648 | 0.525 | 0.492 | |
| sub-.nmr_dataset_1D | 0.736 | 0.619 | 0.606 | |
| sub-.nmr_dataset_peak_table | 0.770 | 0.500 | 0.618 | |
| tidy.nmr_dataset_1D | 1.037 | 0.760 | 0.858 | |
| to_ASICS | 0.949 | 0.245 | 1.195 | |
| to_ChemoSpec | 0.872 | 0.732 | 0.875 | |
| validate_nmr_dataset | 1.384 | 1.256 | 1.167 | |
| validate_nmr_dataset_family | 0.780 | 0.748 | 0.703 | |
| validate_nmr_dataset_peak_table | 0.001 | 0.000 | 0.001 | |
| zzz | 0.000 | 0.000 | 2.002 | |