| Back to Build/check report for BioC 3.22 experimental data | 
 | 
This page was generated on 2025-10-28 15:41 -0400 (Tue, 28 Oct 2025).
| Hostname | OS | Arch (*) | R version | Installed pkgs | 
|---|---|---|---|---|
| nebbiolo2 | Linux (Ubuntu 24.04.3 LTS) | x86_64 | 4.5.1 Patched (2025-08-23 r88802) -- "Great Square Root" | 4901 | 
| Click on any hostname to see more info about the system (e.g. compilers) (*) as reported by 'uname -p', except on Windows and Mac OS X | ||||
| Package 32/435 | Hostname | OS / Arch | INSTALL | BUILD | CHECK | ||||||||
| BloodCancerMultiOmics2017 1.29.0  (landing page) Małgorzata Oleś 
 | nebbiolo2 | Linux (Ubuntu 24.04.3 LTS) / x86_64 | OK | OK | WARNINGS |  | |||||||
| To the developers/maintainers of the BloodCancerMultiOmics2017 package: - Use the following Renviron settings to reproduce errors and warnings. - If 'R CMD check' started to fail recently on the Linux builder(s) over a missing dependency, add the missing dependency to 'Suggests:' in your DESCRIPTION file. See Renviron.bioc for more information. | 
| Package: BloodCancerMultiOmics2017 | 
| Version: 1.29.0 | 
| Command: /home/biocbuild/bbs-3.22-bioc/R/bin/R CMD check --install=check:BloodCancerMultiOmics2017.install-out.txt --library=/home/biocbuild/bbs-3.22-bioc/R/site-library --timings BloodCancerMultiOmics2017_1.29.0.tar.gz | 
| StartedAt: 2025-10-28 12:01:33 -0400 (Tue, 28 Oct 2025) | 
| EndedAt: 2025-10-28 12:35:13 -0400 (Tue, 28 Oct 2025) | 
| EllapsedTime: 2020.0 seconds | 
| RetCode: 0 | 
| Status: WARNINGS | 
| CheckDir: BloodCancerMultiOmics2017.Rcheck | 
| Warnings: 1 | 
##############################################################################
##############################################################################
###
### Running command:
###
###   /home/biocbuild/bbs-3.22-bioc/R/bin/R CMD check --install=check:BloodCancerMultiOmics2017.install-out.txt --library=/home/biocbuild/bbs-3.22-bioc/R/site-library --timings BloodCancerMultiOmics2017_1.29.0.tar.gz
###
##############################################################################
##############################################################################
* using log directory ‘/home/biocbuild/bbs-3.22-data-experiment/meat/BloodCancerMultiOmics2017.Rcheck’
* using R version 4.5.1 Patched (2025-08-23 r88802)
* using platform: x86_64-pc-linux-gnu
* R was compiled by
    gcc (Ubuntu 13.3.0-6ubuntu2~24.04) 13.3.0
    GNU Fortran (Ubuntu 13.3.0-6ubuntu2~24.04) 13.3.0
* running under: Ubuntu 24.04.3 LTS
* using session charset: UTF-8
* checking for file ‘BloodCancerMultiOmics2017/DESCRIPTION’ ... OK
* checking extension type ... Package
* this is package ‘BloodCancerMultiOmics2017’ version ‘1.29.0’
* package encoding: UTF-8
* checking package namespace information ... OK
* checking package dependencies ... OK
* checking if this is a source package ... OK
* checking if there is a namespace ... OK
* checking for hidden files and directories ... OK
* checking for portable file names ... OK
* checking for sufficient/correct file permissions ... OK
* checking whether package ‘BloodCancerMultiOmics2017’ can be installed ... OK
* checking installed package size ... INFO
  installed size is 73.3Mb
  sub-directories of 1Mb or more:
    data     65.4Mb
    extdata   7.7Mb
* checking package directory ... OK
* checking ‘build’ directory ... OK
* checking DESCRIPTION meta-information ... OK
* checking top-level files ... OK
* checking for left-over files ... OK
* checking index information ... OK
* checking package subdirectories ... OK
* checking code files for non-ASCII characters ... OK
* checking R files for syntax errors ... OK
* checking whether the package can be loaded ... OK
* checking whether the package can be loaded with stated dependencies ... OK
* checking whether the package can be unloaded cleanly ... OK
* checking whether the namespace can be loaded with stated dependencies ... OK
* checking whether the namespace can be unloaded cleanly ... OK
* checking loading without being on the library search path ... OK
* checking dependencies in R code ... OK
* checking S3 generic/method consistency ... OK
* checking replacement functions ... OK
* checking foreign function calls ... OK
* checking R code for possible problems ... NOTE
survplot: no visible binding for global variable ‘s’
survplot: no visible binding for global variable ‘cox’
Undefined global functions or variables:
  cox s
* checking Rd files ... OK
* checking Rd metadata ... OK
* checking Rd cross-references ... NOTE
Found the following Rd file(s) with Rd \link{} targets missing package
anchors:
  addNrisk.Rd: survfit
  data-day23rep.Rd: NChannelSet-class
  data-dds.Rd: DESeqDataSet-class
  data-drpar.Rd: NChannelSet-class
  data-exprTreat.Rd: ExpressionSet-class
  data-lpdAll.Rd: ExpressionSet-class
  data-methData.Rd: RangedSummarizedExperiment-class
  data-mutCOM.Rd: NChannelSet-class
Please provide package anchors for all Rd \link{} targets not in the
package itself and the base packages.
* checking for missing documentation entries ... OK
* checking for code/documentation mismatches ... OK
* checking Rd \usage sections ... OK
* checking Rd contents ... OK
* checking for unstated dependencies in examples ... OK
* checking contents of ‘data’ directory ... OK
* checking data for non-ASCII characters ... OK
* checking LazyData ... WARNING
  LazyData DB of 65.4 MB without LazyDataCompression set
  See §1.1.6 of 'Writing R Extensions'
* checking data for ASCII and uncompressed saves ... OK
* checking files in ‘vignettes’ ... OK
* checking examples ... OK
* checking for unstated dependencies in vignettes ... OK
* checking package vignettes ... OK
* checking re-building of vignette outputs ... OK
* checking PDF version of manual ... OK
* DONE
Status: 1 WARNING, 2 NOTEs
See
  ‘/home/biocbuild/bbs-3.22-data-experiment/meat/BloodCancerMultiOmics2017.Rcheck/00check.log’
for details.
BloodCancerMultiOmics2017.Rcheck/00install.out
############################################################################## ############################################################################## ### ### Running command: ### ### /home/biocbuild/bbs-3.22-bioc/R/bin/R CMD INSTALL BloodCancerMultiOmics2017 ### ############################################################################## ############################################################################## * installing to library ‘/home/biocbuild/bbs-3.22-bioc/R/site-library’ * installing *source* package ‘BloodCancerMultiOmics2017’ ... ** this is package ‘BloodCancerMultiOmics2017’ version ‘1.29.0’ ** using staged installation ** R ** data *** moving datasets to lazyload DB ** inst ** byte-compile and prepare package for lazy loading ** help *** installing help indices ** building package indices ** installing vignettes ** testing if installed package can be loaded from temporary location ** testing if installed package can be loaded from final location ** testing if installed package keeps a record of temporary installation path * DONE (BloodCancerMultiOmics2017)
BloodCancerMultiOmics2017.Rcheck/BloodCancerMultiOmics2017-Ex.timings
| name | user | system | elapsed | |
| addNrisk | 0.050 | 0.022 | 0.072 | |
| col2hex | 0.001 | 0.000 | 0.000 | |
| deckel | 0.000 | 0.000 | 0.001 | |
| exp10div | 0 | 0 | 0 | |
| giveDrugLabel | 0.003 | 0.001 | 0.003 | |
| log10div | 0.000 | 0.000 | 0.001 | |
| meltWholeDF | 0.003 | 0.002 | 0.005 | |
| moround | 0 | 0 | 0 | |
| nrisk | 0.018 | 0.002 | 0.019 | |
| percentAxisScale | 0 | 0 | 0 | |
| pheatmapwh | 0.737 | 0.101 | 0.839 | |
| safeMatch | 0.001 | 0.000 | 0.001 | |
| scientific_10 | 0 | 0 | 0 | |
| smunlist | 0 | 0 | 0 | |
| stripConc | 0.001 | 0.000 | 0.001 | |
| survplot | 0.075 | 0.000 | 0.074 | |
| toCaps | 0 | 0 | 0 | |
| whichInGrob | 0.266 | 0.005 | 0.270 | |