| Back to Build/check report for BioC 3.22 experimental data | 
 | 
This page was generated on 2025-10-28 15:41 -0400 (Tue, 28 Oct 2025).
| Hostname | OS | Arch (*) | R version | Installed pkgs | 
|---|---|---|---|---|
| nebbiolo2 | Linux (Ubuntu 24.04.3 LTS) | x86_64 | 4.5.1 Patched (2025-08-23 r88802) -- "Great Square Root" | 4901 | 
| Click on any hostname to see more info about the system (e.g. compilers) (*) as reported by 'uname -p', except on Windows and Mac OS X | ||||
| Package 32/435 | Hostname | OS / Arch | INSTALL | BUILD | CHECK | ||||||||
| BloodCancerMultiOmics2017 1.29.0  (landing page) Małgorzata Oleś 
 | nebbiolo2 | Linux (Ubuntu 24.04.3 LTS) / x86_64 | OK | OK | WARNINGS |  | |||||||
| To the developers/maintainers of the BloodCancerMultiOmics2017 package: - Use the following Renviron settings to reproduce errors and warnings. - If 'R CMD check' started to fail recently on the Linux builder(s) over a missing dependency, add the missing dependency to 'Suggests:' in your DESCRIPTION file. See Renviron.bioc for more information. | 
| Package: BloodCancerMultiOmics2017 | 
| Version: 1.29.0 | 
| Command: /home/biocbuild/bbs-3.22-bioc/R/bin/R CMD build --keep-empty-dirs --no-resave-data BloodCancerMultiOmics2017 | 
| StartedAt: 2025-10-28 11:06:59 -0400 (Tue, 28 Oct 2025) | 
| EndedAt: 2025-10-28 11:38:05 -0400 (Tue, 28 Oct 2025) | 
| EllapsedTime: 1866.0 seconds | 
| RetCode: 0 | 
| Status: OK | 
| PackageFile: BloodCancerMultiOmics2017_1.29.0.tar.gz | 
| PackageFileSize: 53.69 MiB | 
############################################################################## ############################################################################## ### ### Running command: ### ### /home/biocbuild/bbs-3.22-bioc/R/bin/R CMD build --keep-empty-dirs --no-resave-data BloodCancerMultiOmics2017 ### ############################################################################## ############################################################################## * checking for file ‘BloodCancerMultiOmics2017/DESCRIPTION’ ... OK * preparing ‘BloodCancerMultiOmics2017’: * checking DESCRIPTION meta-information ... OK * installing the package to build vignettes * creating vignettes ... OK * checking for LF line-endings in source and make files and shell scripts * checking for empty or unneeded directories * building ‘BloodCancerMultiOmics2017_1.29.0.tar.gz’