| Back to Multiple platform build/check report for BioC 3.23: simplified long |
|
This page was generated on 2025-11-21 11:39 -0500 (Fri, 21 Nov 2025).
| Hostname | OS | Arch (*) | R version | Installed pkgs |
|---|---|---|---|---|
| nebbiolo1 | Linux (Ubuntu 24.04.3 LTS) | x86_64 | R Under development (unstable) (2025-10-20 r88955) -- "Unsuffered Consequences" | 4829 |
| lconway | macOS 12.7.6 Monterey | x86_64 | R Under development (unstable) (2025-10-21 r88958) -- "Unsuffered Consequences" | 4602 |
| kjohnson3 | macOS 13.7.7 Ventura | arm64 | R Under development (unstable) (2025-11-04 r88984) -- "Unsuffered Consequences" | 4566 |
| Click on any hostname to see more info about the system (e.g. compilers) (*) as reported by 'uname -p', except on Windows and Mac OS X | ||||
| Package 2249/2327 | Hostname | OS / Arch | INSTALL | BUILD | CHECK | BUILD BIN | ||||||||
| twoddpcr 1.35.0 (landing page) Anthony Chiu
| nebbiolo1 | Linux (Ubuntu 24.04.3 LTS) / x86_64 | OK | OK | OK | |||||||||
| lconway | macOS 12.7.6 Monterey / x86_64 | OK | OK | OK | OK | |||||||||
| kjohnson3 | macOS 13.7.7 Ventura / arm64 | OK | OK | OK | OK | |||||||||
|
To the developers/maintainers of the twoddpcr package: - Allow up to 24 hours (and sometimes 48 hours) for your latest push to git@git.bioconductor.org:packages/twoddpcr.git to reflect on this report. See Troubleshooting Build Report for more information. - Use the following Renviron settings to reproduce errors and warnings. - If 'R CMD check' started to fail recently on the Linux builder(s) over a missing dependency, add the missing dependency to 'Suggests:' in your DESCRIPTION file. See Renviron.bioc for more information. |
| Package: twoddpcr |
| Version: 1.35.0 |
| Command: /Library/Frameworks/R.framework/Resources/bin/R CMD check --install=check:twoddpcr.install-out.txt --library=/Library/Frameworks/R.framework/Resources/library --no-vignettes --timings twoddpcr_1.35.0.tar.gz |
| StartedAt: 2025-11-21 00:53:33 -0500 (Fri, 21 Nov 2025) |
| EndedAt: 2025-11-21 00:56:04 -0500 (Fri, 21 Nov 2025) |
| EllapsedTime: 150.9 seconds |
| RetCode: 0 |
| Status: OK |
| CheckDir: twoddpcr.Rcheck |
| Warnings: 0 |
##############################################################################
##############################################################################
###
### Running command:
###
### /Library/Frameworks/R.framework/Resources/bin/R CMD check --install=check:twoddpcr.install-out.txt --library=/Library/Frameworks/R.framework/Resources/library --no-vignettes --timings twoddpcr_1.35.0.tar.gz
###
##############################################################################
##############################################################################
* using log directory ‘/Users/biocbuild/bbs-3.23-bioc/meat/twoddpcr.Rcheck’
* using R Under development (unstable) (2025-10-21 r88958)
* using platform: x86_64-apple-darwin20
* R was compiled by
Apple clang version 14.0.0 (clang-1400.0.29.202)
GNU Fortran (GCC) 14.2.0
* running under: macOS Ventura 13.7.8
* using session charset: UTF-8
* using option ‘--no-vignettes’
* checking for file ‘twoddpcr/DESCRIPTION’ ... OK
* this is package ‘twoddpcr’ version ‘1.35.0’
* checking package namespace information ... OK
* checking package dependencies ... OK
* checking if this is a source package ... OK
* checking if there is a namespace ... OK
* checking for hidden files and directories ... OK
* checking for portable file names ... OK
* checking for sufficient/correct file permissions ... OK
* checking whether package ‘twoddpcr’ can be installed ... OK
* checking installed package size ... OK
* checking package directory ... OK
* checking ‘build’ directory ... OK
* checking DESCRIPTION meta-information ... OK
* checking top-level files ... OK
* checking for left-over files ... OK
* checking index information ... OK
* checking package subdirectories ... OK
* checking code files for non-ASCII characters ... OK
* checking R files for syntax errors ... OK
* checking whether the package can be loaded ... OK
* checking whether the package can be loaded with stated dependencies ... OK
* checking whether the package can be unloaded cleanly ... OK
* checking whether the namespace can be loaded with stated dependencies ... OK
* checking whether the namespace can be unloaded cleanly ... OK
* checking dependencies in R code ... OK
* checking S3 generic/method consistency ... OK
* checking replacement functions ... OK
* checking foreign function calls ... OK
* checking R code for possible problems ... OK
* checking Rd files ... OK
* checking Rd metadata ... OK
* checking Rd cross-references ... OK
* checking for missing documentation entries ... OK
* checking for code/documentation mismatches ... OK
* checking Rd \usage sections ... NOTE
S3 methods shown with full name in Rd file 'ggplot.well.Rd':
‘ggplot.well’ ‘ggplot.plate’
The \usage entries for S3 methods should use the \method markup and not
their full name.
See chapter ‘Writing R documentation files’ in the ‘Writing R
Extensions’ manual.
* checking Rd contents ... OK
* checking for unstated dependencies in examples ... OK
* checking contents of ‘data’ directory ... OK
* checking data for non-ASCII characters ... OK
* checking LazyData ... OK
* checking data for ASCII and uncompressed saves ... OK
* checking files in ‘vignettes’ ... OK
* checking examples ... OK
Examples with CPU (user + system) or elapsed time > 5s
user system elapsed
knnClassify 8.575 0.180 8.836
ggplot.well 6.136 0.238 6.417
gridClassify 5.067 0.126 5.228
* checking for unstated dependencies in ‘tests’ ... OK
* checking tests ...
Running ‘testthat.R’
OK
* checking for unstated dependencies in vignettes ... OK
* checking package vignettes ... OK
* checking running R code from vignettes ... SKIPPED
* checking re-building of vignette outputs ... SKIPPED
* checking PDF version of manual ... OK
* DONE
Status: 1 NOTE
See
‘/Users/biocbuild/bbs-3.23-bioc/meat/twoddpcr.Rcheck/00check.log’
for details.
twoddpcr.Rcheck/00install.out
############################################################################## ############################################################################## ### ### Running command: ### ### /Library/Frameworks/R.framework/Resources/bin/R CMD INSTALL twoddpcr ### ############################################################################## ############################################################################## * installing to library ‘/Library/Frameworks/R.framework/Versions/4.6-x86_64/Resources/library’ * installing *source* package ‘twoddpcr’ ... ** this is package ‘twoddpcr’ version ‘1.35.0’ ** using staged installation ** R ** data *** moving datasets to lazyload DB ** inst ** byte-compile and prepare package for lazy loading ** help *** installing help indices ** building package indices ** installing vignettes ** testing if installed package can be loaded from temporary location ** testing if installed package can be loaded from final location ** testing if installed package keeps a record of temporary installation path * DONE (twoddpcr)
twoddpcr.Rcheck/tests/testthat.Rout
R Under development (unstable) (2025-10-21 r88958) -- "Unsuffered Consequences"
Copyright (C) 2025 The R Foundation for Statistical Computing
Platform: x86_64-apple-darwin20
R is free software and comes with ABSOLUTELY NO WARRANTY.
You are welcome to redistribute it under certain conditions.
Type 'license()' or 'licence()' for distribution details.
R is a collaborative project with many contributors.
Type 'contributors()' for more information and
'citation()' on how to cite R or R packages in publications.
Type 'demo()' for some demos, 'help()' for on-line help, or
'help.start()' for an HTML browser interface to help.
Type 'q()' to quit R.
> library(testthat)
> library(twoddpcr)
>
> test_check("twoddpcr")
[ FAIL 0 | WARN 2 | SKIP 0 | PASS 155 ]
[ FAIL 0 | WARN 2 | SKIP 0 | PASS 155 ]
>
> proc.time()
user system elapsed
7.811 0.609 8.540
twoddpcr.Rcheck/twoddpcr-Ex.timings
| name | user | system | elapsed | |
| amplitudes | 0.265 | 0.023 | 0.289 | |
| basicsSummary | 0.006 | 0.001 | 0.007 | |
| castSummary | 0.016 | 0.004 | 0.021 | |
| classCov | 0.064 | 0.010 | 0.074 | |
| classMeans | 0.073 | 0.012 | 0.086 | |
| classStats | 0.068 | 0.008 | 0.075 | |
| clusterCentres | 0.769 | 0.063 | 0.837 | |
| copiesSummary | 0.006 | 0.001 | 0.007 | |
| ddpcrPlate-class | 0.261 | 0.011 | 0.275 | |
| ddpcrWell-class | 0.021 | 0.001 | 0.023 | |
| ddpcrWell-methods | 0.238 | 0.010 | 0.249 | |
| dropletPlot | 4.716 | 0.176 | 4.921 | |
| exportTable | 0.371 | 0.024 | 0.413 | |
| extractPlateName | 0.001 | 0.000 | 0.001 | |
| extractWellNames | 0.001 | 0.000 | 0.000 | |
| facetPlot | 2.241 | 0.095 | 2.345 | |
| flatPlot | 3.816 | 0.203 | 4.061 | |
| fullCopiesSummary | 0.006 | 0.001 | 0.007 | |
| fullCountsSummary | 0.028 | 0.005 | 0.034 | |
| ggplot.well | 6.136 | 0.238 | 6.417 | |
| gridClassify | 5.067 | 0.126 | 5.228 | |
| heatPlot | 1.743 | 0.074 | 1.834 | |
| kmeansClassify | 1.017 | 0.066 | 1.099 | |
| knnClassify | 8.575 | 0.180 | 8.836 | |
| mahalanobisRain | 0.673 | 0.066 | 0.747 | |
| mutantCopiesSummary | 0.004 | 0.001 | 0.005 | |
| numDroplets | 0.206 | 0.002 | 0.209 | |
| parseClusterCounts | 0.012 | 0.003 | 0.014 | |
| plateClassification | 0.961 | 0.047 | 1.014 | |
| plateClassificationMethod | 0.366 | 0.011 | 0.380 | |
| plateSummary | 1.559 | 0.025 | 1.597 | |
| positiveCounts | 0.028 | 0.001 | 0.029 | |
| readCSVDataFrame | 0.012 | 0.005 | 0.018 | |
| relabelClasses | 0.051 | 0.001 | 0.053 | |
| removeDropletClasses | 0.631 | 0.033 | 0.668 | |
| renormalisePlate | 3.432 | 0.172 | 3.641 | |
| sdRain | 2.425 | 0.035 | 2.479 | |
| setChannelNames | 0.002 | 0.001 | 0.003 | |
| setDropletVolume | 0.001 | 0.001 | 0.000 | |
| sortDataFrame | 0.002 | 0.002 | 0.003 | |
| sortWells | 0.258 | 0.013 | 0.274 | |
| thresholdClassify | 1.480 | 0.067 | 1.566 | |
| wellClassification | 0.021 | 0.002 | 0.023 | |
| wellClassificationMethod | 0.017 | 0.001 | 0.018 | |
| whiteTheme | 1.662 | 0.047 | 1.729 | |
| wildTypeCopiesSummary | 0.004 | 0.000 | 0.004 | |