| Back to Build/check report for BioC 3.22: simplified long |
|
This page was generated on 2025-10-27 12:45 -0400 (Mon, 27 Oct 2025).
| Hostname | OS | Arch (*) | R version | Installed pkgs |
|---|---|---|---|---|
| kjohnson3 | macOS 13.7.7 Ventura | arm64 | 4.5.1 Patched (2025-09-10 r88807) -- "Great Square Root" | 4637 |
| Click on any hostname to see more info about the system (e.g. compilers) (*) as reported by 'uname -p', except on Windows and Mac OS X | ||||
| Package 2282/2361 | Hostname | OS / Arch | INSTALL | BUILD | CHECK | BUILD BIN | ||||||||
| twoddpcr 1.33.0 (landing page) Anthony Chiu
| kjohnson3 | macOS 13.7.7 Ventura / arm64 | OK | OK | OK | OK | ||||||||
|
To the developers/maintainers of the twoddpcr package: - Allow up to 24 hours (and sometimes 48 hours) for your latest push to git@git.bioconductor.org:packages/twoddpcr.git to reflect on this report. See Troubleshooting Build Report for more information. - Use the following Renviron settings to reproduce errors and warnings. - If 'R CMD check' started to fail recently on the Linux builder(s) over a missing dependency, add the missing dependency to 'Suggests:' in your DESCRIPTION file. See Renviron.bioc for more information. |
| Package: twoddpcr |
| Version: 1.33.0 |
| Command: /Library/Frameworks/R.framework/Resources/bin/R CMD check --install=check:twoddpcr.install-out.txt --library=/Library/Frameworks/R.framework/Resources/library --no-vignettes --timings twoddpcr_1.33.0.tar.gz |
| StartedAt: 2025-10-26 22:13:48 -0400 (Sun, 26 Oct 2025) |
| EndedAt: 2025-10-26 22:14:38 -0400 (Sun, 26 Oct 2025) |
| EllapsedTime: 50.6 seconds |
| RetCode: 0 |
| Status: OK |
| CheckDir: twoddpcr.Rcheck |
| Warnings: 0 |
##############################################################################
##############################################################################
###
### Running command:
###
### /Library/Frameworks/R.framework/Resources/bin/R CMD check --install=check:twoddpcr.install-out.txt --library=/Library/Frameworks/R.framework/Resources/library --no-vignettes --timings twoddpcr_1.33.0.tar.gz
###
##############################################################################
##############################################################################
* using log directory ‘/Users/biocbuild/bbs-3.22-bioc/meat/twoddpcr.Rcheck’
* using R version 4.5.1 Patched (2025-09-10 r88807)
* using platform: aarch64-apple-darwin20
* R was compiled by
Apple clang version 16.0.0 (clang-1600.0.26.6)
GNU Fortran (GCC) 14.2.0
* running under: macOS Ventura 13.7.7
* using session charset: UTF-8
* using option ‘--no-vignettes’
* checking for file ‘twoddpcr/DESCRIPTION’ ... OK
* this is package ‘twoddpcr’ version ‘1.33.0’
* checking package namespace information ... OK
* checking package dependencies ... OK
* checking if this is a source package ... OK
* checking if there is a namespace ... OK
* checking for hidden files and directories ... OK
* checking for portable file names ... OK
* checking for sufficient/correct file permissions ... OK
* checking whether package ‘twoddpcr’ can be installed ... OK
* checking installed package size ... OK
* checking package directory ... OK
* checking ‘build’ directory ... OK
* checking DESCRIPTION meta-information ... OK
* checking top-level files ... OK
* checking for left-over files ... OK
* checking index information ... OK
* checking package subdirectories ... OK
* checking code files for non-ASCII characters ... OK
* checking R files for syntax errors ... OK
* checking whether the package can be loaded ... OK
* checking whether the package can be loaded with stated dependencies ... OK
* checking whether the package can be unloaded cleanly ... OK
* checking whether the namespace can be loaded with stated dependencies ... OK
* checking whether the namespace can be unloaded cleanly ... OK
* checking dependencies in R code ... OK
* checking S3 generic/method consistency ... OK
* checking replacement functions ... OK
* checking foreign function calls ... OK
* checking R code for possible problems ... OK
* checking Rd files ... OK
* checking Rd metadata ... OK
* checking Rd cross-references ... OK
* checking for missing documentation entries ... OK
* checking for code/documentation mismatches ... OK
* checking Rd \usage sections ... NOTE
S3 methods shown with full name in Rd file 'ggplot.well.Rd':
‘ggplot.well’ ‘ggplot.plate’
The \usage entries for S3 methods should use the \method markup and not
their full name.
See chapter ‘Writing R documentation files’ in the ‘Writing R
Extensions’ manual.
* checking Rd contents ... OK
* checking for unstated dependencies in examples ... OK
* checking contents of ‘data’ directory ... OK
* checking data for non-ASCII characters ... OK
* checking LazyData ... OK
* checking data for ASCII and uncompressed saves ... OK
* checking files in ‘vignettes’ ... OK
* checking examples ... OK
* checking for unstated dependencies in ‘tests’ ... OK
* checking tests ...
Running ‘testthat.R’
OK
* checking for unstated dependencies in vignettes ... OK
* checking package vignettes ... OK
* checking running R code from vignettes ... SKIPPED
* checking re-building of vignette outputs ... SKIPPED
* checking PDF version of manual ... OK
* DONE
Status: 1 NOTE
See
‘/Users/biocbuild/bbs-3.22-bioc/meat/twoddpcr.Rcheck/00check.log’
for details.
twoddpcr.Rcheck/00install.out
############################################################################## ############################################################################## ### ### Running command: ### ### /Library/Frameworks/R.framework/Resources/bin/R CMD INSTALL twoddpcr ### ############################################################################## ############################################################################## * installing to library ‘/Library/Frameworks/R.framework/Versions/4.5-arm64/Resources/library’ * installing *source* package ‘twoddpcr’ ... ** this is package ‘twoddpcr’ version ‘1.33.0’ ** using staged installation ** R ** data *** moving datasets to lazyload DB ** inst ** byte-compile and prepare package for lazy loading ** help *** installing help indices ** building package indices ** installing vignettes ** testing if installed package can be loaded from temporary location ** testing if installed package can be loaded from final location ** testing if installed package keeps a record of temporary installation path * DONE (twoddpcr)
twoddpcr.Rcheck/tests/testthat.Rout
R version 4.5.1 Patched (2025-09-10 r88807) -- "Great Square Root"
Copyright (C) 2025 The R Foundation for Statistical Computing
Platform: aarch64-apple-darwin20
R is free software and comes with ABSOLUTELY NO WARRANTY.
You are welcome to redistribute it under certain conditions.
Type 'license()' or 'licence()' for distribution details.
R is a collaborative project with many contributors.
Type 'contributors()' for more information and
'citation()' on how to cite R or R packages in publications.
Type 'demo()' for some demos, 'help()' for on-line help, or
'help.start()' for an HTML browser interface to help.
Type 'q()' to quit R.
> library(testthat)
> library(twoddpcr)
>
> test_check("twoddpcr")
[ FAIL 0 | WARN 2 | SKIP 0 | PASS 155 ]
[ FAIL 0 | WARN 2 | SKIP 0 | PASS 155 ]
>
> proc.time()
user system elapsed
2.292 0.134 2.433
twoddpcr.Rcheck/twoddpcr-Ex.timings
| name | user | system | elapsed | |
| amplitudes | 0.115 | 0.005 | 0.120 | |
| basicsSummary | 0.002 | 0.000 | 0.001 | |
| castSummary | 0.005 | 0.001 | 0.006 | |
| classCov | 0.021 | 0.002 | 0.024 | |
| classMeans | 0.023 | 0.003 | 0.025 | |
| classStats | 0.022 | 0.004 | 0.026 | |
| clusterCentres | 0.275 | 0.020 | 0.298 | |
| copiesSummary | 0.002 | 0.000 | 0.002 | |
| ddpcrPlate-class | 0.101 | 0.004 | 0.106 | |
| ddpcrWell-class | 0.009 | 0.000 | 0.009 | |
| ddpcrWell-methods | 0.102 | 0.007 | 0.110 | |
| dropletPlot | 1.855 | 0.055 | 1.913 | |
| exportTable | 0.118 | 0.009 | 0.128 | |
| extractPlateName | 0.000 | 0.000 | 0.001 | |
| extractWellNames | 0 | 0 | 0 | |
| facetPlot | 0.763 | 0.019 | 0.782 | |
| flatPlot | 1.503 | 0.092 | 1.600 | |
| fullCopiesSummary | 0.002 | 0.001 | 0.002 | |
| fullCountsSummary | 0.007 | 0.002 | 0.009 | |
| ggplot.well | 2.949 | 0.094 | 3.055 | |
| gridClassify | 2.362 | 0.032 | 2.395 | |
| heatPlot | 0.615 | 0.022 | 0.637 | |
| kmeansClassify | 0.441 | 0.022 | 0.462 | |
| knnClassify | 3.009 | 0.048 | 3.064 | |
| mahalanobisRain | 0.225 | 0.023 | 0.249 | |
| mutantCopiesSummary | 0.001 | 0.000 | 0.001 | |
| numDroplets | 0.094 | 0.004 | 0.098 | |
| parseClusterCounts | 0.003 | 0.000 | 0.004 | |
| plateClassification | 0.368 | 0.014 | 0.383 | |
| plateClassificationMethod | 0.130 | 0.007 | 0.137 | |
| plateSummary | 0.576 | 0.006 | 0.583 | |
| positiveCounts | 0.01 | 0.00 | 0.01 | |
| readCSVDataFrame | 0.003 | 0.001 | 0.004 | |
| relabelClasses | 0.037 | 0.003 | 0.041 | |
| removeDropletClasses | 0.242 | 0.015 | 0.258 | |
| renormalisePlate | 1.225 | 0.039 | 1.263 | |
| sdRain | 0.877 | 0.023 | 0.901 | |
| setChannelNames | 0.000 | 0.001 | 0.001 | |
| setDropletVolume | 0 | 0 | 0 | |
| sortDataFrame | 0.000 | 0.000 | 0.001 | |
| sortWells | 0.100 | 0.007 | 0.108 | |
| thresholdClassify | 0.633 | 0.033 | 0.668 | |
| wellClassification | 0.006 | 0.000 | 0.007 | |
| wellClassificationMethod | 0.007 | 0.000 | 0.007 | |
| whiteTheme | 0.712 | 0.013 | 0.725 | |
| wildTypeCopiesSummary | 0.002 | 0.000 | 0.001 | |