Back to Multiple platform build/check report for BioC 3.22:   simplified   long
ABCDEFGHIJKLMNOPQR[S]TUVWXYZ

This page was generated on 2025-10-16 12:08 -0400 (Thu, 16 Oct 2025).

HostnameOSArch (*)R versionInstalled pkgs
nebbiolo2Linux (Ubuntu 24.04.3 LTS)x86_644.5.1 Patched (2025-08-23 r88802) -- "Great Square Root" 4867
lconwaymacOS 12.7.6 Montereyx86_644.5.1 Patched (2025-09-10 r88807) -- "Great Square Root" 4655
kjohnson3macOS 13.7.7 Venturaarm644.5.1 Patched (2025-09-10 r88807) -- "Great Square Root" 4600
taishanLinux (openEuler 24.03 LTS)aarch644.5.0 (2025-04-11) -- "How About a Twenty-Six" 4610
Click on any hostname to see more info about the system (e.g. compilers)      (*) as reported by 'uname -p', except on Windows and Mac OS X

Package 2131/2346HostnameOS / ArchINSTALLBUILDCHECKBUILD BIN
structToolbox 1.21.0  (landing page)
Gavin Rhys Lloyd
Snapshot Date: 2025-10-15 13:45 -0400 (Wed, 15 Oct 2025)
git_url: https://git.bioconductor.org/packages/structToolbox
git_branch: devel
git_last_commit: 36d5ff1
git_last_commit_date: 2025-04-15 11:54:06 -0400 (Tue, 15 Apr 2025)
nebbiolo2Linux (Ubuntu 24.04.3 LTS) / x86_64  OK    OK    OK  NO, package depends on 'struct' which is not available
lconwaymacOS 12.7.6 Monterey / x86_64  OK    OK    OK    OK  NO, package depends on 'struct' which is not available
kjohnson3macOS 13.7.7 Ventura / arm64  OK    OK    OK    OK  NO, package depends on 'struct' which is not available
taishanLinux (openEuler 24.03 LTS) / aarch64  OK    OK    OK  


CHECK results for structToolbox on taishan

To the developers/maintainers of the structToolbox package:
- Allow up to 24 hours (and sometimes 48 hours) for your latest push to git@git.bioconductor.org:packages/structToolbox.git to reflect on this report. See Troubleshooting Build Report for more information.
- Use the following Renviron settings to reproduce errors and warnings.
- If 'R CMD check' started to fail recently on the Linux builder(s) over a missing dependency, add the missing dependency to 'Suggests:' in your DESCRIPTION file. See Renviron.bioc for more information.
- See Martin Grigorov's blog post for how to debug Linux ARM64 related issues on a x86_64 host.

raw results


Summary

Package: structToolbox
Version: 1.21.0
Command: /home/biocbuild/R/R/bin/R CMD check --install=check:structToolbox.install-out.txt --library=/home/biocbuild/R/R/site-library --no-vignettes --timings structToolbox_1.21.0.tar.gz
StartedAt: 2025-10-14 13:22:07 -0000 (Tue, 14 Oct 2025)
EndedAt: 2025-10-14 13:34:03 -0000 (Tue, 14 Oct 2025)
EllapsedTime: 715.9 seconds
RetCode: 0
Status:   OK  
CheckDir: structToolbox.Rcheck
Warnings: 0

Command output

##############################################################################
##############################################################################
###
### Running command:
###
###   /home/biocbuild/R/R/bin/R CMD check --install=check:structToolbox.install-out.txt --library=/home/biocbuild/R/R/site-library --no-vignettes --timings structToolbox_1.21.0.tar.gz
###
##############################################################################
##############################################################################


* using log directory ‘/home/biocbuild/bbs-3.22-bioc/meat/structToolbox.Rcheck’
* using R version 4.5.0 (2025-04-11)
* using platform: aarch64-unknown-linux-gnu
* R was compiled by
    aarch64-unknown-linux-gnu-gcc (GCC) 14.2.0
    GNU Fortran (GCC) 14.2.0
* running under: openEuler 24.03 (LTS)
* using session charset: UTF-8
* using option ‘--no-vignettes’
* checking for file ‘structToolbox/DESCRIPTION’ ... OK
* checking extension type ... Package
* this is package ‘structToolbox’ version ‘1.21.0’
* package encoding: UTF-8
* checking package namespace information ... OK
* checking package dependencies ... OK
* checking if this is a source package ... OK
* checking if there is a namespace ... OK
* checking for hidden files and directories ... OK
* checking for portable file names ... OK
* checking for sufficient/correct file permissions ... OK
* checking whether package ‘structToolbox’ can be installed ... OK
* checking installed package size ... OK
* checking package directory ... OK
* checking ‘build’ directory ... OK
* checking DESCRIPTION meta-information ... OK
* checking top-level files ... OK
* checking for left-over files ... OK
* checking index information ... OK
* checking package subdirectories ... OK
* checking code files for non-ASCII characters ... OK
* checking R files for syntax errors ... OK
* checking whether the package can be loaded ... OK
* checking whether the package can be loaded with stated dependencies ... OK
* checking whether the package can be unloaded cleanly ... OK
* checking whether the namespace can be loaded with stated dependencies ... OK
* checking whether the namespace can be unloaded cleanly ... OK
* checking loading without being on the library search path ... OK
* checking dependencies in R code ... OK
* checking S3 generic/method consistency ... OK
* checking replacement functions ... OK
* checking foreign function calls ... OK
* checking R code for possible problems ... OK
* checking Rd files ... OK
* checking Rd metadata ... OK
* checking Rd cross-references ... OK
* checking for missing documentation entries ... OK
* checking for code/documentation mismatches ... OK
* checking Rd \usage sections ... OK
* checking Rd contents ... OK
* checking for unstated dependencies in examples ... OK
* checking R/sysdata.rda ... OK
* checking files in ‘vignettes’ ... OK
* checking examples ... OK
Examples with CPU (user + system) or elapsed time > 5s
                            user system elapsed
fold_change_int           23.059  0.183  23.304
fold_change               16.823  0.172  17.052
fisher_exact              13.831  0.135  13.997
fs_line                    9.504  0.056   9.581
forward_selection_by_rank  9.334  0.100   9.454
compare_dist               6.673  0.171   6.865
kfoldxcv_grid              5.585  0.048   5.649
grid_search_1d             5.030  0.032   5.073
* checking for unstated dependencies in ‘tests’ ... OK
* checking tests ...
  Running ‘testthat.R’
 OK
* checking for unstated dependencies in vignettes ... OK
* checking package vignettes ... OK
* checking running R code from vignettes ... SKIPPED
* checking re-building of vignette outputs ... SKIPPED
* checking PDF version of manual ... OK
* DONE

Status: OK


Installation output

structToolbox.Rcheck/00install.out

##############################################################################
##############################################################################
###
### Running command:
###
###   /home/biocbuild/R/R/bin/R CMD INSTALL structToolbox
###
##############################################################################
##############################################################################


* installing to library ‘/home/biocbuild/R/R-4.5.0/site-library’
* installing *source* package ‘structToolbox’ ...
** this is package ‘structToolbox’ version ‘1.21.0’
** using staged installation
** R
** inst
** byte-compile and prepare package for lazy loading
** help
*** installing help indices
** building package indices
** installing vignettes
** testing if installed package can be loaded from temporary location
** testing if installed package can be loaded from final location
** testing if installed package keeps a record of temporary installation path
* DONE (structToolbox)

Tests output

structToolbox.Rcheck/tests/testthat.Rout


R version 4.5.0 (2025-04-11) -- "How About a Twenty-Six"
Copyright (C) 2025 The R Foundation for Statistical Computing
Platform: aarch64-unknown-linux-gnu

R is free software and comes with ABSOLUTELY NO WARRANTY.
You are welcome to redistribute it under certain conditions.
Type 'license()' or 'licence()' for distribution details.

R is a collaborative project with many contributors.
Type 'contributors()' for more information and
'citation()' on how to cite R or R packages in publications.

Type 'demo()' for some demos, 'help()' for on-line help, or
'help.start()' for an HTML browser interface to help.
Type 'q()' to quit R.

> library(testthat)
> library(ggplot2)
> library(structToolbox)
Loading required package: struct
> 
> test_check("structToolbox")
[ FAIL 0 | WARN 6 | SKIP 0 | PASS 166 ]

[ FAIL 0 | WARN 6 | SKIP 0 | PASS 166 ]
> 
> proc.time()
   user  system elapsed 
274.831   2.017 277.603 

Example timings

structToolbox.Rcheck/structToolbox-Ex.timings

nameusersystemelapsed
ANOVA0.2850.0000.286
AUC2.9480.2193.176
DFA0.2830.0000.283
DatasetExperiment_boxplot1.3210.0361.360
DatasetExperiment_dist1.6500.0441.697
DatasetExperiment_factor_boxplot0.4560.0200.477
DatasetExperiment_heatmap1.4110.0481.460
HCA0.0870.0000.087
HSD0.3720.0040.382
HSDEM0.3480.0000.349
MTBLS79_DatasetExperiment0.0010.0000.001
OPLSDA0.0150.0000.016
OPLSR0.0120.0000.012
PCA0.0060.0000.006
PLSDA0.0170.0000.017
PLSR0.0140.0000.014
SVM0.0290.0000.030
as_data_frame0.1900.0000.191
autoscale0.0970.0000.098
balanced_accuracy2.5510.0402.597
blank_filter0.4740.0080.483
blank_filter_hist0.0010.0000.001
bootstrap0.0160.0000.016
calculate0.0080.0000.008
chart_plot0.0430.0000.043
classical_lsq0.4430.0040.449
compare_dist6.6730.1716.865
confounders_clsq4.2710.0394.323
confounders_lsq_barchart4.6800.0724.763
confounders_lsq_boxplot4.5860.0404.635
constant_sum_norm0.0110.0000.011
corr_coef0.3670.0000.367
dfa_scores_plot1.4240.0161.443
dratio_filter0.4410.0000.442
equal_split0.1580.0040.162
feature_boxplot0.0330.0040.037
feature_profile0.7610.0080.770
feature_profile_array0.9250.0000.927
filter_by_name0.0440.0040.048
filter_na_count1.5270.0241.553
filter_smeta0.1050.0000.104
fisher_exact13.831 0.13513.997
fold_change16.823 0.17217.052
fold_change_int23.059 0.18323.304
fold_change_plot0.010.000.01
forward_selection_by_rank9.3340.1009.454
fs_line9.5040.0569.581
glog_opt_plot0.7980.0000.800
glog_transform0.4170.0000.417
grid_search_1d5.0300.0325.073
gs_line0.0010.0000.001
hca_dendrogram0.0010.0000.001
kfold_xval4.9620.0124.988
kfoldxcv_grid5.5850.0485.649
kfoldxcv_metric0.0010.0000.001
knn_impute0.0170.0000.018
kw_p_hist0.0010.0000.001
kw_rank_sum0.1080.0000.108
linear_model0.0420.0000.042
log_transform0.010.000.01
mean_centre0.0040.0000.005
mean_of_medians0.1710.0000.172
mixed_effect0.2190.0040.224
model_apply0.0320.0000.033
model_predict0.0920.0040.097
model_reverse0.0350.0000.036
model_train0.0710.0000.071
mv_boxplot0.6130.0000.614
mv_feature_filter0.1550.0040.158
mv_feature_filter_hist0.0010.0000.001
mv_histogram0.5290.0000.531
mv_sample_filter0.0120.0000.012
mv_sample_filter_hist0.0010.0000.000
nroot_transform0.010.000.01
ontology_cache000
pairs_filter0.0140.0000.015
pareto_scale0.0800.0000.081
pca_biplot0.0220.0000.022
pca_correlation_plot0.0050.0040.010
pca_dstat_plot0.0130.0000.014
pca_loadings_plot0.0140.0000.014
pca_scores_plot1.0420.0001.045
pca_scree_plot0.0090.0000.009
permutation_test0.0130.0000.014
permutation_test_plot0.0040.0000.004
permute_sample_order0.010.000.01
pls_regcoeff_plot0.6720.0000.678
pls_scores_plot1.2390.0001.243
pls_vip_plot0.6920.0040.697
plsda_feature_importance_plot1.2850.0001.287
plsda_predicted_plot0.8500.0000.852
plsda_roc_plot1.8210.0041.830
plsr_cook_dist0.0100.0000.009
plsr_prediction_plot0.0100.0000.009
plsr_qq_plot0.0100.0000.009
plsr_residual_hist0.010.000.01
pqn_norm0.5280.0080.538
pqn_norm_hist0.0010.0000.001
prop_na0.0150.0000.015
r_squared0.0010.0000.001
resample0.0240.0000.024
resample_chart0.0040.0000.004
rsd_filter0.0210.0000.021
rsd_filter_hist0.0010.0000.001
run0.0420.0040.045
sb_corr0.0380.0040.042
scatter_chart0.8350.0360.873
split_data0.0110.0000.011
stratified_split0.1620.0080.170
svm_plot_2d1.1130.0081.124
tSNE0.0290.0040.033
tSNE_scatter0.010.000.01
tic_chart0.4610.0040.466
ttest0.030.000.03
vec_norm0.0010.0000.001
wilcox_p_hist0.0010.0000.001
wilcox_test0.0250.0000.025