| Back to Multiple platform build/check report for BioC 3.22: simplified long |
|
This page was generated on 2025-05-09 12:08 -0400 (Fri, 09 May 2025).
| Hostname | OS | Arch (*) | R version | Installed pkgs |
|---|---|---|---|---|
| nebbiolo2 | Linux (Ubuntu 24.04.1 LTS) | x86_64 | 4.5.0 (2025-04-11) -- "How About a Twenty-Six" | 4749 |
| palomino8 | Windows Server 2022 Datacenter | x64 | 4.5.0 (2025-04-11 ucrt) -- "How About a Twenty-Six" | 4510 |
| lconway | macOS 12.7.1 Monterey | x86_64 | 4.5.0 Patched (2025-04-21 r88169) -- "How About a Twenty-Six" | 4548 |
| kjohnson3 | macOS 13.7.1 Ventura | arm64 | 4.5.0 Patched (2025-04-21 r88169) -- "How About a Twenty-Six" | 4489 |
| taishan | Linux (openEuler 24.03 LTS) | aarch64 | 4.5.0 (2025-04-11) -- "How About a Twenty-Six" | 4449 |
| Click on any hostname to see more info about the system (e.g. compilers) (*) as reported by 'uname -p', except on Windows and Mac OS X | ||||
| Package 2026/2304 | Hostname | OS / Arch | INSTALL | BUILD | CHECK | BUILD BIN | ||||||||
| spatialDE 1.15.1 (landing page) Gabriele Sales
| nebbiolo2 | Linux (Ubuntu 24.04.1 LTS) / x86_64 | OK | OK | OK | |||||||||
| palomino8 | Windows Server 2022 Datacenter / x64 | OK | OK | OK | OK | |||||||||
| lconway | macOS 12.7.1 Monterey / x86_64 | OK | OK | OK | OK | |||||||||
| kjohnson3 | macOS 13.7.1 Ventura / arm64 | OK | OK | OK | OK | |||||||||
| taishan | Linux (openEuler 24.03 LTS) / aarch64 | OK | ERROR | skipped | ||||||||||
|
To the developers/maintainers of the spatialDE package: - Allow up to 24 hours (and sometimes 48 hours) for your latest push to git@git.bioconductor.org:packages/spatialDE.git to reflect on this report. See Troubleshooting Build Report for more information. - Use the following Renviron settings to reproduce errors and warnings. - If 'R CMD check' started to fail recently on the Linux builder(s) over a missing dependency, add the missing dependency to 'Suggests:' in your DESCRIPTION file. See Renviron.bioc for more information. |
| Package: spatialDE |
| Version: 1.15.1 |
| Command: F:\biocbuild\bbs-3.22-bioc\R\bin\R.exe CMD check --no-multiarch --install=check:spatialDE.install-out.txt --library=F:\biocbuild\bbs-3.22-bioc\R\library --no-vignettes --timings spatialDE_1.15.1.tar.gz |
| StartedAt: 2025-05-09 06:36:25 -0400 (Fri, 09 May 2025) |
| EndedAt: 2025-05-09 06:42:31 -0400 (Fri, 09 May 2025) |
| EllapsedTime: 365.1 seconds |
| RetCode: 0 |
| Status: OK |
| CheckDir: spatialDE.Rcheck |
| Warnings: 0 |
##############################################################################
##############################################################################
###
### Running command:
###
### F:\biocbuild\bbs-3.22-bioc\R\bin\R.exe CMD check --no-multiarch --install=check:spatialDE.install-out.txt --library=F:\biocbuild\bbs-3.22-bioc\R\library --no-vignettes --timings spatialDE_1.15.1.tar.gz
###
##############################################################################
##############################################################################
* using log directory 'F:/biocbuild/bbs-3.22-bioc/meat/spatialDE.Rcheck'
* using R version 4.5.0 (2025-04-11 ucrt)
* using platform: x86_64-w64-mingw32
* R was compiled by
gcc.exe (GCC) 14.2.0
GNU Fortran (GCC) 14.2.0
* running under: Windows Server 2022 x64 (build 20348)
* using session charset: UTF-8
* using option '--no-vignettes'
* checking for file 'spatialDE/DESCRIPTION' ... OK
* this is package 'spatialDE' version '1.15.1'
* package encoding: UTF-8
* checking package namespace information ... OK
* checking package dependencies ... OK
* checking if this is a source package ... OK
* checking if there is a namespace ... OK
* checking for hidden files and directories ... OK
* checking for portable file names ... OK
* checking whether package 'spatialDE' can be installed ... NOTE
Found the following notes/warnings:
Non-staged installation was used
See 'F:/biocbuild/bbs-3.22-bioc/meat/spatialDE.Rcheck/00install.out' for details.
* checking installed package size ... OK
* checking package directory ... OK
* checking 'build' directory ... OK
* checking DESCRIPTION meta-information ... OK
* checking top-level files ... OK
* checking for left-over files ... OK
* checking index information ... OK
* checking package subdirectories ... OK
* checking code files for non-ASCII characters ... OK
* checking R files for syntax errors ... OK
* checking whether the package can be loaded ... OK
* checking whether the package can be loaded with stated dependencies ... OK
* checking whether the package can be unloaded cleanly ... OK
* checking whether the namespace can be loaded with stated dependencies ... OK
* checking whether the namespace can be unloaded cleanly ... OK
* checking dependencies in R code ... OK
* checking S3 generic/method consistency ... OK
* checking replacement functions ... OK
* checking foreign function calls ... OK
* checking R code for possible problems ... OK
* checking Rd files ... OK
* checking Rd metadata ... OK
* checking Rd cross-references ... NOTE
Found the following Rd file(s) with Rd \link{} targets missing package
anchors:
mockSVG.Rd: SpatialExperiment-class
modelSearch.Rd: SpatialExperiment-class
multiGenePlots.Rd: SpatialExperiment-class
spatialDE.Rd: SpatialExperiment-class
spatialPatterns.Rd: SpatialExperiment-class
Please provide package anchors for all Rd \link{} targets not in the
package itself and the base packages.
* checking for missing documentation entries ... OK
* checking for code/documentation mismatches ... OK
* checking Rd \usage sections ... OK
* checking Rd contents ... OK
* checking for unstated dependencies in examples ... OK
* checking contents of 'data' directory ... OK
* checking data for non-ASCII characters ... OK
* checking data for ASCII and uncompressed saves ... OK
* checking line endings in shell scripts ... OK
* checking files in 'vignettes' ... OK
* checking examples ... OK
Examples with CPU (user + system) or elapsed time > 5s
user system elapsed
spatial_patterns 12.68 0.39 6.56
FSV_sig 4.58 2.11 64.66
* checking for unstated dependencies in 'tests' ... OK
* checking tests ...
Running 'testthat.R'
OK
* checking for unstated dependencies in vignettes ... OK
* checking package vignettes ... OK
* checking running R code from vignettes ... SKIPPED
* checking re-building of vignette outputs ... SKIPPED
* checking PDF version of manual ... OK
* DONE
Status: 2 NOTEs
See
'F:/biocbuild/bbs-3.22-bioc/meat/spatialDE.Rcheck/00check.log'
for details.
spatialDE.Rcheck/00install.out
############################################################################## ############################################################################## ### ### Running command: ### ### F:\biocbuild\bbs-3.22-bioc\R\bin\R.exe CMD INSTALL spatialDE ### ############################################################################## ############################################################################## * installing to library 'F:/biocbuild/bbs-3.22-bioc/R/library' * installing *source* package 'spatialDE' ... ** this is package 'spatialDE' version '1.15.1' ** using non-staged installation via StagedInstall field ** R ** data ** inst ** byte-compile and prepare package for lazy loading ** help *** installing help indices ** building package indices ** installing vignettes ** testing if installed package can be loaded * DONE (spatialDE)
spatialDE.Rcheck/tests/testthat.Rout
R version 4.5.0 (2025-04-11 ucrt) -- "How About a Twenty-Six"
Copyright (C) 2025 The R Foundation for Statistical Computing
Platform: x86_64-w64-mingw32/x64
R is free software and comes with ABSOLUTELY NO WARRANTY.
You are welcome to redistribute it under certain conditions.
Type 'license()' or 'licence()' for distribution details.
R is a collaborative project with many contributors.
Type 'contributors()' for more information and
'citation()' on how to cite R or R packages in publications.
Type 'demo()' for some demos, 'help()' for on-line help, or
'help.start()' for an HTML browser interface to help.
Type 'q()' to quit R.
> library(testthat)
> library(spatialDE)
>
> test_check("spatialDE")
Loading required package: SingleCellExperiment
Loading required package: SummarizedExperiment
Loading required package: MatrixGenerics
Loading required package: matrixStats
Attaching package: 'MatrixGenerics'
The following objects are masked from 'package:matrixStats':
colAlls, colAnyNAs, colAnys, colAvgsPerRowSet, colCollapse,
colCounts, colCummaxs, colCummins, colCumprods, colCumsums,
colDiffs, colIQRDiffs, colIQRs, colLogSumExps, colMadDiffs,
colMads, colMaxs, colMeans2, colMedians, colMins, colOrderStats,
colProds, colQuantiles, colRanges, colRanks, colSdDiffs, colSds,
colSums2, colTabulates, colVarDiffs, colVars, colWeightedMads,
colWeightedMeans, colWeightedMedians, colWeightedSds,
colWeightedVars, rowAlls, rowAnyNAs, rowAnys, rowAvgsPerColSet,
rowCollapse, rowCounts, rowCummaxs, rowCummins, rowCumprods,
rowCumsums, rowDiffs, rowIQRDiffs, rowIQRs, rowLogSumExps,
rowMadDiffs, rowMads, rowMaxs, rowMeans2, rowMedians, rowMins,
rowOrderStats, rowProds, rowQuantiles, rowRanges, rowRanks,
rowSdDiffs, rowSds, rowSums2, rowTabulates, rowVarDiffs, rowVars,
rowWeightedMads, rowWeightedMeans, rowWeightedMedians,
rowWeightedSds, rowWeightedVars
Loading required package: GenomicRanges
Loading required package: stats4
Loading required package: BiocGenerics
Loading required package: generics
Attaching package: 'generics'
The following objects are masked from 'package:base':
as.difftime, as.factor, as.ordered, intersect, is.element, setdiff,
setequal, union
Attaching package: 'BiocGenerics'
The following objects are masked from 'package:stats':
IQR, mad, sd, var, xtabs
The following objects are masked from 'package:base':
Filter, Find, Map, Position, Reduce, anyDuplicated, aperm, append,
as.data.frame, basename, cbind, colnames, dirname, do.call,
duplicated, eval, evalq, get, grep, grepl, is.unsorted, lapply,
mapply, match, mget, order, paste, pmax, pmax.int, pmin, pmin.int,
rank, rbind, rownames, sapply, saveRDS, table, tapply, unique,
unsplit, which.max, which.min
Loading required package: S4Vectors
Attaching package: 'S4Vectors'
The following object is masked from 'package:utils':
findMatches
The following objects are masked from 'package:base':
I, expand.grid, unname
Loading required package: IRanges
Attaching package: 'IRanges'
The following object is masked from 'package:grDevices':
windows
Loading required package: GenomeInfoDb
Loading required package: Biobase
Welcome to Bioconductor
Vignettes contain introductory material; view with
'browseVignettes()'. To cite Bioconductor, see
'citation("Biobase")', and for packages 'citation("pkgname")'.
Attaching package: 'Biobase'
The following object is masked from 'package:MatrixGenerics':
rowMedians
The following objects are masked from 'package:matrixStats':
anyMissing, rowMedians
C:\Users\BIOCBU~1\BASILI~1\121~1.0\0\Lib\site-packages\conda\base\context.py:201: FutureWarning: Adding 'defaults' to channel list implicitly is deprecated and will be removed in 25.3.
To remove this warning, please choose a default channel explicitly with conda's regular configuration system, e.g. by adding 'defaults' to the list of channels:
conda config --add channels defaults
For more information see https://docs.conda.io/projects/conda/en/stable/user-guide/configuration/use-condarc.html
deprecated.topic(
C:\Users\BIOCBU~1\BASILI~1\121~1.0\0\Lib\site-packages\conda\base\context.py:201: FutureWarning: Adding 'defaults' to channel list implicitly is deprecated and will be removed in 25.3.
To remove this warning, please choose a default channel explicitly with conda's regular configuration system, e.g. by adding 'defaults' to the list of channels:
conda config --add channels defaults
For more information see https://docs.conda.io/projects/conda/en/stable/user-guide/configuration/use-condarc.html
deprecated.topic(
C:\Users\BIOCBU~1\BASILI~1\121~1.0\0\Lib\site-packages\conda\base\context.py:201: FutureWarning: Adding 'defaults' to channel list implicitly is deprecated and will be removed in 25.3.
To remove this warning, please choose a default channel explicitly with conda's regular configuration system, e.g. by adding 'defaults' to the list of channels:
conda config --add channels defaults
For more information see https://docs.conda.io/projects/conda/en/stable/user-guide/configuration/use-condarc.html
deprecated.topic(
Models: 0%| | 0/10 [00:00<?, ?it/s]
0%| | 0/100 [00:00<?, ?it/s][A
33%|███▎ | 33/100 [00:00<00:00, 301.70it/s][A
66%|██████▌ | 66/100 [00:00<00:00, 301.71it/s][A
[A
Models: 10%|█ | 1/10 [00:00<00:02, 3.20it/s]
0%| | 0/100 [00:00<?, ?it/s][A
23%|██▎ | 23/100 [00:00<00:00, 210.29it/s][A
49%|████▉ | 49/100 [00:00<00:00, 225.85it/s][A
78%|███████▊ | 78/100 [00:00<00:00, 243.77it/s][A
[A
Models: 20%|██ | 2/10 [00:00<00:03, 2.59it/s]
0%| | 0/100 [00:00<?, ?it/s][A
22%|██▏ | 22/100 [00:00<00:00, 201.13it/s][A
43%|████▎ | 43/100 [00:00<00:00, 195.77it/s][A
66%|██████▌ | 66/100 [00:00<00:00, 202.39it/s][A
88%|████████▊ | 88/100 [00:00<00:00, 201.90it/s][A
[A
Models: 30%|███ | 3/10 [00:01<00:03, 2.28it/s]
0%| | 0/100 [00:00<?, ?it/s][A
20%|██ | 20/100 [00:00<00:00, 182.88it/s][A
42%|████▏ | 42/100 [00:00<00:00, 193.17it/s][A
63%|██████▎ | 63/100 [00:00<00:00, 192.60it/s][A
[A
Models: 40%|████ | 4/10 [00:01<00:02, 2.32it/s]
0%| | 0/100 [00:00<?, ?it/s][A
32%|███▏ | 32/100 [00:00<00:00, 292.60it/s][A
62%|██████▏ | 62/100 [00:00<00:00, 259.97it/s][A
89%|████████▉ | 89/100 [00:00<00:00, 239.31it/s][A
[A
Models: 50%|█████ | 5/10 [00:02<00:02, 2.33it/s]
0%| | 0/100 [00:00<?, ?it/s][A
21%|██ | 21/100 [00:00<00:00, 192.00it/s][A
42%|████▏ | 42/100 [00:00<00:00, 192.01it/s][A
80%|████████ | 80/100 [00:00<00:00, 262.97it/s][A
[A
Models: 60%|██████ | 6/10 [00:02<00:01, 2.32it/s]
0%| | 0/100 [00:00<?, ?it/s][A
35%|███▌ | 35/100 [00:00<00:00, 319.98it/s][A
78%|███████▊ | 78/100 [00:00<00:00, 363.03it/s][A
[A
Models: 70%|███████ | 7/10 [00:02<00:01, 2.61it/s]
0%| | 0/100 [00:00<?, ?it/s][A
19%|█▉ | 19/100 [00:00<00:00, 173.72it/s][A
40%|████ | 40/100 [00:00<00:00, 184.47it/s][A
62%|██████▏ | 62/100 [00:00<00:00, 192.09it/s][A
83%|████████▎ | 83/100 [00:00<00:00, 192.05it/s][A
[A
Models: 80%|████████ | 8/10 [00:03<00:00, 2.35it/s]
0%| | 0/100 [00:00<?, ?it/s][A
20%|██ | 20/100 [00:00<00:00, 182.86it/s][A
43%|████▎ | 43/100 [00:00<00:00, 198.51it/s][A
63%|██████▎ | 63/100 [00:00<00:00, 169.31it/s][A
83%|████████▎ | 83/100 [00:00<00:00, 174.26it/s][A
[A
Models: 90%|█████████ | 9/10 [00:03<00:00, 2.16it/s]
0%| | 0/100 [00:00<?, ?it/s][A
25%|██▌ | 25/100 [00:00<00:00, 228.57it/s][A
49%|████▉ | 49/100 [00:00<00:00, 223.19it/s][A
72%|███████▏ | 72/100 [00:00<00:00, 217.30it/s][A
94%|█████████▍| 94/100 [00:00<00:00, 210.92it/s][A
[A
Models: 100%|██████████| 10/10 [00:04<00:00, 2.15it/s]
Models: 100%|██████████| 10/10 [00:04<00:00, 2.30it/s]
Warning! ELBO dit not converge after 100 iters!
Models: 0%| | 0/10 [00:00<?, ?it/s]
0%| | 0/100 [00:00<?, ?it/s][A
36%|███▌ | 36/100 [00:00<00:00, 329.14it/s][A
70%|███████ | 70/100 [00:00<00:00, 318.39it/s][A
[A
Models: 10%|█ | 1/10 [00:00<00:02, 3.37it/s]
0%| | 0/100 [00:00<?, ?it/s][A
26%|██▌ | 26/100 [00:00<00:00, 237.73it/s][A
50%|█████ | 50/100 [00:00<00:00, 209.36it/s][A
72%|███████▏ | 72/100 [00:00<00:00, 205.77it/s][A
[A
Models: 20%|██ | 2/10 [00:00<00:03, 2.63it/s]
0%| | 0/100 [00:00<?, ?it/s][A
39%|███▉ | 39/100 [00:00<00:00, 355.08it/s][A
75%|███████▌ | 75/100 [00:00<00:00, 271.47it/s][A
[A
Models: 30%|███ | 3/10 [00:01<00:02, 2.55it/s]
0%| | 0/100 [00:00<?, ?it/s][A
39%|███▉ | 39/100 [00:00<00:00, 356.57it/s][A
77%|███████▋ | 77/100 [00:00<00:00, 351.19it/s][A
[A
Models: 40%|████ | 4/10 [00:01<00:02, 2.87it/s]
0%| | 0/100 [00:00<?, ?it/s][A
37%|███▋ | 37/100 [00:00<00:00, 338.28it/s][A
72%|███████▏ | 72/100 [00:00<00:00, 327.53it/s][A
[A
Models: 50%|█████ | 5/10 [00:01<00:01, 2.98it/s]
0%| | 0/100 [00:00<?, ?it/s][A
33%|███▎ | 33/100 [00:00<00:00, 300.51it/s][A
64%|██████▍ | 64/100 [00:00<00:00, 248.71it/s][A
90%|█████████ | 90/100 [00:00<00:00, 207.02it/s][A
[A
Models: 60%|██████ | 6/10 [00:02<00:01, 2.66it/s]
0%| | 0/100 [00:00<?, ?it/s][A
23%|██▎ | 23/100 [00:00<00:00, 210.29it/s][A
45%|████▌ | 45/100 [00:00<00:00, 204.92it/s][A
66%|██████▌ | 66/100 [00:00<00:00, 205.75it/s][A
87%|████████▋ | 87/100 [00:00<00:00, 200.21it/s][A
[A
Models: 70%|███████ | 7/10 [00:02<00:01, 2.42it/s]
0%| | 0/100 [00:00<?, ?it/s][A
22%|██▏ | 22/100 [00:00<00:00, 201.14it/s][A
53%|█████▎ | 53/100 [00:00<00:00, 249.56it/s][A
78%|███████▊ | 78/100 [00:00<00:00, 223.93it/s][A
[A
Models: 80%|████████ | 8/10 [00:03<00:00, 2.32it/s]
0%| | 0/100 [00:00<?, ?it/s][A
24%|██▍ | 24/100 [00:00<00:00, 218.46it/s][A
46%|████▌ | 46/100 [00:00<00:00, 207.75it/s][A
68%|██████▊ | 68/100 [00:00<00:00, 204.36it/s][A
99%|█████████▉| 99/100 [00:00<00:00, 235.05it/s][A
[A
Models: 90%|█████████ | 9/10 [00:03<00:00, 2.30it/s]
0%| | 0/100 [00:00<?, ?it/s][A
31%|███ | 31/100 [00:00<00:00, 282.12it/s][A
60%|██████ | 60/100 [00:00<00:00, 250.51it/s][A
86%|████████▌ | 86/100 [00:00<00:00, 244.44it/s][A
[A
Models: 100%|██████████| 10/10 [00:04<00:00, 2.32it/s]
Models: 100%|██████████| 10/10 [00:04<00:00, 2.49it/s]
C:\Users\BIOCBU~1\BASILI~1\121~1.0\SPATIA~1\115~1.1\env\Lib\site-packages\pandas\core\internals\blocks.py:351: RuntimeWarning: invalid value encountered in log
result = func(self.values, **kwargs)
Models: 0%| | 0/10 [00:00<?, ?it/s]
0%| | 0/100 [00:00<?, ?it/s][A
30%|███ | 30/100 [00:00<00:00, 296.20it/s][A
60%|██████ | 60/100 [00:00<00:00, 294.44it/s][A
[A
Models: 10%|█ | 1/10 [00:00<00:02, 3.55it/s]
0%| | 0/100 [00:00<?, ?it/s][A
36%|███▌ | 36/100 [00:00<00:00, 329.16it/s][A
69%|██████▉ | 69/100 [00:00<00:00, 313.01it/s][A
[A
Models: 20%|██ | 2/10 [00:00<00:02, 2.97it/s]
0%| | 0/100 [00:00<?, ?it/s][A
23%|██▎ | 23/100 [00:00<00:00, 210.28it/s][A
45%|████▌ | 45/100 [00:00<00:00, 204.37it/s][A
66%|██████▌ | 66/100 [00:00<00:00, 198.73it/s][A
86%|████████▌ | 86/100 [00:00<00:00, 192.47it/s][A
[A
Models: 30%|███ | 3/10 [00:01<00:02, 2.43it/s]
0%| | 0/100 [00:00<?, ?it/s][A
35%|███▌ | 35/100 [00:00<00:00, 319.98it/s][A
73%|███████▎ | 73/100 [00:00<00:00, 336.12it/s][A
[A
Models: 40%|████ | 4/10 [00:01<00:02, 2.73it/s]
0%| | 0/100 [00:00<?, ?it/s][A
32%|███▏ | 32/100 [00:00<00:00, 292.60it/s][A
65%|██████▌ | 65/100 [00:00<00:00, 297.96it/s][A
95%|█████████▌| 95/100 [00:00<00:00, 254.01it/s][A
[A
Models: 50%|█████ | 5/10 [00:01<00:01, 2.67it/s]
0%| | 0/100 [00:00<?, ?it/s][A
22%|██▏ | 22/100 [00:00<00:00, 201.13it/s][A
43%|████▎ | 43/100 [00:00<00:00, 180.59it/s][A
68%|██████▊ | 68/100 [00:00<00:00, 201.16it/s][A
[A
Models: 60%|██████ | 6/10 [00:02<00:01, 2.52it/s]
0%| | 0/100 [00:00<?, ?it/s][A
24%|██▍ | 24/100 [00:00<00:00, 219.43it/s][A
55%|█████▌ | 55/100 [00:00<00:00, 257.07it/s][A
81%|████████ | 81/100 [00:00<00:00, 233.04it/s][A
[A
Models: 70%|███████ | 7/10 [00:02<00:01, 2.41it/s]
0%| | 0/100 [00:00<?, ?it/s][A
25%|██▌ | 25/100 [00:00<00:00, 228.55it/s][A
59%|█████▉ | 59/100 [00:00<00:00, 276.96it/s][A
99%|█████████▉| 99/100 [00:00<00:00, 317.48it/s][A
[A
Models: 80%|████████ | 8/10 [00:03<00:00, 2.58it/s]
0%| | 0/100 [00:00<?, ?it/s][A
39%|███▉ | 39/100 [00:00<00:00, 355.04it/s][A
75%|███████▌ | 75/100 [00:00<00:00, 339.84it/s][A
[A
Models: 90%|█████████ | 9/10 [00:03<00:00, 2.75it/s]
0%| | 0/100 [00:00<?, ?it/s][A
37%|███▋ | 37/100 [00:00<00:00, 338.29it/s][A
78%|███████▊ | 78/100 [00:00<00:00, 359.79it/s][A
[A
Models: 100%|██████████| 10/10 [00:03<00:00, 2.95it/s]
Models: 100%|██████████| 10/10 [00:03<00:00, 2.73it/s]
Models: 0%| | 0/10 [00:00<?, ?it/s]
0%| | 0/100 [00:00<?, ?it/s][A
37%|███▋ | 37/100 [00:00<00:00, 338.27it/s][A
76%|███████▌ | 76/100 [00:00<00:00, 349.02it/s][A
[A
Models: 10%|█ | 1/10 [00:00<00:02, 3.56it/s]
0%| | 0/100 [00:00<?, ?it/s][A
34%|███▍ | 34/100 [00:00<00:00, 310.88it/s][A
66%|██████▌ | 66/100 [00:00<00:00, 238.68it/s][A
98%|█████████▊| 98/100 [00:00<00:00, 259.82it/s][A
[A
Models: 20%|██ | 2/10 [00:00<00:02, 2.97it/s]
0%| | 0/100 [00:00<?, ?it/s][A
37%|███▋ | 37/100 [00:00<00:00, 336.74it/s][A
71%|███████ | 71/100 [00:00<00:00, 321.63it/s][A
[A
Models: 30%|███ | 3/10 [00:00<00:02, 3.06it/s]
0%| | 0/100 [00:00<?, ?it/s][A
31%|███ | 31/100 [00:00<00:00, 281.93it/s][A
64%|██████▍ | 64/100 [00:00<00:00, 293.63it/s][A
94%|█████████▍| 94/100 [00:00<00:00, 266.34it/s][A
[A
Models: 40%|████ | 4/10 [00:01<00:02, 2.89it/s]
0%| | 0/100 [00:00<?, ?it/s][A
21%|██ | 21/100 [00:00<00:00, 192.02it/s][A
41%|████ | 41/100 [00:00<00:00, 186.63it/s][A
62%|██████▏ | 62/100 [00:00<00:00, 189.08it/s][A
83%|████████▎ | 83/100 [00:00<00:00, 190.23it/s][A
[A
Models: 50%|█████ | 5/10 [00:01<00:02, 2.42it/s]
0%| | 0/100 [00:00<?, ?it/s][A
23%|██▎ | 23/100 [00:00<00:00, 210.28it/s][A
45%|████▌ | 45/100 [00:00<00:00, 189.03it/s][A
65%|██████▌ | 65/100 [00:00<00:00, 186.33it/s][A
93%|█████████▎| 93/100 [00:00<00:00, 212.70it/s][A
[A
Models: 60%|██████ | 6/10 [00:02<00:01, 2.31it/s]
0%| | 0/100 [00:00<?, ?it/s][A
36%|███▌ | 36/100 [00:00<00:00, 329.14it/s][A
72%|███████▏ | 72/100 [00:00<00:00, 329.14it/s][A
[A
Models: 70%|███████ | 7/10 [00:02<00:01, 2.58it/s]
0%| | 0/100 [00:00<?, ?it/s][A
37%|███▋ | 37/100 [00:00<00:00, 338.29it/s][A
71%|███████ | 71/100 [00:00<00:00, 257.29it/s][A
98%|█████████▊| 98/100 [00:00<00:00, 239.36it/s][A
[A
Models: 80%|████████ | 8/10 [00:03<00:00, 2.54it/s]
0%| | 0/100 [00:00<?, ?it/s][A
25%|██▌ | 25/100 [00:00<00:00, 228.58it/s][A
51%|█████ | 51/100 [00:00<00:00, 233.96it/s][A
78%|███████▊ | 78/100 [00:00<00:00, 239.37it/s][A
[A
Models: 90%|█████████ | 9/10 [00:03<00:00, 2.45it/s]
0%| | 0/100 [00:00<?, ?it/s][A
29%|██▉ | 29/100 [00:00<00:00, 265.14it/s][A
56%|█████▌ | 56/100 [00:00<00:00, 254.38it/s][A
82%|████████▏ | 82/100 [00:00<00:00, 246.78it/s][A
[A
Models: 100%|██████████| 10/10 [00:03<00:00, 2.46it/s]
Models: 100%|██████████| 10/10 [00:03<00:00, 2.57it/s]
Models: 0%| | 0/10 [00:00<?, ?it/s]
0%| | 0/100 [00:00<?, ?it/s][A
30%|███ | 30/100 [00:00<00:00, 274.30it/s][A
63%|██████▎ | 63/100 [00:00<00:00, 290.42it/s][A
[A
Models: 10%|█ | 1/10 [00:00<00:02, 3.20it/s]
0%| | 0/100 [00:00<?, ?it/s][A
30%|███ | 30/100 [00:00<00:00, 274.27it/s][A
60%|██████ | 60/100 [00:00<00:00, 274.27it/s][A
[A
Models: 20%|██ | 2/10 [00:00<00:02, 3.20it/s]
0%| | 0/100 [00:00<?, ?it/s][A
28%|██▊ | 28/100 [00:00<00:00, 256.03it/s][A
54%|█████▍ | 54/100 [00:00<00:00, 245.25it/s][A
79%|███████▉ | 79/100 [00:00<00:00, 237.64it/s][A
[A
Models: 30%|███ | 3/10 [00:01<00:02, 2.71it/s]
0%| | 0/100 [00:00<?, ?it/s][A
23%|██▎ | 23/100 [00:00<00:00, 210.30it/s][A
58%|█████▊ | 58/100 [00:00<00:00, 274.15it/s][A
86%|████████▌ | 86/100 [00:00<00:00, 265.87it/s][A
[A
Models: 40%|████ | 4/10 [00:01<00:02, 2.64it/s]
0%| | 0/100 [00:00<?, ?it/s][A
29%|██▉ | 29/100 [00:00<00:00, 265.13it/s][A
61%|██████ | 61/100 [00:00<00:00, 281.27it/s][A
96%|█████████▌| 96/100 [00:00<00:00, 298.95it/s][A
[A
Models: 50%|█████ | 5/10 [00:01<00:01, 2.78it/s]
0%| | 0/100 [00:00<?, ?it/s][A
34%|███▍ | 34/100 [00:00<00:00, 310.86it/s][A
66%|██████▌ | 66/100 [00:00<00:00, 256.92it/s][A
94%|█████████▍| 94/100 [00:00<00:00, 256.53it/s][A
[A
Models: 60%|██████ | 6/10 [00:02<00:01, 2.74it/s]
0%| | 0/100 [00:00<?, ?it/s][A
36%|███▌ | 36/100 [00:00<00:00, 327.71it/s][A
69%|██████▉ | 69/100 [00:00<00:00, 288.26it/s][A
[A
Models: 70%|███████ | 7/10 [00:02<00:01, 2.79it/s]
0%| | 0/100 [00:00<?, ?it/s][A
32%|███▏ | 32/100 [00:00<00:00, 292.60it/s][A
62%|██████▏ | 62/100 [00:00<00:00, 241.27it/s][A
94%|█████████▍| 94/100 [00:00<00:00, 262.74it/s][A
[A
Models: 80%|████████ | 8/10 [00:02<00:00, 2.75it/s]
0%| | 0/100 [00:00<?, ?it/s][A
27%|██▋ | 27/100 [00:00<00:00, 246.85it/s][A
52%|█████▏ | 52/100 [00:00<00:00, 217.80it/s][A
83%|████████▎ | 83/100 [00:00<00:00, 246.46it/s][A
[A
Models: 90%|█████████ | 9/10 [00:03<00:00, 2.62it/s]
0%| | 0/100 [00:00<?, ?it/s][A
24%|██▍ | 24/100 [00:00<00:00, 219.43it/s][A
47%|████▋ | 47/100 [00:00<00:00, 214.04it/s][A
70%|███████ | 70/100 [00:00<00:00, 212.34it/s][A
92%|█████████▏| 92/100 [00:00<00:00, 207.92it/s][A
[A
Models: 100%|██████████| 10/10 [00:03<00:00, 2.45it/s]
Models: 100%|██████████| 10/10 [00:03<00:00, 2.65it/s]
[ FAIL 0 | WARN 0 | SKIP 0 | PASS 29 ]
>
> proc.time()
user system elapsed
57.14 2.28 76.04
spatialDE.Rcheck/spatialDE-Ex.timings
| name | user | system | elapsed | |
| FSV_sig | 4.58 | 2.11 | 64.66 | |
| mockSVG | 0.28 | 0.03 | 0.28 | |
| modelSearch | 1.98 | 0.17 | 1.16 | |
| model_search | 1.83 | 0.21 | 1.02 | |
| multiGenePlots | 2.81 | 0.20 | 2.35 | |
| regress_out | 0.24 | 0.00 | 0.21 | |
| run | 1.14 | 0.16 | 0.67 | |
| spatialDE | 1.17 | 0.17 | 0.70 | |
| spatialPatterns | 1.28 | 0.14 | 0.77 | |
| spatial_patterns | 12.68 | 0.39 | 6.56 | |
| stabilize | 0.17 | 0.02 | 0.09 | |