| Back to Multiple platform build/check report for BioC 3.22: simplified long |
|
This page was generated on 2025-10-29 12:07 -0400 (Wed, 29 Oct 2025).
| Hostname | OS | Arch (*) | R version | Installed pkgs |
|---|---|---|---|---|
| nebbiolo2 | Linux (Ubuntu 24.04.3 LTS) | x86_64 | 4.5.1 Patched (2025-08-23 r88802) -- "Great Square Root" | 4901 |
| lconway | macOS 12.7.6 Monterey | x86_64 | 4.5.1 Patched (2025-09-10 r88807) -- "Great Square Root" | 4691 |
| kjohnson3 | macOS 13.7.7 Ventura | arm64 | 4.5.1 Patched (2025-09-10 r88807) -- "Great Square Root" | 4637 |
| Click on any hostname to see more info about the system (e.g. compilers) (*) as reported by 'uname -p', except on Windows and Mac OS X | ||||
| Package 2078/2361 | Hostname | OS / Arch | INSTALL | BUILD | CHECK | BUILD BIN | ||||||||
| spatialDE 1.15.1 (landing page) Gabriele Sales
| nebbiolo2 | Linux (Ubuntu 24.04.3 LTS) / x86_64 | OK | OK | OK | |||||||||
| lconway | macOS 12.7.6 Monterey / x86_64 | OK | OK | OK | OK | |||||||||
| kjohnson3 | macOS 13.7.7 Ventura / arm64 | OK | OK | OK | OK | |||||||||
|
To the developers/maintainers of the spatialDE package: - Allow up to 24 hours (and sometimes 48 hours) for your latest push to git@git.bioconductor.org:packages/spatialDE.git to reflect on this report. See Troubleshooting Build Report for more information. - Use the following Renviron settings to reproduce errors and warnings. - If 'R CMD check' started to fail recently on the Linux builder(s) over a missing dependency, add the missing dependency to 'Suggests:' in your DESCRIPTION file. See Renviron.bioc for more information. |
| Package: spatialDE |
| Version: 1.15.1 |
| Command: /Library/Frameworks/R.framework/Resources/bin/R CMD check --install=check:spatialDE.install-out.txt --library=/Library/Frameworks/R.framework/Resources/library --no-vignettes --timings spatialDE_1.15.1.tar.gz |
| StartedAt: 2025-10-29 00:24:34 -0400 (Wed, 29 Oct 2025) |
| EndedAt: 2025-10-29 00:29:20 -0400 (Wed, 29 Oct 2025) |
| EllapsedTime: 286.4 seconds |
| RetCode: 0 |
| Status: OK |
| CheckDir: spatialDE.Rcheck |
| Warnings: 0 |
##############################################################################
##############################################################################
###
### Running command:
###
### /Library/Frameworks/R.framework/Resources/bin/R CMD check --install=check:spatialDE.install-out.txt --library=/Library/Frameworks/R.framework/Resources/library --no-vignettes --timings spatialDE_1.15.1.tar.gz
###
##############################################################################
##############################################################################
* using log directory ‘/Users/biocbuild/bbs-3.22-bioc/meat/spatialDE.Rcheck’
* using R version 4.5.1 Patched (2025-09-10 r88807)
* using platform: x86_64-apple-darwin20
* R was compiled by
Apple clang version 14.0.0 (clang-1400.0.29.202)
GNU Fortran (GCC) 14.2.0
* running under: macOS Monterey 12.7.6
* using session charset: UTF-8
* using option ‘--no-vignettes’
* checking for file ‘spatialDE/DESCRIPTION’ ... OK
* this is package ‘spatialDE’ version ‘1.15.1’
* package encoding: UTF-8
* checking package namespace information ... OK
* checking package dependencies ... OK
* checking if this is a source package ... OK
* checking if there is a namespace ... OK
* checking for hidden files and directories ... OK
* checking for portable file names ... OK
* checking for sufficient/correct file permissions ... OK
* checking whether package ‘spatialDE’ can be installed ... NOTE
Found the following notes/warnings:
Non-staged installation was used
See ‘/Users/biocbuild/bbs-3.22-bioc/meat/spatialDE.Rcheck/00install.out’ for details.
* checking installed package size ... OK
* checking package directory ... OK
* checking ‘build’ directory ... OK
* checking DESCRIPTION meta-information ... OK
* checking top-level files ... OK
* checking for left-over files ... OK
* checking index information ... OK
* checking package subdirectories ... OK
* checking code files for non-ASCII characters ... OK
* checking R files for syntax errors ... OK
* checking whether the package can be loaded ... OK
* checking whether the package can be loaded with stated dependencies ... OK
* checking whether the package can be unloaded cleanly ... OK
* checking whether the namespace can be loaded with stated dependencies ... OK
* checking whether the namespace can be unloaded cleanly ... OK
* checking dependencies in R code ... OK
* checking S3 generic/method consistency ... OK
* checking replacement functions ... OK
* checking foreign function calls ... OK
* checking R code for possible problems ... OK
* checking Rd files ... OK
* checking Rd metadata ... OK
* checking Rd cross-references ... NOTE
Found the following Rd file(s) with Rd \link{} targets missing package
anchors:
mockSVG.Rd: SpatialExperiment-class
modelSearch.Rd: SpatialExperiment-class
multiGenePlots.Rd: SpatialExperiment-class
spatialDE.Rd: SpatialExperiment-class
spatialPatterns.Rd: SpatialExperiment-class
Please provide package anchors for all Rd \link{} targets not in the
package itself and the base packages.
* checking for missing documentation entries ... OK
* checking for code/documentation mismatches ... OK
* checking Rd \usage sections ... OK
* checking Rd contents ... OK
* checking for unstated dependencies in examples ... OK
* checking contents of ‘data’ directory ... OK
* checking data for non-ASCII characters ... OK
* checking data for ASCII and uncompressed saves ... OK
* checking line endings in shell scripts ... OK
* checking files in ‘vignettes’ ... OK
* checking examples ... OK
Examples with CPU (user + system) or elapsed time > 5s
user system elapsed
spatial_patterns 19.717 3.405 12.369
FSV_sig 5.217 1.714 6.899
* checking for unstated dependencies in ‘tests’ ... OK
* checking tests ...
Running ‘testthat.R’
OK
* checking for unstated dependencies in vignettes ... OK
* checking package vignettes ... OK
* checking running R code from vignettes ... SKIPPED
* checking re-building of vignette outputs ... SKIPPED
* checking PDF version of manual ... OK
* DONE
Status: 2 NOTEs
See
‘/Users/biocbuild/bbs-3.22-bioc/meat/spatialDE.Rcheck/00check.log’
for details.
spatialDE.Rcheck/00install.out
############################################################################## ############################################################################## ### ### Running command: ### ### /Library/Frameworks/R.framework/Resources/bin/R CMD INSTALL spatialDE ### ############################################################################## ############################################################################## * installing to library ‘/Library/Frameworks/R.framework/Versions/4.5-x86_64/Resources/library’ * installing *source* package ‘spatialDE’ ... ** this is package ‘spatialDE’ version ‘1.15.1’ ** using non-staged installation via StagedInstall field ** R ** data ** inst ** byte-compile and prepare package for lazy loading ** help *** installing help indices ** building package indices ** installing vignettes ** testing if installed package can be loaded * DONE (spatialDE)
spatialDE.Rcheck/tests/testthat.Rout
R version 4.5.1 Patched (2025-09-10 r88807) -- "Great Square Root"
Copyright (C) 2025 The R Foundation for Statistical Computing
Platform: x86_64-apple-darwin20
R is free software and comes with ABSOLUTELY NO WARRANTY.
You are welcome to redistribute it under certain conditions.
Type 'license()' or 'licence()' for distribution details.
R is a collaborative project with many contributors.
Type 'contributors()' for more information and
'citation()' on how to cite R or R packages in publications.
Type 'demo()' for some demos, 'help()' for on-line help, or
'help.start()' for an HTML browser interface to help.
Type 'q()' to quit R.
> library(testthat)
> library(spatialDE)
>
> test_check("spatialDE")
Loading required package: SingleCellExperiment
Loading required package: SummarizedExperiment
Loading required package: MatrixGenerics
Loading required package: matrixStats
Attaching package: 'MatrixGenerics'
The following objects are masked from 'package:matrixStats':
colAlls, colAnyNAs, colAnys, colAvgsPerRowSet, colCollapse,
colCounts, colCummaxs, colCummins, colCumprods, colCumsums,
colDiffs, colIQRDiffs, colIQRs, colLogSumExps, colMadDiffs,
colMads, colMaxs, colMeans2, colMedians, colMins, colOrderStats,
colProds, colQuantiles, colRanges, colRanks, colSdDiffs, colSds,
colSums2, colTabulates, colVarDiffs, colVars, colWeightedMads,
colWeightedMeans, colWeightedMedians, colWeightedSds,
colWeightedVars, rowAlls, rowAnyNAs, rowAnys, rowAvgsPerColSet,
rowCollapse, rowCounts, rowCummaxs, rowCummins, rowCumprods,
rowCumsums, rowDiffs, rowIQRDiffs, rowIQRs, rowLogSumExps,
rowMadDiffs, rowMads, rowMaxs, rowMeans2, rowMedians, rowMins,
rowOrderStats, rowProds, rowQuantiles, rowRanges, rowRanks,
rowSdDiffs, rowSds, rowSums2, rowTabulates, rowVarDiffs, rowVars,
rowWeightedMads, rowWeightedMeans, rowWeightedMedians,
rowWeightedSds, rowWeightedVars
Loading required package: GenomicRanges
Loading required package: stats4
Loading required package: BiocGenerics
Loading required package: generics
Attaching package: 'generics'
The following objects are masked from 'package:base':
as.difftime, as.factor, as.ordered, intersect, is.element, setdiff,
setequal, union
Attaching package: 'BiocGenerics'
The following objects are masked from 'package:stats':
IQR, mad, sd, var, xtabs
The following objects are masked from 'package:base':
Filter, Find, Map, Position, Reduce, anyDuplicated, aperm, append,
as.data.frame, basename, cbind, colnames, dirname, do.call,
duplicated, eval, evalq, get, grep, grepl, is.unsorted, lapply,
mapply, match, mget, order, paste, pmax, pmax.int, pmin, pmin.int,
rank, rbind, rownames, sapply, saveRDS, table, tapply, unique,
unsplit, which.max, which.min
Loading required package: S4Vectors
Attaching package: 'S4Vectors'
The following object is masked from 'package:utils':
findMatches
The following objects are masked from 'package:base':
I, expand.grid, unname
Loading required package: IRanges
Loading required package: Seqinfo
Loading required package: Biobase
Welcome to Bioconductor
Vignettes contain introductory material; view with
'browseVignettes()'. To cite Bioconductor, see
'citation("Biobase")', and for packages 'citation("pkgname")'.
Attaching package: 'Biobase'
The following object is masked from 'package:MatrixGenerics':
rowMedians
The following objects are masked from 'package:matrixStats':
anyMissing, rowMedians
Models: 0%| | 0/10 [00:00<?, ?it/s]
0%| | 0/100 [00:00<?, ?it/s][A
37%|███▋ | 37/100 [00:00<00:00, 368.86it/s][A
75%|███████▌ | 75/100 [00:00<00:00, 374.63it/s][A
[A
Models: 10%|█ | 1/10 [00:00<00:02, 3.53it/s]
0%| | 0/100 [00:00<?, ?it/s][A
33%|███▎ | 33/100 [00:00<00:00, 323.95it/s][A
66%|██████▌ | 66/100 [00:00<00:00, 296.30it/s][A
96%|█████████▌| 96/100 [00:00<00:00, 295.99it/s][A
[A
Models: 20%|██ | 2/10 [00:00<00:02, 3.15it/s]
0%| | 0/100 [00:00<?, ?it/s][A
25%|██▌ | 25/100 [00:00<00:00, 242.27it/s][A
52%|█████▏ | 52/100 [00:00<00:00, 253.76it/s][A
80%|████████ | 80/100 [00:00<00:00, 261.59it/s][A
[A
Models: 30%|███ | 3/10 [00:01<00:02, 2.83it/s]
0%| | 0/100 [00:00<?, ?it/s][A
25%|██▌ | 25/100 [00:00<00:00, 249.00it/s][A
54%|█████▍ | 54/100 [00:00<00:00, 269.19it/s][A
81%|████████ | 81/100 [00:00<00:00, 262.64it/s][A
[A
Models: 40%|████ | 4/10 [00:01<00:02, 2.74it/s]
0%| | 0/100 [00:00<?, ?it/s][A
26%|██▌ | 26/100 [00:00<00:00, 252.12it/s][A
52%|█████▏ | 52/100 [00:00<00:00, 239.97it/s][A
79%|███████▉ | 79/100 [00:00<00:00, 251.55it/s][A
[A
Models: 50%|█████ | 5/10 [00:01<00:01, 2.64it/s]
0%| | 0/100 [00:00<?, ?it/s][A
24%|██▍ | 24/100 [00:00<00:00, 234.05it/s][A
50%|█████ | 50/100 [00:00<00:00, 245.93it/s][A
75%|███████▌ | 75/100 [00:00<00:00, 241.02it/s][A
100%|██████████| 100/100 [00:00<00:00, 243.89it/s][A
[A
Models: 60%|██████ | 6/10 [00:02<00:01, 2.55it/s]
0%| | 0/100 [00:00<?, ?it/s][A
23%|██▎ | 23/100 [00:00<00:00, 226.00it/s][A
50%|█████ | 50/100 [00:00<00:00, 246.59it/s][A
77%|███████▋ | 77/100 [00:00<00:00, 253.44it/s][A
[A
Models: 70%|███████ | 7/10 [00:02<00:01, 2.53it/s]
0%| | 0/100 [00:00<?, ?it/s][A
26%|██▌ | 26/100 [00:00<00:00, 252.01it/s][A
52%|█████▏ | 52/100 [00:00<00:00, 231.85it/s][A
80%|████████ | 80/100 [00:00<00:00, 250.85it/s][A
[A
Models: 80%|████████ | 8/10 [00:03<00:00, 2.51it/s]
0%| | 0/100 [00:00<?, ?it/s][A
28%|██▊ | 28/100 [00:00<00:00, 279.25it/s][A
56%|█████▌ | 56/100 [00:00<00:00, 247.07it/s][A
81%|████████ | 81/100 [00:00<00:00, 248.01it/s][A
[A
Models: 90%|█████████ | 9/10 [00:03<00:00, 2.40it/s]
0%| | 0/100 [00:00<?, ?it/s][A
31%|███ | 31/100 [00:00<00:00, 298.10it/s][A
61%|██████ | 61/100 [00:00<00:00, 271.02it/s][A
89%|████████▉ | 89/100 [00:00<00:00, 270.13it/s][A
[A
Models: 100%|██████████| 10/10 [00:03<00:00, 2.49it/s]
Models: 100%|██████████| 10/10 [00:03<00:00, 2.59it/s]
Models: 0%| | 0/10 [00:00<?, ?it/s]
0%| | 0/100 [00:00<?, ?it/s][A
39%|███▉ | 39/100 [00:00<00:00, 382.90it/s][A
78%|███████▊ | 78/100 [00:00<00:00, 383.97it/s][A
[A
Models: 10%|█ | 1/10 [00:00<00:02, 3.77it/s]
0%| | 0/100 [00:00<?, ?it/s][A
29%|██▉ | 29/100 [00:00<00:00, 282.74it/s][A
58%|█████▊ | 58/100 [00:00<00:00, 263.12it/s][A
85%|████████▌ | 85/100 [00:00<00:00, 260.67it/s][A
[A
Models: 20%|██ | 2/10 [00:00<00:02, 3.01it/s]
0%| | 0/100 [00:00<?, ?it/s][A
30%|███ | 30/100 [00:00<00:00, 295.16it/s][A
60%|██████ | 60/100 [00:00<00:00, 264.08it/s][A
87%|████████▋ | 87/100 [00:00<00:00, 259.34it/s][A
[A
Models: 30%|███ | 3/10 [00:01<00:02, 2.81it/s]
0%| | 0/100 [00:00<?, ?it/s][A
30%|███ | 30/100 [00:00<00:00, 291.19it/s][A
60%|██████ | 60/100 [00:00<00:00, 276.85it/s][A
88%|████████▊ | 88/100 [00:00<00:00, 264.96it/s][A
[A
Models: 40%|████ | 4/10 [00:01<00:02, 2.73it/s]
0%| | 0/100 [00:00<?, ?it/s][A
28%|██▊ | 28/100 [00:00<00:00, 274.39it/s][A
56%|█████▌ | 56/100 [00:00<00:00, 273.92it/s][A
84%|████████▍ | 84/100 [00:00<00:00, 256.51it/s][A
[A
Models: 50%|█████ | 5/10 [00:01<00:01, 2.66it/s]
0%| | 0/100 [00:00<?, ?it/s][A
29%|██▉ | 29/100 [00:00<00:00, 287.58it/s][A
58%|█████▊ | 58/100 [00:00<00:00, 253.37it/s][A
84%|████████▍ | 84/100 [00:00<00:00, 241.85it/s][A
[A
Models: 60%|██████ | 6/10 [00:02<00:01, 2.57it/s]
0%| | 0/100 [00:00<?, ?it/s][A
27%|██▋ | 27/100 [00:00<00:00, 262.01it/s][A
54%|█████▍ | 54/100 [00:00<00:00, 249.63it/s][A
80%|████████ | 80/100 [00:00<00:00, 244.23it/s][A
[A
Models: 70%|███████ | 7/10 [00:02<00:01, 2.51it/s]
0%| | 0/100 [00:00<?, ?it/s][A
26%|██▌ | 26/100 [00:00<00:00, 251.26it/s][A
52%|█████▏ | 52/100 [00:00<00:00, 237.77it/s][A
76%|███████▌ | 76/100 [00:00<00:00, 237.28it/s][A
100%|██████████| 100/100 [00:00<00:00, 235.10it/s][A
[A
Models: 80%|████████ | 8/10 [00:03<00:00, 2.46it/s]
0%| | 0/100 [00:00<?, ?it/s][A
27%|██▋ | 27/100 [00:00<00:00, 263.23it/s][A
54%|█████▍ | 54/100 [00:00<00:00, 245.43it/s][A
80%|████████ | 80/100 [00:00<00:00, 247.65it/s][A
[A
Models: 90%|█████████ | 9/10 [00:03<00:00, 2.46it/s]
0%| | 0/100 [00:00<?, ?it/s][A
28%|██▊ | 28/100 [00:00<00:00, 277.43it/s][A
56%|█████▌ | 56/100 [00:00<00:00, 256.17it/s][A
82%|████████▏ | 82/100 [00:00<00:00, 253.89it/s][A
[A
Models: 100%|██████████| 10/10 [00:03<00:00, 2.51it/s]
Models: 100%|██████████| 10/10 [00:03<00:00, 2.60it/s]
/Users/biocbuild/Library/Caches/org.R-project.R/R/basilisk/1.21.5/spatialDE/1.15.1/env/lib/python3.11/site-packages/pandas/core/internals/blocks.py:351: RuntimeWarning: invalid value encountered in log
result = func(self.values, **kwargs)
Models: 0%| | 0/10 [00:00<?, ?it/s]
0%| | 0/100 [00:00<?, ?it/s][A
39%|███▉ | 39/100 [00:00<00:00, 382.38it/s][A
78%|███████▊ | 78/100 [00:00<00:00, 374.84it/s][A
[A
Models: 10%|█ | 1/10 [00:00<00:02, 3.79it/s]
0%| | 0/100 [00:00<?, ?it/s][A
30%|███ | 30/100 [00:00<00:00, 294.26it/s][A
60%|██████ | 60/100 [00:00<00:00, 262.93it/s][A
87%|████████▋ | 87/100 [00:00<00:00, 264.98it/s][A
[A
Models: 20%|██ | 2/10 [00:00<00:02, 3.02it/s]
0%| | 0/100 [00:00<?, ?it/s][A
27%|██▋ | 27/100 [00:00<00:00, 266.28it/s][A
54%|█████▍ | 54/100 [00:00<00:00, 245.30it/s][A
79%|███████▉ | 79/100 [00:00<00:00, 242.13it/s][A
[A
Models: 30%|███ | 3/10 [00:01<00:02, 2.74it/s]
0%| | 0/100 [00:00<?, ?it/s][A
26%|██▌ | 26/100 [00:00<00:00, 245.35it/s][A
51%|█████ | 51/100 [00:00<00:00, 230.44it/s][A
75%|███████▌ | 75/100 [00:00<00:00, 231.08it/s][A
99%|█████████▉| 99/100 [00:00<00:00, 231.71it/s][A
[A
Models: 40%|████ | 4/10 [00:01<00:02, 2.55it/s]
0%| | 0/100 [00:00<?, ?it/s][A
24%|██▍ | 24/100 [00:00<00:00, 238.81it/s][A
48%|████▊ | 48/100 [00:00<00:00, 232.59it/s][A
73%|███████▎ | 73/100 [00:00<00:00, 237.53it/s][A
97%|█████████▋| 97/100 [00:00<00:00, 233.09it/s][A
[A
Models: 50%|█████ | 5/10 [00:01<00:02, 2.46it/s]
0%| | 0/100 [00:00<?, ?it/s][A
27%|██▋ | 27/100 [00:00<00:00, 263.07it/s][A
54%|█████▍ | 54/100 [00:00<00:00, 240.42it/s][A
79%|███████▉ | 79/100 [00:00<00:00, 239.08it/s][A
[A
Models: 60%|██████ | 6/10 [00:02<00:01, 2.44it/s]
0%| | 0/100 [00:00<?, ?it/s][A
27%|██▋ | 27/100 [00:00<00:00, 265.22it/s][A
57%|█████▋ | 57/100 [00:00<00:00, 281.24it/s][A
86%|████████▌ | 86/100 [00:00<00:00, 264.23it/s][A
[A
Models: 70%|███████ | 7/10 [00:02<00:01, 2.50it/s]
0%| | 0/100 [00:00<?, ?it/s][A
26%|██▌ | 26/100 [00:00<00:00, 259.66it/s][A
52%|█████▏ | 52/100 [00:00<00:00, 237.03it/s][A
76%|███████▌ | 76/100 [00:00<00:00, 233.71it/s][A
[A
Models: 80%|████████ | 8/10 [00:03<00:00, 2.46it/s]
0%| | 0/100 [00:00<?, ?it/s][A
26%|██▌ | 26/100 [00:00<00:00, 253.51it/s][A
52%|█████▏ | 52/100 [00:00<00:00, 244.75it/s][A
77%|███████▋ | 77/100 [00:00<00:00, 237.60it/s][A
[A
Models: 90%|█████████ | 9/10 [00:03<00:00, 2.40it/s]
0%| | 0/100 [00:00<?, ?it/s][A
27%|██▋ | 27/100 [00:00<00:00, 262.32it/s][A
54%|█████▍ | 54/100 [00:00<00:00, 264.38it/s][A
81%|████████ | 81/100 [00:00<00:00, 261.93it/s][A
[A
Models: 100%|██████████| 10/10 [00:03<00:00, 2.46it/s]
Models: 100%|██████████| 10/10 [00:03<00:00, 2.53it/s]
Models: 0%| | 0/10 [00:00<?, ?it/s]
0%| | 0/100 [00:00<?, ?it/s][A
36%|███▌ | 36/100 [00:00<00:00, 345.79it/s][A
71%|███████ | 71/100 [00:00<00:00, 308.77it/s][A
[A
Models: 10%|█ | 1/10 [00:00<00:02, 3.09it/s]
0%| | 0/100 [00:00<?, ?it/s][A
25%|██▌ | 25/100 [00:00<00:00, 245.26it/s][A
52%|█████▏ | 52/100 [00:00<00:00, 258.88it/s][A
78%|███████▊ | 78/100 [00:00<00:00, 256.78it/s][A
[A
Models: 20%|██ | 2/10 [00:00<00:02, 2.73it/s]
0%| | 0/100 [00:00<?, ?it/s][A
27%|██▋ | 27/100 [00:00<00:00, 265.90it/s][A
54%|█████▍ | 54/100 [00:00<00:00, 246.14it/s][A
79%|███████▉ | 79/100 [00:00<00:00, 243.91it/s][A
[A
Models: 30%|███ | 3/10 [00:01<00:02, 2.60it/s]
0%| | 0/100 [00:00<?, ?it/s][A
24%|██▍ | 24/100 [00:00<00:00, 237.13it/s][A
49%|████▉ | 49/100 [00:00<00:00, 237.79it/s][A
73%|███████▎ | 73/100 [00:00<00:00, 231.56it/s][A
98%|█████████▊| 98/100 [00:00<00:00, 238.15it/s][A
[A
Models: 40%|████ | 4/10 [00:01<00:02, 2.50it/s]
0%| | 0/100 [00:00<?, ?it/s][A
28%|██▊ | 28/100 [00:00<00:00, 268.11it/s][A
55%|█████▌ | 55/100 [00:00<00:00, 218.39it/s][A
78%|███████▊ | 78/100 [00:00<00:00, 211.84it/s][A
[A
Models: 50%|█████ | 5/10 [00:01<00:02, 2.40it/s]
0%| | 0/100 [00:00<?, ?it/s][A
26%|██▌ | 26/100 [00:00<00:00, 253.30it/s][A
52%|█████▏ | 52/100 [00:00<00:00, 250.01it/s][A
78%|███████▊ | 78/100 [00:00<00:00, 225.58it/s][A
[A
Models: 60%|██████ | 6/10 [00:02<00:01, 2.35it/s]
0%| | 0/100 [00:00<?, ?it/s][A
26%|██▌ | 26/100 [00:00<00:00, 254.29it/s][A
52%|█████▏ | 52/100 [00:00<00:00, 244.04it/s][A
78%|███████▊ | 78/100 [00:00<00:00, 247.40it/s][A
[A
Models: 70%|███████ | 7/10 [00:02<00:01, 2.40it/s]
0%| | 0/100 [00:00<?, ?it/s][A
27%|██▋ | 27/100 [00:00<00:00, 259.81it/s][A
53%|█████▎ | 53/100 [00:00<00:00, 235.48it/s][A
77%|███████▋ | 77/100 [00:00<00:00, 232.06it/s][A
[A
Models: 80%|████████ | 8/10 [00:03<00:00, 2.40it/s]
0%| | 0/100 [00:00<?, ?it/s][A
29%|██▉ | 29/100 [00:00<00:00, 287.13it/s][A
58%|█████▊ | 58/100 [00:00<00:00, 271.01it/s][A
86%|████████▌ | 86/100 [00:00<00:00, 273.97it/s][A
[A
Models: 90%|█████████ | 9/10 [00:03<00:00, 2.51it/s]
0%| | 0/100 [00:00<?, ?it/s][A
29%|██▉ | 29/100 [00:00<00:00, 278.05it/s][A
57%|█████▋ | 57/100 [00:00<00:00, 278.69it/s][A
85%|████████▌ | 85/100 [00:00<00:00, 275.36it/s][A
[A
Models: 100%|██████████| 10/10 [00:03<00:00, 2.58it/s]
Models: 100%|██████████| 10/10 [00:03<00:00, 2.51it/s]
Models: 0%| | 0/10 [00:00<?, ?it/s]
0%| | 0/100 [00:00<?, ?it/s][A
36%|███▌ | 36/100 [00:00<00:00, 354.78it/s][A
74%|███████▍ | 74/100 [00:00<00:00, 363.24it/s][A
[A
Models: 10%|█ | 1/10 [00:00<00:02, 3.45it/s]
0%| | 0/100 [00:00<?, ?it/s][A
32%|███▏ | 32/100 [00:00<00:00, 311.80it/s][A
64%|██████▍ | 64/100 [00:00<00:00, 272.72it/s][A
93%|█████████▎| 93/100 [00:00<00:00, 275.33it/s][A
[A
Models: 20%|██ | 2/10 [00:00<00:02, 3.03it/s]
0%| | 0/100 [00:00<?, ?it/s][A
31%|███ | 31/100 [00:00<00:00, 300.70it/s][A
62%|██████▏ | 62/100 [00:00<00:00, 270.55it/s][A
91%|█████████ | 91/100 [00:00<00:00, 275.10it/s][A
[A
Models: 30%|███ | 3/10 [00:01<00:02, 2.90it/s]
0%| | 0/100 [00:00<?, ?it/s][A
28%|██▊ | 28/100 [00:00<00:00, 268.33it/s][A
55%|█████▌ | 55/100 [00:00<00:00, 233.15it/s][A
79%|███████▉ | 79/100 [00:00<00:00, 231.30it/s][A
[A
Models: 40%|████ | 4/10 [00:01<00:02, 2.70it/s]
0%| | 0/100 [00:00<?, ?it/s][A
26%|██▌ | 26/100 [00:00<00:00, 254.70it/s][A
52%|█████▏ | 52/100 [00:00<00:00, 232.97it/s][A
76%|███████▌ | 76/100 [00:00<00:00, 225.10it/s][A
99%|█████████▉| 99/100 [00:00<00:00, 223.58it/s][A
[A
Models: 50%|█████ | 5/10 [00:01<00:01, 2.52it/s]
0%| | 0/100 [00:00<?, ?it/s][A
26%|██▌ | 26/100 [00:00<00:00, 257.45it/s][A
52%|█████▏ | 52/100 [00:00<00:00, 248.23it/s][A
77%|███████▋ | 77/100 [00:00<00:00, 236.82it/s][A
[A
Models: 60%|██████ | 6/10 [00:02<00:01, 2.49it/s]
0%| | 0/100 [00:00<?, ?it/s][A
25%|██▌ | 25/100 [00:00<00:00, 247.86it/s][A
50%|█████ | 50/100 [00:00<00:00, 234.49it/s][A
74%|███████▍ | 74/100 [00:00<00:00, 232.05it/s][A
99%|█████████▉| 99/100 [00:00<00:00, 237.20it/s][A
[A
Models: 70%|███████ | 7/10 [00:02<00:01, 2.44it/s]
0%| | 0/100 [00:00<?, ?it/s][A
28%|██▊ | 28/100 [00:00<00:00, 273.27it/s][A
56%|█████▌ | 56/100 [00:00<00:00, 235.09it/s][A
80%|████████ | 80/100 [00:00<00:00, 229.25it/s][A
[A
Models: 80%|████████ | 8/10 [00:03<00:00, 2.42it/s]
0%| | 0/100 [00:00<?, ?it/s][A
26%|██▌ | 26/100 [00:00<00:00, 249.08it/s][A
51%|█████ | 51/100 [00:00<00:00, 240.36it/s][A
76%|███████▌ | 76/100 [00:00<00:00, 237.01it/s][A
100%|██████████| 100/100 [00:00<00:00, 230.10it/s][A
[A
Models: 90%|█████████ | 9/10 [00:03<00:00, 2.39it/s]
0%| | 0/100 [00:00<?, ?it/s][A
25%|██▌ | 25/100 [00:00<00:00, 248.42it/s][A
55%|█████▌ | 55/100 [00:00<00:00, 271.59it/s][A
83%|████████▎ | 83/100 [00:00<00:00, 272.18it/s][A
[A
Models: 100%|██████████| 10/10 [00:03<00:00, 2.48it/s]
Models: 100%|██████████| 10/10 [00:03<00:00, 2.55it/s]
[ FAIL 0 | WARN 0 | SKIP 0 | PASS 29 ]
>
> proc.time()
user system elapsed
61.571 4.382 57.231
/Users/biocbuild/.pyenv/versions/3.11.13/lib/python3.11/multiprocessing/resource_tracker.py:254: UserWarning: resource_tracker: There appear to be 1 leaked semaphore objects to clean up at shutdown
warnings.warn('resource_tracker: There appear to be %d '
spatialDE.Rcheck/spatialDE-Ex.timings
| name | user | system | elapsed | |
| FSV_sig | 5.217 | 1.714 | 6.899 | |
| mockSVG | 0.180 | 0.023 | 0.205 | |
| modelSearch | 2.756 | 0.510 | 2.360 | |
| model_search | 1.665 | 0.384 | 1.152 | |
| multiGenePlots | 2.161 | 0.271 | 1.923 | |
| regress_out | 0.111 | 0.005 | 0.117 | |
| run | 0.883 | 0.161 | 0.657 | |
| spatialDE | 0.967 | 0.211 | 0.722 | |
| spatialPatterns | 1.586 | 0.312 | 1.069 | |
| spatial_patterns | 19.717 | 3.405 | 12.369 | |
| stabilize | 0.096 | 0.016 | 0.058 | |