Back to Build/check report for BioC 3.23:   simplified   long
ABCDEFGHIJKLMNOPQR[S]TUVWXYZ

This page was generated on 2025-11-05 11:32 -0500 (Wed, 05 Nov 2025).

HostnameOSArch (*)R versionInstalled pkgs
nebbiolo1Linux (Ubuntu 24.04.3 LTS)x86_64R Under development (unstable) (2025-10-20 r88955) -- "Unsuffered Consequences" 4818
Click on any hostname to see more info about the system (e.g. compilers)      (*) as reported by 'uname -p', except on Windows and Mac OS X

All results for package scran


To the developers/maintainers of the scran package:
- Allow up to 24 hours (and sometimes 48 hours) for your latest push to git@git.bioconductor.org:packages/scran.git to reflect on this report. See Troubleshooting Build Report for more information.
- Use the following Renviron settings to reproduce errors and warnings.
- If 'R CMD check' started to fail recently on the Linux builder(s) over a missing dependency, add the missing dependency to 'Suggests:' in your DESCRIPTION file. See Renviron.bioc for more information.

raw results

Package 1918/2323HostnameOS / ArchINSTALLBUILDCHECKBUILD BIN
scran 1.39.0  (landing page)
Aaron Lun
Snapshot Date: 2025-11-04 13:40 -0500 (Tue, 04 Nov 2025)
git_url: https://git.bioconductor.org/packages/scran
git_branch: devel
git_last_commit: 5b4b8a1
git_last_commit_date: 2025-10-29 10:31:34 -0500 (Wed, 29 Oct 2025)
nebbiolo1Linux (Ubuntu 24.04.3 LTS) / x86_64  OK    OK    WARNINGS  UNNEEDED, same version is already published



Results for Bioconductor software packages that depend directly on package scran

QUICK STATSOS / ArchINSTALLBUILDCHECKBUILD BIN
nebbiolo1Linux (Ubuntu 24.04.3 LTS) / x86_64
0028
0028
00424
Package 1/28HostnameOS / ArchINSTALLBUILDCHECKBUILD BIN
BASiCS 2.23.0  (landing page)
Catalina Vallejos
git_last_commit: c192aba
git_last_commit_date: 2025-10-29 10:41:03 -0500
nebbiolo1Linux (Ubuntu 24.04.3 LTS) / x86_64  OK    OK    WARNINGS  UNNEEDED, same version is already published
Package 2/28HostnameOS / ArchINSTALLBUILDCHECKBUILD BIN
BASiCStan 1.13.0  (landing page)
Alan O'Callaghan
git_last_commit: a442827
git_last_commit_date: 2025-10-29 11:18:18 -0500
nebbiolo1Linux (Ubuntu 24.04.3 LTS) / x86_64  OK    OK    OK  UNNEEDED, same version is already published
Package 3/28HostnameOS / ArchINSTALLBUILDCHECKBUILD BIN
BatchQC 2.7.0  (landing page)
Jessica Anderson
git_last_commit: bfa8664
git_last_commit_date: 2025-10-29 10:31:36 -0500
nebbiolo1Linux (Ubuntu 24.04.3 LTS) / x86_64  OK    OK    OK  UNNEEDED, same version is already published
Package 4/28HostnameOS / ArchINSTALLBUILDCHECKBUILD BIN
BayesSpace 1.21.0  (landing page)
Senbai Kang
git_last_commit: 47c1795
git_last_commit_date: 2025-10-29 11:03:05 -0500
nebbiolo1Linux (Ubuntu 24.04.3 LTS) / x86_64  OK    OK    OK  UNNEEDED, same version is already published
Package 5/28HostnameOS / ArchINSTALLBUILDCHECKBUILD BIN
BioTIP 1.25.0  (landing page)
Felix Yu and X Holly Yang
git_last_commit: ba9af28
git_last_commit_date: 2025-10-29 10:54:37 -0500
nebbiolo1Linux (Ubuntu 24.04.3 LTS) / x86_64  OK    OK    WARNINGS  UNNEEDED, same version is already published
Package 6/28HostnameOS / ArchINSTALLBUILDCHECKBUILD BIN
celda 1.27.0  (landing page)
Joshua Campbell
git_last_commit: 9bcee6f
git_last_commit_date: 2025-10-29 10:52:12 -0500
nebbiolo1Linux (Ubuntu 24.04.3 LTS) / x86_64  OK    OK    OK  YES
Package 7/28HostnameOS / ArchINSTALLBUILDCHECKBUILD BIN
chevreulPlot 1.3.0  (landing page)
Kevin Stachelek
git_last_commit: a18fe12
git_last_commit_date: 2025-10-29 11:34:14 -0500
nebbiolo1Linux (Ubuntu 24.04.3 LTS) / x86_64  OK    OK    OK  YES
Package 8/28HostnameOS / ArchINSTALLBUILDCHECKBUILD BIN
chevreulProcess 1.3.0  (landing page)
Kevin Stachelek
git_last_commit: c6b3ecf
git_last_commit_date: 2025-10-29 11:34:17 -0500
nebbiolo1Linux (Ubuntu 24.04.3 LTS) / x86_64  OK    OK    OK  YES
Package 9/28HostnameOS / ArchINSTALLBUILDCHECKBUILD BIN
ChromSCape 1.21.0  (landing page)
Pacome Prompsy
git_last_commit: 47d0ff7
git_last_commit_date: 2025-10-29 11:02:56 -0500
nebbiolo1Linux (Ubuntu 24.04.3 LTS) / x86_64  OK    OK    WARNINGS  YES
Package 10/28HostnameOS / ArchINSTALLBUILDCHECKBUILD BIN
CiteFuse 1.23.0  (landing page)
Yingxin Lin
git_last_commit: ef26cba
git_last_commit_date: 2025-10-29 10:58:33 -0500
nebbiolo1Linux (Ubuntu 24.04.3 LTS) / x86_64  OK    OK    OK  UNNEEDED, same version is already published
Package 11/28HostnameOS / ArchINSTALLBUILDCHECKBUILD BIN
Coralysis 1.1.0  (landing page)
António Sousa
git_last_commit: 94d3ee0
git_last_commit_date: 2025-10-29 11:36:31 -0500
nebbiolo1Linux (Ubuntu 24.04.3 LTS) / x86_64  OK    OK    OK  UNNEEDED, same version is already published
Package 12/28HostnameOS / ArchINSTALLBUILDCHECKBUILD BIN
DeconvoBuddies 1.3.0  (landing page)
Louise Huuki-Myers
git_last_commit: a72d7d5
git_last_commit_date: 2025-10-29 11:35:32 -0500
nebbiolo1Linux (Ubuntu 24.04.3 LTS) / x86_64  OK    OK    OK  UNNEEDED, same version is already published
Package 13/28HostnameOS / ArchINSTALLBUILDCHECKBUILD BIN
Dino 1.17.0  (landing page)
Jared Brown
git_last_commit: 89317b9
git_last_commit_date: 2025-10-29 11:10:41 -0500
nebbiolo1Linux (Ubuntu 24.04.3 LTS) / x86_64  OK    OK    OK  UNNEEDED, same version is already published
Package 14/28HostnameOS / ArchINSTALLBUILDCHECKBUILD BIN
epiregulon 2.1.0  (landing page)
Xiaosai Yao
git_last_commit: eec881c
git_last_commit_date: 2025-10-29 11:30:12 -0500
nebbiolo1Linux (Ubuntu 24.04.3 LTS) / x86_64  OK    OK    OK  YES
Package 15/28HostnameOS / ArchINSTALLBUILDCHECKBUILD BIN
epiregulon.extra 1.7.0  (landing page)
Xiaosai Yao
git_last_commit: a48846b
git_last_commit_date: 2025-10-29 11:30:15 -0500
nebbiolo1Linux (Ubuntu 24.04.3 LTS) / x86_64  OK    OK    OK  YES
Package 16/28HostnameOS / ArchINSTALLBUILDCHECKBUILD BIN
FLAMES 2.5.1  (landing page)
Changqing Wang
git_last_commit: 7887658
git_last_commit_date: 2025-10-31 02:11:54 -0500
nebbiolo1Linux (Ubuntu 24.04.3 LTS) / x86_64  OK    OK    OK  YES
Package 17/28HostnameOS / ArchINSTALLBUILDCHECKBUILD BIN
MOSim 2.7.0  (landing page)
Sonia Tarazona
git_last_commit: 3237896
git_last_commit_date: 2025-10-29 10:53:49 -0500
nebbiolo1Linux (Ubuntu 24.04.3 LTS) / x86_64  OK    OK    WARNINGS  UNNEEDED, same version is already published
Package 18/28HostnameOS / ArchINSTALLBUILDCHECKBUILD BIN
MPAC 1.5.0  (landing page)
Peng Liu
git_last_commit: f287ddc
git_last_commit_date: 2025-10-29 11:30:37 -0500
nebbiolo1Linux (Ubuntu 24.04.3 LTS) / x86_64  OK    OK    OK  UNNEEDED, same version is already published
Package 19/28HostnameOS / ArchINSTALLBUILDCHECKBUILD BIN
msImpute 1.21.0  (landing page)
Soroor Hediyeh-zadeh
git_last_commit: 1f62ae8
git_last_commit_date: 2025-10-29 11:02:31 -0500
nebbiolo1Linux (Ubuntu 24.04.3 LTS) / x86_64  OK    OK    OK  UNNEEDED, same version is already published
Package 20/28HostnameOS / ArchINSTALLBUILDCHECKBUILD BIN
mumosa 1.19.0  (landing page)
Aaron Lun
git_last_commit: 67c3814
git_last_commit_date: 2025-10-29 11:05:15 -0500
nebbiolo1Linux (Ubuntu 24.04.3 LTS) / x86_64  OK    OK    OK  UNNEEDED, same version is already published
Package 21/28HostnameOS / ArchINSTALLBUILDCHECKBUILD BIN
pipeComp 1.21.0  (landing page)
Pierre-Luc Germain
git_last_commit: 826f159
git_last_commit_date: 2025-10-29 11:00:20 -0500
nebbiolo1Linux (Ubuntu 24.04.3 LTS) / x86_64  OK    OK    OK  UNNEEDED, same version is already published
Package 22/28HostnameOS / ArchINSTALLBUILDCHECKBUILD BIN
scDblFinder 1.25.0  (landing page)
Pierre-Luc Germain
git_last_commit: dffe1fe
git_last_commit_date: 2025-10-29 10:55:23 -0500
nebbiolo1Linux (Ubuntu 24.04.3 LTS) / x86_64  OK    OK    OK  YES
Package 23/28HostnameOS / ArchINSTALLBUILDCHECKBUILD BIN
scDD 1.35.0  (landing page)
Keegan Korthauer
git_last_commit: c088d52
git_last_commit_date: 2025-10-29 10:36:02 -0500
nebbiolo1Linux (Ubuntu 24.04.3 LTS) / x86_64  OK    OK    OK  UNNEEDED, same version is already published
Package 24/28HostnameOS / ArchINSTALLBUILDCHECKBUILD BIN
scMerge 1.27.0  (landing page)
Yingxin Lin
git_last_commit: 1741f7e
git_last_commit_date: 2025-10-29 10:51:54 -0500
nebbiolo1Linux (Ubuntu 24.04.3 LTS) / x86_64  OK    OK    OK  UNNEEDED, same version is already published
Package 25/28HostnameOS / ArchINSTALLBUILDCHECKBUILD BIN
scTreeViz 1.17.0  (landing page)
Jayaram Kancherla
git_last_commit: 8bb53d8
git_last_commit_date: 2025-10-29 11:12:36 -0500
nebbiolo1Linux (Ubuntu 24.04.3 LTS) / x86_64  OK    OK    OK  YES
Package 26/28HostnameOS / ArchINSTALLBUILDCHECKBUILD BIN
singleCellTK 2.21.0  (landing page)
Joshua David Campbell
git_last_commit: 4895b66
git_last_commit_date: 2025-10-29 11:29:49 -0500
nebbiolo1Linux (Ubuntu 24.04.3 LTS) / x86_64  OK    OK    OK  YES
Package 27/28HostnameOS / ArchINSTALLBUILDCHECKBUILD BIN
Spaniel 1.25.0  (landing page)
Rachel Queen
git_last_commit: b3f45b0
git_last_commit_date: 2025-10-29 10:54:28 -0500
nebbiolo1Linux (Ubuntu 24.04.3 LTS) / x86_64  OK    OK    OK  UNNEEDED, same version is already published
Package 28/28HostnameOS / ArchINSTALLBUILDCHECKBUILD BIN
SpaNorm 1.5.0  (landing page)
Dharmesh D. Bhuva
git_last_commit: 2845190
git_last_commit_date: 2025-10-29 11:32:47 -0500
nebbiolo1Linux (Ubuntu 24.04.3 LTS) / x86_64  OK    OK    OK  UNNEEDED, same version is already published