Back to Multiple platform build/check report for BioC 3.23:   simplified   long
ABCDEFGHIJKLMNOPQR[S]TUVWXYZ

This page was generated on 2025-11-21 11:39 -0500 (Fri, 21 Nov 2025).

HostnameOSArch (*)R versionInstalled pkgs
nebbiolo1Linux (Ubuntu 24.04.3 LTS)x86_64R Under development (unstable) (2025-10-20 r88955) -- "Unsuffered Consequences" 4829
lconwaymacOS 12.7.6 Montereyx86_64R Under development (unstable) (2025-10-21 r88958) -- "Unsuffered Consequences" 4602
kjohnson3macOS 13.7.7 Venturaarm64R Under development (unstable) (2025-11-04 r88984) -- "Unsuffered Consequences" 4566
Click on any hostname to see more info about the system (e.g. compilers)      (*) as reported by 'uname -p', except on Windows and Mac OS X

Package 1899/2327HostnameOS / ArchINSTALLBUILDCHECKBUILD BIN
scGraphVerse 1.1.0  (landing page)
Francesco Cecere
Snapshot Date: 2025-11-20 13:40 -0500 (Thu, 20 Nov 2025)
git_url: https://git.bioconductor.org/packages/scGraphVerse
git_branch: devel
git_last_commit: 1e63abe
git_last_commit_date: 2025-10-29 11:38:49 -0500 (Wed, 29 Oct 2025)
nebbiolo1Linux (Ubuntu 24.04.3 LTS) / x86_64  OK    OK    OK  UNNEEDED, same version is already published
lconwaymacOS 12.7.6 Monterey / x86_64  OK    OK    OK    OK  UNNEEDED, same version is already published
kjohnson3macOS 13.7.7 Ventura / arm64  OK    OK    OK    OK  UNNEEDED, same version is already published


CHECK results for scGraphVerse on lconway

To the developers/maintainers of the scGraphVerse package:
- Allow up to 24 hours (and sometimes 48 hours) for your latest push to git@git.bioconductor.org:packages/scGraphVerse.git to reflect on this report. See Troubleshooting Build Report for more information.
- Use the following Renviron settings to reproduce errors and warnings.
- If 'R CMD check' started to fail recently on the Linux builder(s) over a missing dependency, add the missing dependency to 'Suggests:' in your DESCRIPTION file. See Renviron.bioc for more information.

raw results


Summary

Package: scGraphVerse
Version: 1.1.0
Command: /Library/Frameworks/R.framework/Resources/bin/R CMD check --install=check:scGraphVerse.install-out.txt --library=/Library/Frameworks/R.framework/Resources/library --no-vignettes --timings scGraphVerse_1.1.0.tar.gz
StartedAt: 2025-11-20 23:56:35 -0500 (Thu, 20 Nov 2025)
EndedAt: 2025-11-21 00:13:28 -0500 (Fri, 21 Nov 2025)
EllapsedTime: 1013.0 seconds
RetCode: 0
Status:   OK  
CheckDir: scGraphVerse.Rcheck
Warnings: 0

Command output

##############################################################################
##############################################################################
###
### Running command:
###
###   /Library/Frameworks/R.framework/Resources/bin/R CMD check --install=check:scGraphVerse.install-out.txt --library=/Library/Frameworks/R.framework/Resources/library --no-vignettes --timings scGraphVerse_1.1.0.tar.gz
###
##############################################################################
##############################################################################


* using log directory ‘/Users/biocbuild/bbs-3.23-bioc/meat/scGraphVerse.Rcheck’
* using R Under development (unstable) (2025-10-21 r88958)
* using platform: x86_64-apple-darwin20
* R was compiled by
    Apple clang version 14.0.0 (clang-1400.0.29.202)
    GNU Fortran (GCC) 14.2.0
* running under: macOS Ventura 13.7.8
* using session charset: UTF-8
* using option ‘--no-vignettes’
* checking for file ‘scGraphVerse/DESCRIPTION’ ... OK
* this is package ‘scGraphVerse’ version ‘1.1.0’
* package encoding: UTF-8
* checking package namespace information ... OK
* checking package dependencies ... INFO
Imports includes 21 non-default packages.
Importing from so many packages makes the package vulnerable to any of
them becoming unavailable.  Move as many as possible to Suggests and
use conditionally.
* checking if this is a source package ... OK
* checking if there is a namespace ... OK
* checking for hidden files and directories ... OK
* checking for portable file names ... OK
* checking for sufficient/correct file permissions ... OK
* checking whether package ‘scGraphVerse’ can be installed ... OK
* used C compiler: ‘Apple clang version 14.0.3 (clang-1403.0.22.14.1)’
* used SDK: ‘MacOSX11.3.1.sdk’
* checking installed package size ... OK
* checking package directory ... OK
* checking ‘build’ directory ... OK
* checking DESCRIPTION meta-information ... OK
* checking top-level files ... OK
* checking for left-over files ... OK
* checking index information ... OK
* checking package subdirectories ... OK
* checking code files for non-ASCII characters ... OK
* checking R files for syntax errors ... OK
* checking whether the package can be loaded ... OK
* checking whether the package can be loaded with stated dependencies ... OK
* checking whether the package can be unloaded cleanly ... OK
* checking whether the namespace can be loaded with stated dependencies ... OK
* checking whether the namespace can be unloaded cleanly ... OK
* checking dependencies in R code ... OK
* checking S3 generic/method consistency ... OK
* checking replacement functions ... OK
* checking foreign function calls ... OK
* checking R code for possible problems ... OK
* checking Rd files ... OK
* checking Rd metadata ... OK
* checking Rd cross-references ... NOTE
Found the following Rd file(s) with Rd \link{} targets missing package
anchors:
  classify_edges.Rd: SummarizedExperiment-class
  community_path.Rd: SummarizedExperiment-class
  compare_consensus.Rd: SummarizedExperiment-class
  create_consensus.Rd: SummarizedExperiment-class
  cutoff_adjacency.Rd: MultiAssayExperiment-class,
    SummarizedExperiment-class
  earlyj.Rd: MultiAssayExperiment-class
  edge_mining.Rd: SummarizedExperiment-class
  generate_adjacency.Rd: SummarizedExperiment-class
  infer_networks.Rd: MultiAssayExperiment-class
  plotROC.Rd: SummarizedExperiment-class
  plotg.Rd: SummarizedExperiment-class
  pscores.Rd: SummarizedExperiment-class
  selgene.Rd: SingleCellExperiment-class
  symmetrize.Rd: SummarizedExperiment-class
  toy_counts.Rd: MultiAssayExperiment-class
Please provide package anchors for all Rd \link{} targets not in the
package itself and the base packages.
* checking for missing documentation entries ... OK
* checking for code/documentation mismatches ... OK
* checking Rd \usage sections ... OK
* checking Rd contents ... OK
* checking for unstated dependencies in examples ... OK
* checking contents of ‘data’ directory ... OK
* checking data for non-ASCII characters ... OK
* checking data for ASCII and uncompressed saves ... OK
* checking line endings in C/C++/Fortran sources/headers ... OK
* checking compiled code ... INFO
Note: information on .o files is not available
* checking files in ‘vignettes’ ... OK
* checking examples ... OK
Examples with CPU (user + system) or elapsed time > 5s
                            user system elapsed
stringdb_adjacency        56.157  1.868  81.259
plot_community_comparison 27.142  0.634  35.968
community_similarity      25.869  0.528  33.254
community_path            25.615  0.744  34.686
compute_community_metrics 25.458  0.522  32.821
compute_topology_metrics  24.868  0.508  33.265
edge_mining               24.490  0.810  33.344
plot_network_comparison   21.109  0.284  21.481
plotg                     21.064  0.326  21.518
pscores                   20.687  0.312  21.097
cutoff_adjacency          20.019  0.258  20.413
compare_consensus         19.915  0.253  20.482
create_consensus          19.547  0.241  19.969
classify_edges            17.359  0.147  17.599
symmetrize                 8.463  0.706   9.245
plotROC                    8.066  0.175   8.241
generate_adjacency         6.567  0.374   6.981
build_network_se           5.894  0.086   6.016
toy_counts                 5.149  0.223   5.418
infer_networks             5.241  0.125   5.413
* checking for unstated dependencies in ‘tests’ ... OK
* checking tests ...
  Running ‘testthat.R’
 OK
* checking for unstated dependencies in vignettes ... OK
* checking package vignettes ... OK
* checking running R code from vignettes ... SKIPPED
* checking re-building of vignette outputs ... SKIPPED
* checking PDF version of manual ... OK
* DONE

Status: 1 NOTE
See
  ‘/Users/biocbuild/bbs-3.23-bioc/meat/scGraphVerse.Rcheck/00check.log’
for details.


Installation output

scGraphVerse.Rcheck/00install.out

##############################################################################
##############################################################################
###
### Running command:
###
###   /Library/Frameworks/R.framework/Resources/bin/R CMD INSTALL scGraphVerse
###
##############################################################################
##############################################################################


* installing to library ‘/Library/Frameworks/R.framework/Versions/4.6-x86_64/Resources/library’
* installing *source* package ‘scGraphVerse’ ...
** this is package ‘scGraphVerse’ version ‘1.1.0’
** using staged installation
** libs
using C compiler: ‘Apple clang version 14.0.3 (clang-1403.0.22.14.1)’
using SDK: ‘MacOSX11.3.1.sdk’
clang -arch x86_64 -I"/Library/Frameworks/R.framework/Resources/include" -DNDEBUG   -I/opt/R/x86_64/include    -fPIC  -falign-functions=64 -Wall -g -O2  -c init.c -o init.o
clang -arch x86_64 -I"/Library/Frameworks/R.framework/Resources/include" -DNDEBUG   -I/opt/R/x86_64/include    -fPIC  -falign-functions=64 -Wall -g -O2  -c regTree.c -o regTree.o
regTree.c:232:15: warning: variable 'lc' set but not used [-Wunused-but-set-variable]
    int last, lc, nl, nr, npopl, npopr;
              ^
regTree.c:418:19: warning: unused variable 'cbestsplit' [-Wunused-variable]
    int i, k, m, *cbestsplit, s;
                  ^
2 warnings generated.
clang -arch x86_64 -I"/Library/Frameworks/R.framework/Resources/include" -DNDEBUG   -I/opt/R/x86_64/include    -fPIC  -falign-functions=64 -Wall -g -O2  -c regrf.c -o regrf.o
regrf.c:62:12: warning: unused variable 'errts' [-Wunused-variable]
    double errts = 0.0, averrb,  *meanYts, *varYts, r, *xrand,
           ^
regrf.c:62:25: warning: variable 'averrb' set but not used [-Wunused-but-set-variable]
    double errts = 0.0, averrb,  *meanYts, *varYts, r, *xrand,
                        ^
regrf.c:62:53: warning: unused variable 'r' [-Wunused-variable]
    double errts = 0.0, averrb,  *meanYts, *varYts, r, *xrand,
                                                    ^
regrf.c:63:5: warning: variable 'errb' set but not used [-Wunused-but-set-variable]
          *errb, resid=0.0, *ooberr, ooberrperm, delta, *resOOB;
           ^
regrf.c:63:11: warning: unused variable 'resid' [-Wunused-variable]
          *errb, resid=0.0, *ooberr, ooberrperm, delta, *resOOB;
                 ^
regrf.c:63:23: warning: variable 'ooberr' set but not used [-Wunused-but-set-variable]
          *errb, resid=0.0, *ooberr, ooberrperm, delta, *resOOB;
                             ^
regrf.c:63:31: warning: unused variable 'ooberrperm' [-Wunused-variable]
          *errb, resid=0.0, *ooberr, ooberrperm, delta, *resOOB;
                                     ^
regrf.c:63:43: warning: unused variable 'delta' [-Wunused-variable]
          *errb, resid=0.0, *ooberr, ooberrperm, delta, *resOOB;
                                                 ^
regrf.c:63:51: warning: variable 'resOOB' set but not used [-Wunused-but-set-variable]
          *errb, resid=0.0, *ooberr, ooberrperm, delta, *resOOB;
                                                         ^
regrf.c:65:18: warning: variable 'xtmp' set but not used [-Wunused-but-set-variable]
    double *yb, *xtmp, *xb, *ytr, *ytree, *tgini, *meanY, *varY, *ww;
                 ^
regrf.c:65:30: warning: variable 'ytr' set but not used [-Wunused-but-set-variable]
    double *yb, *xtmp, *xb, *ytr, *ytree, *tgini, *meanY, *varY, *ww;
                             ^
regrf.c:65:36: warning: unused variable 'ytree' [-Wunused-variable]
    double *yb, *xtmp, *xb, *ytr, *ytree, *tgini, *meanY, *varY, *ww;
                                   ^
regrf.c:67:15: warning: unused variable 'mr' [-Wunused-variable]
    int k, m, mr, n, nOOB, j, jout, idx, ntest, last, ktmp, nPerm,
              ^
regrf.c:67:22: warning: unused variable 'nOOB' [-Wunused-variable]
    int k, m, mr, n, nOOB, j, jout, idx, ntest, last, ktmp, nPerm,
                     ^
regrf.c:67:31: warning: unused variable 'jout' [-Wunused-variable]
    int k, m, mr, n, nOOB, j, jout, idx, ntest, last, ktmp, nPerm,
                              ^
regrf.c:67:61: warning: variable 'nPerm' set but not used [-Wunused-but-set-variable]
    int k, m, mr, n, nOOB, j, jout, idx, ntest, last, ktmp, nPerm,
                                                            ^
regrf.c:69:10: warning: variable 'oobpair' set but not used [-Wunused-but-set-variable]
    int *oobpair, varImp, localImp, *varUsed, kk;
         ^
regrf.c:71:22: warning: variable 'nodex' set but not used [-Wunused-but-set-variable]
    int *in, *nind, *nodex, *nodexts;
                     ^
regrf.c:71:30: warning: unused variable 'nodexts' [-Wunused-variable]
    int *in, *nind, *nodex, *nodexts;
                             ^
19 warnings generated.
clang -arch x86_64 -dynamiclib -Wl,-headerpad_max_install_names -undefined dynamic_lookup -L/Library/Frameworks/R.framework/Resources/lib -L/opt/R/x86_64/lib -o scGraphVerse.so init.o regTree.o regrf.o -F/Library/Frameworks/R.framework/.. -framework R
installing to /Library/Frameworks/R.framework/Versions/4.6-x86_64/Resources/library/00LOCK-scGraphVerse/00new/scGraphVerse/libs
** R
** data
** inst
** byte-compile and prepare package for lazy loading
** help
*** installing help indices
*** copying figures
** building package indices
** installing vignettes
** testing if installed package can be loaded from temporary location
** checking absolute paths in shared objects and dynamic libraries
** testing if installed package can be loaded from final location
** testing if installed package keeps a record of temporary installation path
* DONE (scGraphVerse)

Tests output

scGraphVerse.Rcheck/tests/testthat.Rout


R Under development (unstable) (2025-10-21 r88958) -- "Unsuffered Consequences"
Copyright (C) 2025 The R Foundation for Statistical Computing
Platform: x86_64-apple-darwin20

R is free software and comes with ABSOLUTELY NO WARRANTY.
You are welcome to redistribute it under certain conditions.
Type 'license()' or 'licence()' for distribution details.

R is a collaborative project with many contributors.
Type 'contributors()' for more information and
'citation()' on how to cite R or R packages in publications.

Type 'demo()' for some demos, 'help()' for on-line help, or
'help.start()' for an HTML browser interface to help.
Type 'q()' to quit R.

> library(testthat)
> library(scGraphVerse)
> 
> test_check("scGraphVerse")
[ FAIL 0 | WARN 3251 | SKIP 8 | PASS 495 ]

══ Skipped tests (8) ═══════════════════════════════════════════════════════════
• Complex internal function tested via cutoff_adjacency (1):
  'test-utilities.R:288:5'
• KEGG requires internet and annotation packages (1):
  'test-community-topology.R:228:5'
• Reactome requires internet and annotation packages (1):
  'test-community-topology.R:245:5'
• Seurat object creation requires full Seurat setup (1):
  'test-network-inference.R:749:5'
• Seurat objects require actual Seurat setup (1): 'test-utilities.R:198:5'
• robinCompare parameter compatibility varies by version (2):
  'test-community-topology.R:160:5', 'test-community-topology.R:263:5'
• spinglass can be slow and unstable in tests (1):
  'test-community-topology.R:383:5'

[ FAIL 0 | WARN 3251 | SKIP 8 | PASS 495 ]
> 
> proc.time()
   user  system elapsed 
282.758   7.841 292.780 

Example timings

scGraphVerse.Rcheck/scGraphVerse-Ex.timings

nameusersystemelapsed
PCzinb1.1750.0351.221
build_network_se5.8940.0866.016
classify_edges17.359 0.14717.599
community_path25.615 0.74434.686
community_similarity25.869 0.52833.254
compare_consensus19.915 0.25320.482
compute_community_metrics25.458 0.52232.821
compute_topology_metrics24.868 0.50833.265
create_consensus19.547 0.24119.969
create_mae0.2790.0040.286
cutoff_adjacency20.019 0.25820.413
download_Atlas0.0390.0091.582
earlyj0.2740.0070.284
edge_mining24.490 0.81033.344
generate_adjacency6.5670.3746.981
infer_networks5.2410.1255.413
init_py0.7920.3871.352
plotROC8.0660.1758.241
plot_community_comparison27.142 0.63435.968
plot_network_comparison21.109 0.28421.481
plotg21.064 0.32621.518
pscores20.687 0.31221.097
selgene0.0200.0040.024
stringdb_adjacency56.157 1.86881.259
symmetrize8.4630.7069.245
toy_adj_matrix0.0060.0030.009
toy_counts5.1490.2235.418
zinb_simdata0.0070.0040.011