Back to Build/check report for BioC 3.23:   simplified   long
ABCDEFGHIJKLMNOP[Q]RSTUVWXYZ

This page was generated on 2025-10-31 08:34 -0400 (Fri, 31 Oct 2025).

HostnameOSArch (*)R versionInstalled pkgs
nebbiolo1Linux (Ubuntu 24.04.3 LTS)x86_64R Under development (unstable) (2025-10-20 r88955) -- "Unsuffered Consequences" 4428
Click on any hostname to see more info about the system (e.g. compilers)      (*) as reported by 'uname -p', except on Windows and Mac OS X

All results for package qvalue


To the developers/maintainers of the qvalue package:
- Allow up to 24 hours (and sometimes 48 hours) for your latest push to git@git.bioconductor.org:packages/qvalue.git to reflect on this report. See Troubleshooting Build Report for more information.
- Use the following Renviron settings to reproduce errors and warnings.
- If 'R CMD check' started to fail recently on the Linux builder(s) over a missing dependency, add the missing dependency to 'Suggests:' in your DESCRIPTION file. See Renviron.bioc for more information.

raw results

Package 1668/2321HostnameOS / ArchINSTALLBUILDCHECKBUILD BIN
qvalue 2.43.0  (landing page)
John D. Storey , Andrew J. Bass
Snapshot Date: 2025-10-30 13:40 -0400 (Thu, 30 Oct 2025)
git_url: https://git.bioconductor.org/packages/qvalue
git_branch: devel
git_last_commit: b7507f6
git_last_commit_date: 2025-10-29 09:54:23 -0400 (Wed, 29 Oct 2025)
nebbiolo1Linux (Ubuntu 24.04.3 LTS) / x86_64  OK    OK    OK  YES



Results for Bioconductor software packages that depend directly on package qvalue

QUICK STATSOS / ArchINSTALLBUILDCHECKBUILD BIN
nebbiolo1Linux (Ubuntu 24.04.3 LTS) / x86_64
0535
01030
00624
Package 1/40HostnameOS / ArchINSTALLBUILDCHECKBUILD BIN
Anaquin 2.35.0  (landing page)
Ted Wong
git_last_commit: b243e73
git_last_commit_date: 2025-10-29 10:34:00 -0400
nebbiolo1Linux (Ubuntu 24.04.3 LTS) / x86_64  OK    OK    OK  NO, package depends on 'DESeq2' which is not available
Package 2/40HostnameOS / ArchINSTALLBUILDCHECKBUILD BIN
anota 1.59.0  (landing page)
Ola Larsson
git_last_commit: fe5dc6d
git_last_commit_date: 2025-10-29 10:07:37 -0400
nebbiolo1Linux (Ubuntu 24.04.3 LTS) / x86_64  OK    OK    OK  YES
Package 3/40HostnameOS / ArchINSTALLBUILDCHECKBUILD BIN
anota2seq 1.33.0  (landing page)
Christian Oertlin , Ola Larsson
git_last_commit: 8d76555
git_last_commit_date: 2025-10-29 10:41:23 -0400
nebbiolo1Linux (Ubuntu 24.04.3 LTS) / x86_64  OK    OK    WARNINGS  NO, package depends on 'DESeq2' which is not available
Package 4/40HostnameOS / ArchINSTALLBUILDCHECKBUILD BIN
ChAMP 2.41.0  (landing page)
Yuan Tian
git_last_commit: 8bc9b68
git_last_commit_date: 2025-10-29 10:17:05 -0400
nebbiolo1Linux (Ubuntu 24.04.3 LTS) / x86_64  ERROR    ERROR  skipped
Package 5/40HostnameOS / ArchINSTALLBUILDCHECKBUILD BIN
clusterProfiler 4.19.0  (landing page)
Guangchuang Yu
git_last_commit: 7340b30
git_last_commit_date: 2025-10-29 10:06:54 -0400
nebbiolo1Linux (Ubuntu 24.04.3 LTS) / x86_64  OK    OK    OK  NO, package depends on 'AnnotationDbi' which is not available
Package 6/40HostnameOS / ArchINSTALLBUILDCHECKBUILD BIN
CTSV 1.13.0  (landing page)
Jinge Yu Developer
git_last_commit: 2a4282f
git_last_commit_date: 2025-10-29 11:17:28 -0400
nebbiolo1Linux (Ubuntu 24.04.3 LTS) / x86_64  OK    OK    OK  NO, package depends on 'SpatialExperiment' which is not available
Package 7/40HostnameOS / ArchINSTALLBUILDCHECKBUILD BIN
DegCre 1.7.0  (landing page)
Brian S. Roberts
git_last_commit: 97a3d4d
git_last_commit_date: 2025-10-29 11:28:34 -0400
nebbiolo1Linux (Ubuntu 24.04.3 LTS) / x86_64  ERROR    ERROR  skipped
Package 8/40HostnameOS / ArchINSTALLBUILDCHECKBUILD BIN
DEGseq 1.65.0  (landing page)
Likun Wang
git_last_commit: 2c62565
git_last_commit_date: 2025-10-29 10:03:59 -0400
nebbiolo1Linux (Ubuntu 24.04.3 LTS) / x86_64  OK    OK    WARNINGS  YES
Package 9/40HostnameOS / ArchINSTALLBUILDCHECKBUILD BIN
derfinder 1.45.0  (landing page)
Leonardo Collado-Torres
git_last_commit: 946e0b8
git_last_commit_date: 2025-10-29 10:21:48 -0400
nebbiolo1Linux (Ubuntu 24.04.3 LTS) / x86_64  OK    ERROR  skipped
Package 10/40HostnameOS / ArchINSTALLBUILDCHECKBUILD BIN
DOSE 4.5.0  (landing page)
Guangchuang Yu
git_last_commit: 47174f9
git_last_commit_date: 2025-10-29 10:07:51 -0400
nebbiolo1Linux (Ubuntu 24.04.3 LTS) / x86_64  OK    OK    OK  NO, package depends on 'AnnotationDbi' which is not available
Package 11/40HostnameOS / ArchINSTALLBUILDCHECKBUILD BIN
DrugVsDisease 2.53.0  (landing page)
j. Saez-Rodriguez
git_last_commit: 6483099
git_last_commit_date: 2025-10-29 10:13:26 -0400
nebbiolo1Linux (Ubuntu 24.04.3 LTS) / x86_64  ERROR    ERROR  skipped
Package 12/40HostnameOS / ArchINSTALLBUILDCHECKBUILD BIN
edge 2.43.0  (landing page)
John D. Storey , Andrew J. Bass
git_last_commit: a6a6076
git_last_commit_date: 2025-10-29 10:25:58 -0400
nebbiolo1Linux (Ubuntu 24.04.3 LTS) / x86_64  OK    OK    OK  NO, package depends on 'sva' which is not available
Package 13/40HostnameOS / ArchINSTALLBUILDCHECKBUILD BIN
erccdashboard 1.45.0  (landing page)
Sarah Munro
git_last_commit: 44713e8
git_last_commit_date: 2025-10-29 10:21:01 -0400
nebbiolo1Linux (Ubuntu 24.04.3 LTS) / x86_64  OK    OK    OK  YES
Package 14/40HostnameOS / ArchINSTALLBUILDCHECKBUILD BIN
EventPointer 3.19.0  (landing page)
Juan A. Ferrer-Bonsoms
git_last_commit: ab73f34
git_last_commit_date: 2025-10-29 10:37:08 -0400
nebbiolo1Linux (Ubuntu 24.04.3 LTS) / x86_64  ERROR    ERROR  skipped
Package 15/40HostnameOS / ArchINSTALLBUILDCHECKBUILD BIN
FindIT2 1.17.0  (landing page)
Guandong Shang
git_last_commit: 6e3f32a
git_last_commit_date: 2025-10-29 11:10:30 -0400
nebbiolo1Linux (Ubuntu 24.04.3 LTS) / x86_64  OK    ERROR  skipped
Package 16/40HostnameOS / ArchINSTALLBUILDCHECKBUILD BIN
fishpond 2.17.0  (landing page)
Michael Love
git_last_commit: 2293072
git_last_commit_date: 2025-10-29 10:50:11 -0400
nebbiolo1Linux (Ubuntu 24.04.3 LTS) / x86_64  OK    ERROR  skipped
Package 17/40HostnameOS / ArchINSTALLBUILDCHECKBUILD BIN
InTAD 1.31.0  (landing page)
Konstantin Okonechnikov
git_last_commit: c1355bb
git_last_commit_date: 2025-10-29 10:44:46 -0400
nebbiolo1Linux (Ubuntu 24.04.3 LTS) / x86_64  OK    OK    OK  NO, package depends on 'IRanges' which is not available
Package 18/40HostnameOS / ArchINSTALLBUILDCHECKBUILD BIN
LimROTS 1.3.0  (landing page)
Ali Mostafa Anwar
git_last_commit: a82e83b
git_last_commit_date: 2025-10-29 11:33:21 -0400
nebbiolo1Linux (Ubuntu 24.04.3 LTS) / x86_64  OK    OK    OK  NO, package depends on 'SummarizedExperiment' which is not available
Package 19/40HostnameOS / ArchINSTALLBUILDCHECKBUILD BIN
metaseqR2 1.23.0  (landing page)
Panagiotis Moulos
git_last_commit: 25b9df1
git_last_commit_date: 2025-10-29 10:59:18 -0400
nebbiolo1Linux (Ubuntu 24.04.3 LTS) / x86_64  OK    OK    OK  NO, package depends on 'DESeq2' which is not available
Package 20/40HostnameOS / ArchINSTALLBUILDCHECKBUILD BIN
methylKit 1.37.0  (landing page)
Altuna Akalin , Alexander Blume
git_last_commit: 1192e2b
git_last_commit_date: 2025-10-29 10:33:14 -0400
nebbiolo1Linux (Ubuntu 24.04.3 LTS) / x86_64  OK    OK    OK  NO, package depends on 'GenomicRanges' which is not available
Package 21/40HostnameOS / ArchINSTALLBUILDCHECKBUILD BIN
MOMA 1.23.0  (landing page)
Sunny Jones
git_last_commit: 099cb9e
git_last_commit_date: 2025-10-29 10:59:02 -0400
nebbiolo1Linux (Ubuntu 24.04.3 LTS) / x86_64  OK    OK    OK  NO, package depends on 'ComplexHeatmap' which is not available
Package 22/40HostnameOS / ArchINSTALLBUILDCHECKBUILD BIN
msmsTests 1.49.0  (landing page)
Josep Gregori i Font
git_last_commit: dc9d411
git_last_commit_date: 2025-10-29 10:15:47 -0400
nebbiolo1Linux (Ubuntu 24.04.3 LTS) / x86_64  OK    OK    OK  NO, package depends on 'MSnbase' which is not available
Package 23/40HostnameOS / ArchINSTALLBUILDCHECKBUILD BIN
MWASTools 1.35.0  (landing page)
Andrea Rodriguez-Martinez , Rafael Ayala
git_last_commit: 8cc5c70
git_last_commit_date: 2025-10-29 10:35:43 -0400
nebbiolo1Linux (Ubuntu 24.04.3 LTS) / x86_64  OK    OK    OK  NO, package depends on 'SummarizedExperiment' which is not available
Package 24/40HostnameOS / ArchINSTALLBUILDCHECKBUILD BIN
netresponse 1.71.0  (landing page)
Leo Lahti
git_last_commit: 8295054
git_last_commit_date: 2025-10-29 10:05:48 -0400
nebbiolo1Linux (Ubuntu 24.04.3 LTS) / x86_64  OK    OK    OK  YES
Package 25/40HostnameOS / ArchINSTALLBUILDCHECKBUILD BIN
normr 1.37.0  (landing page)
Johannes Helmuth
git_last_commit: 76e2183
git_last_commit_date: 2025-10-29 10:32:51 -0400
nebbiolo1Linux (Ubuntu 24.04.3 LTS) / x86_64  OK    OK    WARNINGS  NO, package depends on 'GenomeInfoDb' which is not available
Package 26/40HostnameOS / ArchINSTALLBUILDCHECKBUILD BIN
OPWeight 1.33.0  (landing page)
Mohamad Hasan
git_last_commit: 01a9b56
git_last_commit_date: 2025-10-29 10:39:24 -0400
nebbiolo1Linux (Ubuntu 24.04.3 LTS) / x86_64  OK    OK    OK  YES
Package 27/40HostnameOS / ArchINSTALLBUILDCHECKBUILD BIN
PAST 1.27.0  (landing page)
Thrash Adam
git_last_commit: a345f7a
git_last_commit_date: 2025-10-29 10:52:22 -0400
nebbiolo1Linux (Ubuntu 24.04.3 LTS) / x86_64  OK    OK    WARNINGS  NO, package depends on 'rtracklayer' which is not available
Package 28/40HostnameOS / ArchINSTALLBUILDCHECKBUILD BIN
PolySTest 1.5.0  (landing page)
Veit Schwämmle
git_last_commit: 98ded58
git_last_commit_date: 2025-10-29 11:31:01 -0400
nebbiolo1Linux (Ubuntu 24.04.3 LTS) / x86_64  OK    OK    OK  NO, package depends on 'SummarizedExperiment' which is not available
Package 29/40HostnameOS / ArchINSTALLBUILDCHECKBUILD BIN
r3Cseq 1.57.0  (landing page)
Supat Thongjuea or
git_last_commit: b35813f
git_last_commit_date: 2025-10-29 10:09:24 -0400
nebbiolo1Linux (Ubuntu 24.04.3 LTS) / x86_64  OK    ERROR  skipped
Package 30/40HostnameOS / ArchINSTALLBUILDCHECKBUILD BIN
RiboDiPA 1.19.0  (landing page)
Ji-Ping Wang
git_last_commit: 2487cc4
git_last_commit_date: 2025-10-29 11:05:49 -0400
nebbiolo1Linux (Ubuntu 24.04.3 LTS) / x86_64  OK    OK    OK  NO, package depends on 'Rsamtools' which is not available
Package 31/40HostnameOS / ArchINSTALLBUILDCHECKBUILD BIN
RNAsense 1.25.0  (landing page)
Marcus Rosenblatt
git_last_commit: 3880afe
git_last_commit_date: 2025-10-29 10:55:39 -0400
nebbiolo1Linux (Ubuntu 24.04.3 LTS) / x86_64  OK    OK    WARNINGS  NO, package depends on 'SummarizedExperiment' which is not available
Package 32/40HostnameOS / ArchINSTALLBUILDCHECKBUILD BIN
Rnits 1.45.0  (landing page)
Dipen P. Sangurdekar
git_last_commit: d587459
git_last_commit_date: 2025-10-29 10:21:15 -0400
nebbiolo1Linux (Ubuntu 24.04.3 LTS) / x86_64  OK    OK    WARNINGS  NO, package depends on 'affy' which is not available
Package 33/40HostnameOS / ArchINSTALLBUILDCHECKBUILD BIN
RolDE 1.15.0  (landing page)
Medical Bioinformatics Centre
git_last_commit: 30dfeba
git_last_commit_date: 2025-10-29 11:16:17 -0400
nebbiolo1Linux (Ubuntu 24.04.3 LTS) / x86_64  OK    ERROR  skipped
Package 34/40HostnameOS / ArchINSTALLBUILDCHECKBUILD BIN
SDAMS 1.31.0  (landing page)
Yuntong Li
git_last_commit: b82dfb1
git_last_commit_date: 2025-10-29 10:44:53 -0400
nebbiolo1Linux (Ubuntu 24.04.3 LTS) / x86_64  OK    OK    OK  NO, package depends on 'SummarizedExperiment' which is not available
Package 35/40HostnameOS / ArchINSTALLBUILDCHECKBUILD BIN
sights 1.37.0  (landing page)
Elika Garg
git_last_commit: 36d6919
git_last_commit_date: 2025-10-29 10:32:44 -0400
nebbiolo1Linux (Ubuntu 24.04.3 LTS) / x86_64  OK    OK    OK  YES
Package 36/40HostnameOS / ArchINSTALLBUILDCHECKBUILD BIN
signatureSearch 1.25.0  (landing page)
Brendan Gongol
git_last_commit: 342f9a7
git_last_commit_date: 2025-10-29 10:55:44 -0400
nebbiolo1Linux (Ubuntu 24.04.3 LTS) / x86_64  ERROR    ERROR  skipped
Package 37/40HostnameOS / ArchINSTALLBUILDCHECKBUILD BIN
SpaceMarkers 2.1.0  (landing page)
Atul Deshpande
git_last_commit: 2b359d8
git_last_commit_date: 2025-10-29 11:29:19 -0400
nebbiolo1Linux (Ubuntu 24.04.3 LTS) / x86_64  OK    OK    OK  YES
Package 38/40HostnameOS / ArchINSTALLBUILDCHECKBUILD BIN
subSeq 1.41.0  (landing page)
Andrew J. Bass , John D. Storey
git_last_commit: 133fac9
git_last_commit_date: 2025-10-29 10:28:35 -0400
nebbiolo1Linux (Ubuntu 24.04.3 LTS) / x86_64  OK    OK    OK  YES
Package 39/40HostnameOS / ArchINSTALLBUILDCHECKBUILD BIN
vsclust 1.13.0  (landing page)
Veit Schwammle
git_last_commit: 72e8c77
git_last_commit_date: 2025-10-29 11:19:19 -0400
nebbiolo1Linux (Ubuntu 24.04.3 LTS) / x86_64  OK    OK    OK  NO, package depends on 'MultiAssayExperiment' which is not available
Package 40/40HostnameOS / ArchINSTALLBUILDCHECKBUILD BIN
webbioc 1.83.0  (landing page)
Colin A. Smith
git_last_commit: 8bbf95c
git_last_commit_date: 2025-10-29 09:54:04 -0400
nebbiolo1Linux (Ubuntu 24.04.3 LTS) / x86_64  OK    OK    OK  NO, package depends on 'affy' which is not available