Back to Multiple platform build/check report for BioC 3.22:   simplified   long
ABCDEFGHIJKLMNOPQR[S]TUVWXYZ

This page was generated on 2025-10-30 12:37 -0400 (Thu, 30 Oct 2025).

HostnameOSArch (*)R versionInstalled pkgs
nebbiolo2Linux (Ubuntu 24.04.3 LTS)x86_644.5.1 Patched (2025-08-23 r88802) -- "Great Square Root" 4901
lconwaymacOS 12.7.6 Montereyx86_644.5.1 Patched (2025-09-10 r88807) -- "Great Square Root" 4691
kjohnson3macOS 13.7.7 Venturaarm644.5.1 Patched (2025-09-10 r88807) -- "Great Square Root" 4637
Click on any hostname to see more info about the system (e.g. compilers)      (*) as reported by 'uname -p', except on Windows and Mac OS X

Package 2065/2361HostnameOS / ArchINSTALLBUILDCHECKBUILD BIN
SpaceMarkers 2.0.0  (landing page)
Atul Deshpande
Snapshot Date: 2025-10-29 19:52 -0400 (Wed, 29 Oct 2025)
git_url: https://git.bioconductor.org/packages/SpaceMarkers
git_branch: RELEASE_3_22
git_last_commit: 275cd1c
git_last_commit_date: 2025-10-29 11:29:19 -0400 (Wed, 29 Oct 2025)
nebbiolo2Linux (Ubuntu 24.04.3 LTS) / x86_64  OK    OK    OK  UNNEEDED, same version is already published
lconwaymacOS 12.7.6 Monterey / x86_64  OK    OK    OK    OK  UNNEEDED, same version is already published
kjohnson3macOS 13.7.7 Ventura / arm64  OK    OK    OK    OK  UNNEEDED, same version is already published


CHECK results for SpaceMarkers on kjohnson3

To the developers/maintainers of the SpaceMarkers package:
- Allow up to 24 hours (and sometimes 48 hours) for your latest push to git@git.bioconductor.org:packages/SpaceMarkers.git to reflect on this report. See Troubleshooting Build Report for more information.
- Use the following Renviron settings to reproduce errors and warnings.
- If 'R CMD check' started to fail recently on the Linux builder(s) over a missing dependency, add the missing dependency to 'Suggests:' in your DESCRIPTION file. See Renviron.bioc for more information.

raw results


Summary

Package: SpaceMarkers
Version: 2.0.0
Command: /Library/Frameworks/R.framework/Resources/bin/R CMD check --install=check:SpaceMarkers.install-out.txt --library=/Library/Frameworks/R.framework/Resources/library --no-vignettes --timings SpaceMarkers_2.0.0.tar.gz
StartedAt: 2025-10-30 04:36:00 -0400 (Thu, 30 Oct 2025)
EndedAt: 2025-10-30 04:37:50 -0400 (Thu, 30 Oct 2025)
EllapsedTime: 110.2 seconds
RetCode: 0
Status:   OK  
CheckDir: SpaceMarkers.Rcheck
Warnings: 0

Command output

##############################################################################
##############################################################################
###
### Running command:
###
###   /Library/Frameworks/R.framework/Resources/bin/R CMD check --install=check:SpaceMarkers.install-out.txt --library=/Library/Frameworks/R.framework/Resources/library --no-vignettes --timings SpaceMarkers_2.0.0.tar.gz
###
##############################################################################
##############################################################################


* using log directory ‘/Users/biocbuild/bbs-3.22-bioc/meat/SpaceMarkers.Rcheck’
* using R version 4.5.1 Patched (2025-09-10 r88807)
* using platform: aarch64-apple-darwin20
* R was compiled by
    Apple clang version 16.0.0 (clang-1600.0.26.6)
    GNU Fortran (GCC) 14.2.0
* running under: macOS Ventura 13.7.7
* using session charset: UTF-8
* using option ‘--no-vignettes’
* checking for file ‘SpaceMarkers/DESCRIPTION’ ... OK
* checking extension type ... Package
* this is package ‘SpaceMarkers’ version ‘2.0.0’
* package encoding: UTF-8
* checking package namespace information ... OK
* checking package dependencies ... INFO
Imports includes 21 non-default packages.
Importing from so many packages makes the package vulnerable to any of
them becoming unavailable.  Move as many as possible to Suggests and
use conditionally.
* checking if this is a source package ... OK
* checking if there is a namespace ... OK
* checking for hidden files and directories ... OK
* checking for portable file names ... OK
* checking for sufficient/correct file permissions ... OK
* checking whether package ‘SpaceMarkers’ can be installed ... OK
* checking installed package size ... OK
* checking package directory ... OK
* checking ‘build’ directory ... OK
* checking DESCRIPTION meta-information ... OK
* checking top-level files ... OK
* checking for left-over files ... OK
* checking index information ... OK
* checking package subdirectories ... OK
* checking code files for non-ASCII characters ... OK
* checking R files for syntax errors ... OK
* checking whether the package can be loaded ... OK
* checking whether the package can be loaded with stated dependencies ... OK
* checking whether the package can be unloaded cleanly ... OK
* checking whether the namespace can be loaded with stated dependencies ... OK
* checking whether the namespace can be unloaded cleanly ... OK
* checking dependencies in R code ... OK
* checking S3 generic/method consistency ... OK
* checking replacement functions ... OK
* checking foreign function calls ... OK
* checking R code for possible problems ... NOTE
.calc_IM_scores: no visible global function definition for ‘p.adjust’
.calc_threshold: no visible global function definition for ‘quantile’
.calculate_all_fc_scores: no visible binding for global variable
  ‘p.adjust’
.calculate_all_fc_scores: no visible global function definition for
  ‘median’
.calculate_fc_score: no visible global function definition for
  ‘quantile’
.calculate_fc_score: no visible global function definition for
  ‘wilcox.test’
.prepare_circos_data_logic: no visible global function definition for
  ‘ave’
calculate_gene_set_score : <anonymous>: no visible global function
  definition for ‘weighted.mean’
calculate_gene_set_specificity: no visible binding for global variable
  ‘weighted.mean’
calculate_lr_scores : <anonymous>: no visible global function
  definition for ‘weighted.mean’
plot_im_scores: no visible binding for global variable ‘Gene’
plot_overlap_scores: no visible binding for global variable ‘pattern1’
plot_overlap_scores: no visible binding for global variable ‘pattern2’
plot_overlap_scores: no visible binding for global variable
  ‘overlapScore’
plot_spatial_data_over_image: no visible binding for global variable
  ‘x’
plot_spatial_data_over_image: no visible binding for global variable
  ‘y’
plot_spatial_data_over_image: no visible global function definition for
  ‘as.raster’
plot_spatial_data_over_image: no visible binding for global variable
  ‘x_c’
plot_spatial_data_over_image: no visible binding for global variable
  ‘y_c’
Undefined global functions or variables:
  Gene as.raster ave median overlapScore p.adjust pattern1 pattern2
  quantile weighted.mean wilcox.test x x_c y y_c
Consider adding
  importFrom("grDevices", "as.raster")
  importFrom("stats", "ave", "median", "p.adjust", "quantile",
             "weighted.mean", "wilcox.test")
to your NAMESPACE file.
* checking Rd files ... OK
* checking Rd metadata ... OK
* checking Rd cross-references ... OK
* checking for missing documentation entries ... OK
* checking for code/documentation mismatches ... OK
* checking Rd \usage sections ... OK
* checking Rd contents ... OK
* checking for unstated dependencies in examples ... OK
* checking contents of ‘data’ directory ... OK
* checking data for non-ASCII characters ... OK
* checking data for ASCII and uncompressed saves ... OK
* checking files in ‘vignettes’ ... OK
* checking examples ... OK
Examples with CPU (user + system) or elapsed time > 5s
                                 user system elapsed
get_im_scores                  18.953  1.329  12.526
plot_im_scores                 18.220  1.464  11.815
get_pairwise_interacting_genes  9.943  0.934  11.665
get_interacting_genes           9.554  1.130  11.045
get_spatial_params_morans_i     9.333  0.982   1.878
find_pattern_hotspots           4.505  0.233   5.010
* checking for unstated dependencies in ‘tests’ ... OK
* checking tests ...
  Running ‘testthat.R’
 OK
* checking for unstated dependencies in vignettes ... OK
* checking package vignettes ... OK
* checking running R code from vignettes ... SKIPPED
* checking re-building of vignette outputs ... SKIPPED
* checking PDF version of manual ... OK
* DONE

Status: 1 NOTE
See
  ‘/Users/biocbuild/bbs-3.22-bioc/meat/SpaceMarkers.Rcheck/00check.log’
for details.


Installation output

SpaceMarkers.Rcheck/00install.out

##############################################################################
##############################################################################
###
### Running command:
###
###   /Library/Frameworks/R.framework/Resources/bin/R CMD INSTALL SpaceMarkers
###
##############################################################################
##############################################################################


* installing to library ‘/Library/Frameworks/R.framework/Versions/4.5-arm64/Resources/library’
* installing *source* package ‘SpaceMarkers’ ...
** this is package ‘SpaceMarkers’ version ‘2.0.0’
** using staged installation
** R
** data
** inst
** byte-compile and prepare package for lazy loading
** help
*** installing help indices
** building package indices
** installing vignettes
** testing if installed package can be loaded from temporary location
** testing if installed package can be loaded from final location
** testing if installed package keeps a record of temporary installation path
* DONE (SpaceMarkers)

Tests output

SpaceMarkers.Rcheck/tests/testthat.Rout


R version 4.5.1 Patched (2025-09-10 r88807) -- "Great Square Root"
Copyright (C) 2025 The R Foundation for Statistical Computing
Platform: aarch64-apple-darwin20

R is free software and comes with ABSOLUTELY NO WARRANTY.
You are welcome to redistribute it under certain conditions.
Type 'license()' or 'licence()' for distribution details.

R is a collaborative project with many contributors.
Type 'contributors()' for more information and
'citation()' on how to cite R or R packages in publications.

Type 'demo()' for some demos, 'help()' for on-line help, or
'help.start()' for an HTML browser interface to help.
Type 'q()' to quit R.

> # This file is part of the standard setup for testthat.
> # It is recommended that you do not modify it.
> #
> # Where should you do additional test configuration?
> # Learn more about the roles of various files in:
> # * https://r-pkgs.org/tests.html
> # * https://testthat.r-lib.org/reference/test_package.html#special-files
> 
> library(testthat)
> library(SpaceMarkers)
> 
> test_check("SpaceMarkers")
Using user provided optParams.
hotspots does not have refPattern column or dimension 
    does not match with data.
Pattern_1 and Pattern_2 do not sufficiently interact.
                Skipping statistical test for genes.
No interacting genes found. Returning 
            result with only hotspots.
No interacting genes found. Returning 
            result with only hotspots.
Only one method can be used at a time. Using Szymkiewicz-Simpson
Only one method can be used at a time. Using Szymkiewicz-Simpson
Only one method can be used at a time. Using Szymkiewicz-Simpson
Only one method can be used at a time. Using Szymkiewicz-Simpson
resolution: fullres
resolution: fullres
Reading spot diameter from specified .json file
resolution: fullres
Loading required namespace: CoGAPS
resolution: lowres
resolution: lowres
resolution: lowres
resolution: lowres
Version not provided. Trying to infer.
probe_set.csv or .parquet not found.Assuming version 1.0.
[ FAIL 0 | WARN 0 | SKIP 0 | PASS 89 ]
> 
> proc.time()
   user  system elapsed 
 13.988   1.103  12.842 

Example timings

SpaceMarkers.Rcheck/SpaceMarkers-Ex.timings

nameusersystemelapsed
calculate_gene_set_specificity000
calculate_overlap_directed0.0020.0000.002
calculate_overlap_undirected0.0010.0000.002
find_pattern_hotspots4.5050.2335.010
get_im_scores18.953 1.32912.526
get_interacting_genes 9.554 1.13011.045
get_pairwise_interacting_genes 9.943 0.93411.665
get_spatial_features0.0180.0030.021
get_spatial_parameters0.0030.0030.006
get_spatial_params_morans_i9.3330.9821.878
load10XCoords0.0380.0240.181
load10XExpr1.2300.6402.078
plot_cell_interaction_circos000
plot_im_scores18.220 1.46411.815
plot_overlap_scores0.4890.0190.510
plot_source_to_target_circos000
plot_target_from_sources_circos000