Back to Multiple platform build/check report for BioC 3.22:   simplified   long
ABCDEFGHIJKLMNO[P]QRSTUVWXYZ

This page was generated on 2025-10-28 12:04 -0400 (Tue, 28 Oct 2025).

HostnameOSArch (*)R versionInstalled pkgs
nebbiolo2Linux (Ubuntu 24.04.3 LTS)x86_644.5.1 Patched (2025-08-23 r88802) -- "Great Square Root" 4901
lconwaymacOS 12.7.6 Montereyx86_644.5.1 Patched (2025-09-10 r88807) -- "Great Square Root" 4691
kjohnson3macOS 13.7.7 Venturaarm644.5.1 Patched (2025-09-10 r88807) -- "Great Square Root" 4637
Click on any hostname to see more info about the system (e.g. compilers)      (*) as reported by 'uname -p', except on Windows and Mac OS X

Package 1618/2361HostnameOS / ArchINSTALLBUILDCHECKBUILD BIN
plyxp 1.3.11  (landing page)
Justin Landis
Snapshot Date: 2025-10-27 13:45 -0400 (Mon, 27 Oct 2025)
git_url: https://git.bioconductor.org/packages/plyxp
git_branch: devel
git_last_commit: abc76c8
git_last_commit_date: 2025-10-20 23:24:37 -0400 (Mon, 20 Oct 2025)
nebbiolo2Linux (Ubuntu 24.04.3 LTS) / x86_64  OK    OK    OK  UNNEEDED, same version is already published
lconwaymacOS 12.7.6 Monterey / x86_64  OK    OK    OK    OK  UNNEEDED, same version is already published
kjohnson3macOS 13.7.7 Ventura / arm64  OK    OK    OK    OK  UNNEEDED, same version is already published


CHECK results for plyxp on lconway

To the developers/maintainers of the plyxp package:
- Allow up to 24 hours (and sometimes 48 hours) for your latest push to git@git.bioconductor.org:packages/plyxp.git to reflect on this report. See Troubleshooting Build Report for more information.
- Use the following Renviron settings to reproduce errors and warnings.
- If 'R CMD check' started to fail recently on the Linux builder(s) over a missing dependency, add the missing dependency to 'Suggests:' in your DESCRIPTION file. See Renviron.bioc for more information.

raw results


Summary

Package: plyxp
Version: 1.3.11
Command: /Library/Frameworks/R.framework/Resources/bin/R CMD check --install=check:plyxp.install-out.txt --library=/Library/Frameworks/R.framework/Resources/library --no-vignettes --timings plyxp_1.3.11.tar.gz
StartedAt: 2025-10-27 23:53:02 -0400 (Mon, 27 Oct 2025)
EndedAt: 2025-10-27 23:56:22 -0400 (Mon, 27 Oct 2025)
EllapsedTime: 199.8 seconds
RetCode: 0
Status:   OK  
CheckDir: plyxp.Rcheck
Warnings: 0

Command output

##############################################################################
##############################################################################
###
### Running command:
###
###   /Library/Frameworks/R.framework/Resources/bin/R CMD check --install=check:plyxp.install-out.txt --library=/Library/Frameworks/R.framework/Resources/library --no-vignettes --timings plyxp_1.3.11.tar.gz
###
##############################################################################
##############################################################################


* using log directory ‘/Users/biocbuild/bbs-3.22-bioc/meat/plyxp.Rcheck’
* using R version 4.5.1 Patched (2025-09-10 r88807)
* using platform: x86_64-apple-darwin20
* R was compiled by
    Apple clang version 14.0.0 (clang-1400.0.29.202)
    GNU Fortran (GCC) 14.2.0
* running under: macOS Monterey 12.7.6
* using session charset: UTF-8
* using option ‘--no-vignettes’
* checking for file ‘plyxp/DESCRIPTION’ ... OK
* this is package ‘plyxp’ version ‘1.3.11’
* package encoding: UTF-8
* checking package namespace information ... OK
* checking package dependencies ... OK
* checking if this is a source package ... OK
* checking if there is a namespace ... OK
* checking for hidden files and directories ... OK
* checking for portable file names ... OK
* checking for sufficient/correct file permissions ... OK
* checking whether package ‘plyxp’ can be installed ... OK
* checking installed package size ... OK
* checking package directory ... OK
* checking ‘build’ directory ... OK
* checking DESCRIPTION meta-information ... OK
* checking top-level files ... OK
* checking for left-over files ... OK
* checking index information ... OK
* checking package subdirectories ... OK
* checking code files for non-ASCII characters ... OK
* checking R files for syntax errors ... OK
* checking whether the package can be loaded ... OK
* checking whether the package can be loaded with stated dependencies ... OK
* checking whether the package can be unloaded cleanly ... OK
* checking whether the namespace can be loaded with stated dependencies ... OK
* checking whether the namespace can be unloaded cleanly ... OK
* checking dependencies in R code ... OK
* checking S3 generic/method consistency ... OK
* checking replacement functions ... OK
* checking foreign function calls ... OK
* checking R code for possible problems ... OK
* checking Rd files ... OK
* checking Rd metadata ... OK
* checking Rd cross-references ... OK
* checking for missing documentation entries ... OK
* checking for code/documentation mismatches ... OK
* checking Rd \usage sections ... OK
* checking Rd contents ... OK
* checking for unstated dependencies in examples ... OK
* checking contents of ‘data’ directory ... OK
* checking data for non-ASCII characters ... OK
* checking LazyData ... OK
* checking data for ASCII and uncompressed saves ... OK
* checking files in ‘vignettes’ ... OK
* checking examples ... OK
* checking for unstated dependencies in ‘tests’ ... OK
* checking tests ...
  Running ‘testthat.R’
 OK
* checking for unstated dependencies in vignettes ... OK
* checking package vignettes ... OK
* checking running R code from vignettes ... SKIPPED
* checking re-building of vignette outputs ... SKIPPED
* checking PDF version of manual ... OK
* DONE

Status: OK


Installation output

plyxp.Rcheck/00install.out

##############################################################################
##############################################################################
###
### Running command:
###
###   /Library/Frameworks/R.framework/Resources/bin/R CMD INSTALL plyxp
###
##############################################################################
##############################################################################


* installing to library ‘/Library/Frameworks/R.framework/Versions/4.5-x86_64/Resources/library’
* installing *source* package ‘plyxp’ ...
** this is package ‘plyxp’ version ‘1.3.11’
** using staged installation
** R
** data
*** moving datasets to lazyload DB
** byte-compile and prepare package for lazy loading
Creating a generic function for ‘rownames’ from package ‘base’ in package ‘plyxp’
Creating a generic function for ‘colnames’ from package ‘base’ in package ‘plyxp’
Creating a generic function for ‘nrow’ from package ‘base’ in package ‘plyxp’
Creating a generic function for ‘ncol’ from package ‘base’ in package ‘plyxp’
** help
*** installing help indices
*** copying figures
** building package indices
** installing vignettes
** testing if installed package can be loaded from temporary location
** testing if installed package can be loaded from final location
** testing if installed package keeps a record of temporary installation path
* DONE (plyxp)

Tests output

plyxp.Rcheck/tests/testthat.Rout


R version 4.5.1 Patched (2025-09-10 r88807) -- "Great Square Root"
Copyright (C) 2025 The R Foundation for Statistical Computing
Platform: x86_64-apple-darwin20

R is free software and comes with ABSOLUTELY NO WARRANTY.
You are welcome to redistribute it under certain conditions.
Type 'license()' or 'licence()' for distribution details.

R is a collaborative project with many contributors.
Type 'contributors()' for more information and
'citation()' on how to cite R or R packages in publications.

Type 'demo()' for some demos, 'help()' for on-line help, or
'help.start()' for an HTML browser interface to help.
Type 'q()' to quit R.

> library("testthat")
> library("plyxp")

Attaching package: 'plyxp'

The following object is masked from 'package:stats':

    filter

> 
> test_check("plyxp")
[ FAIL 0 | WARN 0 | SKIP 6 | PASS 175 ]

══ Skipped tests (6) ═══════════════════════════════════════════════════════════
• On CRAN (6): 'test_printing.R:2:3', 'test_printing.R:6:3',
  'test_printing.R:13:3', 'test_printing.R:20:3', 'test_printing.R:24:3',
  'test_printing.R:28:3'

[ FAIL 0 | WARN 0 | SKIP 6 | PASS 175 ]
> 
> proc.time()
   user  system elapsed 
 15.953   0.808  16.911 

Example timings

plyxp.Rcheck/plyxp-Ex.timings

nameusersystemelapsed
PlySummarizedExperiment-methods0.0420.0020.045
arrange1.2720.0201.296
as.data.frame0.0080.0020.009
dot-pronouns0.1340.0140.148
filter0.4430.0500.495
group_by0.2450.0230.269
group_data0.1330.0000.134
group_split0.5920.0040.598
group_vars0.0780.0010.079
mutate0.1830.0020.186
new_plyxp0.0980.0020.101
plyxp-context0.1420.0010.145
plyxp-printing0.2730.0090.283
plyxp0.1260.0010.129
pull0.0630.0010.064
reexports0.2820.0030.286
se_simple0.0080.0010.008
select0.4970.0040.503
slice0.3120.0030.315
summarize0.6490.0040.655
vctrs-vec_chop0.0150.0010.015
vctrs-vec_recycle0.0080.0000.008
vctrs-vec_rep0.0260.0000.026
vctrs_slice0.0050.0000.005
vec_group_id0.0500.0030.053
vectors0.0020.0000.003