| Back to Build/check report for BioC 3.23: simplified long |
|
This page was generated on 2025-11-05 11:32 -0500 (Wed, 05 Nov 2025).
| Hostname | OS | Arch (*) | R version | Installed pkgs |
|---|---|---|---|---|
| nebbiolo1 | Linux (Ubuntu 24.04.3 LTS) | x86_64 | R Under development (unstable) (2025-10-20 r88955) -- "Unsuffered Consequences" | 4818 |
| Click on any hostname to see more info about the system (e.g. compilers) (*) as reported by 'uname -p', except on Windows and Mac OS X | ||||
| Package 1594/2323 | Hostname | OS / Arch | INSTALL | BUILD | CHECK | BUILD BIN | ||||||||
| plyxp 1.5.0 (landing page) Justin Landis
| nebbiolo1 | Linux (Ubuntu 24.04.3 LTS) / x86_64 | OK | OK | OK | |||||||||
|
To the developers/maintainers of the plyxp package: - Allow up to 24 hours (and sometimes 48 hours) for your latest push to git@git.bioconductor.org:packages/plyxp.git to reflect on this report. See Troubleshooting Build Report for more information. - Use the following Renviron settings to reproduce errors and warnings. - If 'R CMD check' started to fail recently on the Linux builder(s) over a missing dependency, add the missing dependency to 'Suggests:' in your DESCRIPTION file. See Renviron.bioc for more information. |
| Package: plyxp |
| Version: 1.5.0 |
| Command: /home/biocbuild/bbs-3.23-bioc/R/bin/R CMD check --install=check:plyxp.install-out.txt --library=/home/biocbuild/bbs-3.23-bioc/R/site-library --timings plyxp_1.5.0.tar.gz |
| StartedAt: 2025-11-05 02:28:57 -0500 (Wed, 05 Nov 2025) |
| EndedAt: 2025-11-05 02:32:17 -0500 (Wed, 05 Nov 2025) |
| EllapsedTime: 200.2 seconds |
| RetCode: 0 |
| Status: OK |
| CheckDir: plyxp.Rcheck |
| Warnings: 0 |
##############################################################################
##############################################################################
###
### Running command:
###
### /home/biocbuild/bbs-3.23-bioc/R/bin/R CMD check --install=check:plyxp.install-out.txt --library=/home/biocbuild/bbs-3.23-bioc/R/site-library --timings plyxp_1.5.0.tar.gz
###
##############################################################################
##############################################################################
* using log directory ‘/home/biocbuild/bbs-3.23-bioc/meat/plyxp.Rcheck’
* using R Under development (unstable) (2025-10-20 r88955)
* using platform: x86_64-pc-linux-gnu
* R was compiled by
gcc (Ubuntu 13.3.0-6ubuntu2~24.04) 13.3.0
GNU Fortran (Ubuntu 13.3.0-6ubuntu2~24.04) 13.3.0
* running under: Ubuntu 24.04.3 LTS
* using session charset: UTF-8
* checking for file ‘plyxp/DESCRIPTION’ ... OK
* this is package ‘plyxp’ version ‘1.5.0’
* package encoding: UTF-8
* checking package namespace information ... OK
* checking package dependencies ... OK
* checking if this is a source package ... OK
* checking if there is a namespace ... OK
* checking for hidden files and directories ... OK
* checking for portable file names ... OK
* checking for sufficient/correct file permissions ... OK
* checking whether package ‘plyxp’ can be installed ... OK
* checking installed package size ... OK
* checking package directory ... OK
* checking ‘build’ directory ... OK
* checking DESCRIPTION meta-information ... OK
* checking top-level files ... OK
* checking for left-over files ... OK
* checking index information ... OK
* checking package subdirectories ... OK
* checking code files for non-ASCII characters ... OK
* checking R files for syntax errors ... OK
* checking whether the package can be loaded ... OK
* checking whether the package can be loaded with stated dependencies ... OK
* checking whether the package can be unloaded cleanly ... OK
* checking whether the namespace can be loaded with stated dependencies ... OK
* checking whether the namespace can be unloaded cleanly ... OK
* checking loading without being on the library search path ... OK
* checking dependencies in R code ... OK
* checking S3 generic/method consistency ... OK
* checking replacement functions ... OK
* checking foreign function calls ... OK
* checking R code for possible problems ... OK
* checking Rd files ... OK
* checking Rd metadata ... OK
* checking Rd cross-references ... OK
* checking for missing documentation entries ... OK
* checking for code/documentation mismatches ... OK
* checking Rd \usage sections ... OK
* checking Rd contents ... OK
* checking for unstated dependencies in examples ... OK
* checking contents of ‘data’ directory ... OK
* checking data for non-ASCII characters ... OK
* checking LazyData ... OK
* checking data for ASCII and uncompressed saves ... OK
* checking files in ‘vignettes’ ... OK
* checking examples ... OK
* checking for unstated dependencies in ‘tests’ ... OK
* checking tests ...
Running ‘testthat.R’
OK
* checking for unstated dependencies in vignettes ... OK
* checking package vignettes ... OK
* checking re-building of vignette outputs ... OK
* checking PDF version of manual ... OK
* DONE
Status: OK
plyxp.Rcheck/00install.out
############################################################################## ############################################################################## ### ### Running command: ### ### /home/biocbuild/bbs-3.23-bioc/R/bin/R CMD INSTALL plyxp ### ############################################################################## ############################################################################## * installing to library ‘/home/biocbuild/bbs-3.23-bioc/R/site-library’ * installing *source* package ‘plyxp’ ... ** this is package ‘plyxp’ version ‘1.5.0’ ** using staged installation ** R ** data *** moving datasets to lazyload DB ** byte-compile and prepare package for lazy loading Creating a generic function for ‘rownames’ from package ‘base’ in package ‘plyxp’ Creating a generic function for ‘colnames’ from package ‘base’ in package ‘plyxp’ Creating a generic function for ‘nrow’ from package ‘base’ in package ‘plyxp’ Creating a generic function for ‘ncol’ from package ‘base’ in package ‘plyxp’ ** help *** installing help indices *** copying figures ** building package indices ** installing vignettes ** testing if installed package can be loaded from temporary location ** testing if installed package can be loaded from final location ** testing if installed package keeps a record of temporary installation path * DONE (plyxp)
plyxp.Rcheck/tests/testthat.Rout
R Under development (unstable) (2025-10-20 r88955) -- "Unsuffered Consequences"
Copyright (C) 2025 The R Foundation for Statistical Computing
Platform: x86_64-pc-linux-gnu
R is free software and comes with ABSOLUTELY NO WARRANTY.
You are welcome to redistribute it under certain conditions.
Type 'license()' or 'licence()' for distribution details.
R is a collaborative project with many contributors.
Type 'contributors()' for more information and
'citation()' on how to cite R or R packages in publications.
Type 'demo()' for some demos, 'help()' for on-line help, or
'help.start()' for an HTML browser interface to help.
Type 'q()' to quit R.
> library("testthat")
> library("plyxp")
Attaching package: 'plyxp'
The following object is masked from 'package:stats':
filter
>
> test_check("plyxp")
[ FAIL 0 | WARN 0 | SKIP 6 | PASS 175 ]
══ Skipped tests (6) ═══════════════════════════════════════════════════════════
• On CRAN (6): 'test_printing.R:2:3', 'test_printing.R:6:3',
'test_printing.R:13:3', 'test_printing.R:20:3', 'test_printing.R:24:3',
'test_printing.R:28:3'
[ FAIL 0 | WARN 0 | SKIP 6 | PASS 175 ]
>
> proc.time()
user system elapsed
13.786 0.598 14.373
plyxp.Rcheck/plyxp-Ex.timings
| name | user | system | elapsed | |
| PlySummarizedExperiment-methods | 0.044 | 0.004 | 0.048 | |
| arrange | 1.163 | 0.362 | 1.524 | |
| as.data.frame | 0.006 | 0.003 | 0.009 | |
| dot-pronouns | 0.125 | 0.015 | 0.140 | |
| filter | 0.392 | 0.070 | 0.461 | |
| group_by | 0.209 | 0.029 | 0.238 | |
| group_data | 0.112 | 0.000 | 0.113 | |
| group_split | 0.516 | 0.035 | 0.551 | |
| group_vars | 0.066 | 0.002 | 0.069 | |
| mutate | 0.153 | 0.000 | 0.153 | |
| new_plyxp | 0.085 | 0.000 | 0.085 | |
| plyxp-context | 0.126 | 0.000 | 0.126 | |
| plyxp-printing | 0.221 | 0.003 | 0.224 | |
| plyxp | 0.101 | 0.000 | 0.102 | |
| pull | 0.055 | 0.009 | 0.063 | |
| reexports | 0.220 | 0.001 | 0.221 | |
| se_simple | 0.008 | 0.001 | 0.008 | |
| select | 0.434 | 0.005 | 0.438 | |
| slice | 0.254 | 0.005 | 0.259 | |
| summarize | 0.542 | 0.014 | 0.555 | |
| vctrs-vec_chop | 0.014 | 0.001 | 0.014 | |
| vctrs-vec_recycle | 0.006 | 0.002 | 0.007 | |
| vctrs-vec_rep | 0.030 | 0.002 | 0.032 | |
| vctrs_slice | 0.003 | 0.001 | 0.004 | |
| vec_group_id | 0.044 | 0.006 | 0.050 | |
| vectors | 0.004 | 0.000 | 0.003 | |