Back to Build/check report for BioC 3.23:   simplified   long
ABCDEFGHIJ[K]LMNOPQRSTUVWXYZ

This page was generated on 2025-11-05 11:32 -0500 (Wed, 05 Nov 2025).

HostnameOSArch (*)R versionInstalled pkgs
nebbiolo1Linux (Ubuntu 24.04.3 LTS)x86_64R Under development (unstable) (2025-10-20 r88955) -- "Unsuffered Consequences" 4818
Click on any hostname to see more info about the system (e.g. compilers)      (*) as reported by 'uname -p', except on Windows and Mac OS X

Package 1092/2323HostnameOS / ArchINSTALLBUILDCHECKBUILD BIN
karyoploteR 1.37.0  (landing page)
Bernat Gel
Snapshot Date: 2025-11-04 13:40 -0500 (Tue, 04 Nov 2025)
git_url: https://git.bioconductor.org/packages/karyoploteR
git_branch: devel
git_last_commit: fd32b1e
git_last_commit_date: 2025-10-29 10:36:38 -0500 (Wed, 29 Oct 2025)
nebbiolo1Linux (Ubuntu 24.04.3 LTS) / x86_64  OK    OK    OK  YES


CHECK results for karyoploteR on nebbiolo1

To the developers/maintainers of the karyoploteR package:
- Allow up to 24 hours (and sometimes 48 hours) for your latest push to git@git.bioconductor.org:packages/karyoploteR.git to reflect on this report. See Troubleshooting Build Report for more information.
- Use the following Renviron settings to reproduce errors and warnings.
- If 'R CMD check' started to fail recently on the Linux builder(s) over a missing dependency, add the missing dependency to 'Suggests:' in your DESCRIPTION file. See Renviron.bioc for more information.

raw results


Summary

Package: karyoploteR
Version: 1.37.0
Command: /home/biocbuild/bbs-3.23-bioc/R/bin/R CMD check --install=check:karyoploteR.install-out.txt --library=/home/biocbuild/bbs-3.23-bioc/R/site-library --timings karyoploteR_1.37.0.tar.gz
StartedAt: 2025-11-05 00:34:48 -0500 (Wed, 05 Nov 2025)
EndedAt: 2025-11-05 00:45:36 -0500 (Wed, 05 Nov 2025)
EllapsedTime: 648.1 seconds
RetCode: 0
Status:   OK  
CheckDir: karyoploteR.Rcheck
Warnings: 0

Command output

##############################################################################
##############################################################################
###
### Running command:
###
###   /home/biocbuild/bbs-3.23-bioc/R/bin/R CMD check --install=check:karyoploteR.install-out.txt --library=/home/biocbuild/bbs-3.23-bioc/R/site-library --timings karyoploteR_1.37.0.tar.gz
###
##############################################################################
##############################################################################


* using log directory ‘/home/biocbuild/bbs-3.23-bioc/meat/karyoploteR.Rcheck’
* using R Under development (unstable) (2025-10-20 r88955)
* using platform: x86_64-pc-linux-gnu
* R was compiled by
    gcc (Ubuntu 13.3.0-6ubuntu2~24.04) 13.3.0
    GNU Fortran (Ubuntu 13.3.0-6ubuntu2~24.04) 13.3.0
* running under: Ubuntu 24.04.3 LTS
* using session charset: UTF-8
* checking for file ‘karyoploteR/DESCRIPTION’ ... OK
* checking extension type ... Package
* this is package ‘karyoploteR’ version ‘1.37.0’
* package encoding: UTF-8
* checking package namespace information ... OK
* checking package dependencies ... OK
* checking if this is a source package ... OK
* checking if there is a namespace ... OK
* checking for hidden files and directories ... OK
* checking for portable file names ... OK
* checking for sufficient/correct file permissions ... OK
* checking whether package ‘karyoploteR’ can be installed ... OK
* checking installed package size ... OK
* checking package directory ... OK
* checking ‘build’ directory ... OK
* checking DESCRIPTION meta-information ... NOTE
Packages listed in more than one of Depends, Imports, Suggests, Enhances:
  ‘regioneR’ ‘GenomicRanges’
A package should be listed in only one of these fields.
* checking top-level files ... OK
* checking for left-over files ... OK
* checking index information ... OK
* checking package subdirectories ... NOTE
Problems with news in ‘NEWS’:
  Cannot process chunk/lines:
    NEW FEATURES
  Cannot process chunk/lines:
    SIGNIFICANT USER-VISIBLE CHANGES
  Cannot process chunk/lines:
    NEW FEATURES
  Cannot process chunk/lines:
    SIGNIFICANT USER-VISIBLE CHANGES
* checking code files for non-ASCII characters ... OK
* checking R files for syntax errors ... OK
* checking whether the package can be loaded ... OK
* checking whether the package can be loaded with stated dependencies ... OK
* checking whether the package can be unloaded cleanly ... OK
* checking whether the namespace can be loaded with stated dependencies ... OK
* checking whether the namespace can be unloaded cleanly ... OK
* checking loading without being on the library search path ... OK
* checking whether startup messages can be suppressed ... OK
* checking dependencies in R code ... OK
* checking S3 generic/method consistency ... OK
* checking replacement functions ... OK
* checking foreign function calls ... OK
* checking R code for possible problems ... OK
* checking Rd files ... NOTE
checkRd: (-1) kpPlotBAMCoverage.Rd:48: Lost braces
    48 | There's more information at the \url{https://bernatgel.github.io/karyoploter_tutorial/}{karyoploteR tutorial}.
       |                                                                                        ^
checkRd: (-1) kpPlotBAMDensity.Rd:48: Lost braces
    48 | There's more information at the \url{https://bernatgel.github.io/karyoploter_tutorial/}{karyoploteR tutorial}.
       |                                                                                        ^
checkRd: (-1) kpPlotCoverage.Rd:46: Lost braces
    46 |  There's more information at the \url{https://bernatgel.github.io/karyoploter_tutorial/}{karyoploteR tutorial}.
       |                                                                                         ^
checkRd: (-1) kpPlotDensity.Rd:42: Lost braces
    42 | There's more information at the \url{https://bernatgel.github.io/karyoploter_tutorial/}{karyoploteR tutorial}.
       |                                                                                        ^
checkRd: (-1) kpPlotManhattan.Rd:80: Lost braces
    80 | There's more information at the \url{https://bernatgel.github.io/karyoploter_tutorial/}{karyoploteR tutorial}.
       |                                                                                        ^
checkRd: (-1) kpPlotMarkers.Rd:81: Lost braces
    81 | There's more information at the \url{https://bernatgel.github.io/karyoploter_tutorial/}{karyoploteR tutorial}.
       |                                                                                        ^
checkRd: (-1) kpPlotRainfall.Rd:47: Lost braces
    47 | There's more information at the \url{https://bernatgel.github.io/karyoploter_tutorial/}{karyoploteR tutorial}.
       |                                                                                        ^
checkRd: (-1) kpPoints.Rd:54: Lost braces
    54 | There's more information at the \url{https://bernatgel.github.io/karyoploter_tutorial/}{karyoploteR tutorial}.
       |                                                                                        ^
checkRd: (-1) kpRect.Rd:55: Lost braces
    55 | There's more information at the \url{https://bernatgel.github.io/karyoploter_tutorial/}{karyoploteR tutorial}.
       |                                                                                        ^
checkRd: (-1) plotKaryotype.Rd:61: Lost braces
    61 | There's more information at the \url{https://bernatgel.github.io/karyoploter_tutorial/}{karyoploteR tutorial}.
       |                                                                                        ^
* checking Rd metadata ... OK
* checking Rd cross-references ... NOTE
Found the following Rd file(s) with Rd \link{} targets missing package
anchors:
  getCytobands.Rd: GenomicRanges, memoise, forget
  kpPlotBAMCoverage.Rd: bamsignals
  kpPlotBAMDensity.Rd: Rsamtools
  kpPlotBigWig.Rd: BigWigFile
Please provide package anchors for all Rd \link{} targets not in the
package itself and the base packages.
* checking for missing documentation entries ... OK
* checking for code/documentation mismatches ... OK
* checking Rd \usage sections ... OK
* checking Rd contents ... OK
* checking for unstated dependencies in examples ... OK
* checking R/sysdata.rda ... OK
* checking files in ‘vignettes’ ... OK
* checking examples ... OK
Examples with CPU (user + system) or elapsed time > 5s
                        user system elapsed
mergeTranscripts      87.599  0.744  88.347
kpPlotGenes           67.286  1.929  69.219
kpPlotDensity         34.398  6.388  40.859
kpPlotHorizon         14.224  0.161  14.386
kpPlotRegions         12.107  0.261  12.368
kpPlotBAMCoverage      6.216  0.296   6.513
kpPlotTranscripts      5.965  0.112   6.076
makeGenesDataFromTxDb  5.706  0.108   5.814
addGeneNames           5.043  0.246   5.289
kpPlotManhattan        5.019  0.086   5.105
* checking for unstated dependencies in ‘tests’ ... OK
* checking tests ...
  Running ‘testthat.R’
 OK
* checking for unstated dependencies in vignettes ... OK
* checking package vignettes ... OK
* checking re-building of vignette outputs ... OK
* checking PDF version of manual ... OK
* DONE

Status: 4 NOTEs
See
  ‘/home/biocbuild/bbs-3.23-bioc/meat/karyoploteR.Rcheck/00check.log’
for details.


Installation output

karyoploteR.Rcheck/00install.out

##############################################################################
##############################################################################
###
### Running command:
###
###   /home/biocbuild/bbs-3.23-bioc/R/bin/R CMD INSTALL karyoploteR
###
##############################################################################
##############################################################################


* installing to library ‘/home/biocbuild/bbs-3.23-bioc/R/site-library’
* installing *source* package ‘karyoploteR’ ...
** this is package ‘karyoploteR’ version ‘1.37.0’
** using staged installation
** R
** inst
** byte-compile and prepare package for lazy loading
** help
*** installing help indices
** building package indices
** installing vignettes
** testing if installed package can be loaded from temporary location
** testing if installed package can be loaded from final location
** testing if installed package keeps a record of temporary installation path
* DONE (karyoploteR)

Tests output

karyoploteR.Rcheck/tests/testthat.Rout


R Under development (unstable) (2025-10-20 r88955) -- "Unsuffered Consequences"
Copyright (C) 2025 The R Foundation for Statistical Computing
Platform: x86_64-pc-linux-gnu

R is free software and comes with ABSOLUTELY NO WARRANTY.
You are welcome to redistribute it under certain conditions.
Type 'license()' or 'licence()' for distribution details.

R is a collaborative project with many contributors.
Type 'contributors()' for more information and
'citation()' on how to cite R or R packages in publications.

Type 'demo()' for some demos, 'help()' for on-line help, or
'help.start()' for an HTML browser interface to help.
Type 'q()' to quit R.

> library(testthat)
> library(karyoploteR)
Loading required package: regioneR
Loading required package: GenomicRanges
Loading required package: stats4
Loading required package: BiocGenerics
Loading required package: generics

Attaching package: 'generics'

The following objects are masked from 'package:base':

    as.difftime, as.factor, as.ordered, intersect, is.element, setdiff,
    setequal, union


Attaching package: 'BiocGenerics'

The following objects are masked from 'package:stats':

    IQR, mad, sd, var, xtabs

The following objects are masked from 'package:base':

    Filter, Find, Map, Position, Reduce, anyDuplicated, aperm, append,
    as.data.frame, basename, cbind, colnames, dirname, do.call,
    duplicated, eval, evalq, get, grep, grepl, is.unsorted, lapply,
    mapply, match, mget, order, paste, pmax, pmax.int, pmin, pmin.int,
    rank, rbind, rownames, sapply, saveRDS, table, tapply, unique,
    unsplit, which.max, which.min

Loading required package: S4Vectors

Attaching package: 'S4Vectors'

The following object is masked from 'package:utils':

    findMatches

The following objects are masked from 'package:base':

    I, expand.grid, unname

Loading required package: IRanges
Loading required package: Seqinfo
> 
> test_check("karyoploteR")
[ FAIL 0 | WARN 0 | SKIP 3 | PASS 177 ]

══ Skipped tests (3) ═══════════════════════════════════════════════════════════
• empty test (3): 'test_plotKaryotype.R:27:1', 'test_plotKaryotype.R:34:1',
  'test_plotKaryotype.R:44:1'

[ FAIL 0 | WARN 0 | SKIP 3 | PASS 177 ]
> 
> proc.time()
   user  system elapsed 
 17.303   1.033  18.330 

Example timings

karyoploteR.Rcheck/karyoploteR-Ex.timings

nameusersystemelapsed
addGeneNames5.0430.2465.289
autotrack0.0000.0010.001
colByCategory0.0020.0010.002
colByChr0.4790.0060.484
colByRegion0.9750.1211.095
colByValue0.1860.0190.205
darker0.0010.0000.001
filterParams0.0000.0000.001
findIntersections0.1220.0050.127
getChromosomeNamesBoundingBox0.0470.0060.054
getColorSchemas0.0010.0020.003
getCytobandColors0.0000.0020.001
getCytobands0.0010.0010.002
getDataPanelBoundingBox0.0490.0010.051
getDefaultPlotParams0.0670.0080.076
getMainTitleBoundingBox0.0380.0000.038
getTextSize0.0760.0000.077
getVariantsColors0.0010.0000.000
horizonColors0.0030.0010.004
is.color0.0000.0000.001
kpAbline0.9320.0370.971
kpAddBaseNumbers0.3140.0020.316
kpAddChromosomeNames0.0310.0020.033
kpAddChromosomeSeparators0.4360.0000.435
kpAddColorRect0.1450.0010.146
kpAddCytobandLabels0.3700.0020.373
kpAddCytobands0.0350.0000.035
kpAddCytobandsAsLine0.0760.0150.091
kpAddLabels0.4370.0060.443
kpAddMainTitle0.0370.0010.038
kpArea0.3220.0050.327
kpArrows0.5490.0370.586
kpAxis0.2820.0010.283
kpBars0.1650.0010.167
kpDataBackground0.2020.0010.203
kpHeatmap0.1280.0000.128
kpLines0.2890.0020.292
kpPlotBAMCoverage6.2160.2966.513
kpPlotBAMDensity1.670.021.69
kpPlotBigWig0.7980.0230.821
kpPlotCoverage0.3730.0000.372
kpPlotDensity34.398 6.38840.859
kpPlotGenes67.286 1.92969.219
kpPlotHorizon14.224 0.16114.386
kpPlotLinks1.0090.0251.034
kpPlotLoess0.0670.0000.067
kpPlotManhattan5.0190.0865.105
kpPlotMarkers1.6930.0091.702
kpPlotNames0.1050.0010.106
kpPlotRainfall0.6770.0040.681
kpPlotRegions12.107 0.26112.368
kpPlotRibbon0.0840.0010.084
kpPlotTranscripts5.9650.1126.076
kpPoints0.2430.0020.245
kpPolygon0.2030.0000.203
kpRect0.7150.0270.743
kpSegments0.4980.0090.506
kpText0.2470.0030.250
lighter0.0010.0000.000
makeGenesDataFromTxDb5.7060.1085.814
mergeTranscripts87.599 0.74488.347
plotDefaultPlotParams0.1850.0010.185
plotKaryotype1.0220.0141.035
plotPalettes0.0190.0000.019
prepareParameters20.0380.0000.038
prepareParameters40.0350.0020.036
processClipping0.0370.0010.038
transparent0.0010.0000.001