| Back to Multiple platform build/check report for BioC 3.22: simplified long |
|
This page was generated on 2025-10-23 12:06 -0400 (Thu, 23 Oct 2025).
| Hostname | OS | Arch (*) | R version | Installed pkgs |
|---|---|---|---|---|
| nebbiolo2 | Linux (Ubuntu 24.04.3 LTS) | x86_64 | 4.5.1 Patched (2025-08-23 r88802) -- "Great Square Root" | 4894 |
| lconway | macOS 12.7.6 Monterey | x86_64 | 4.5.1 Patched (2025-09-10 r88807) -- "Great Square Root" | 4684 |
| kjohnson3 | macOS 13.7.7 Ventura | arm64 | 4.5.1 Patched (2025-09-10 r88807) -- "Great Square Root" | 4629 |
| taishan | Linux (openEuler 24.03 LTS) | aarch64 | 4.5.0 (2025-04-11) -- "How About a Twenty-Six" | 4642 |
| Click on any hostname to see more info about the system (e.g. compilers) (*) as reported by 'uname -p', except on Windows and Mac OS X | ||||
| Package 1105/2355 | Hostname | OS / Arch | INSTALL | BUILD | CHECK | BUILD BIN | ||||||||
| karyoploteR 1.35.3 (landing page) Bernat Gel
| nebbiolo2 | Linux (Ubuntu 24.04.3 LTS) / x86_64 | OK | OK | OK | |||||||||
| lconway | macOS 12.7.6 Monterey / x86_64 | OK | OK | OK | OK | |||||||||
| kjohnson3 | macOS 13.7.7 Ventura / arm64 | OK | OK | OK | OK | |||||||||
| taishan | Linux (openEuler 24.03 LTS) / aarch64 | OK | OK | NA | ||||||||||
|
To the developers/maintainers of the karyoploteR package: - Allow up to 24 hours (and sometimes 48 hours) for your latest push to git@git.bioconductor.org:packages/karyoploteR.git to reflect on this report. See Troubleshooting Build Report for more information. - Use the following Renviron settings to reproduce errors and warnings. - If 'R CMD check' started to fail recently on the Linux builder(s) over a missing dependency, add the missing dependency to 'Suggests:' in your DESCRIPTION file. See Renviron.bioc for more information. |
| Package: karyoploteR |
| Version: 1.35.3 |
| Command: /Library/Frameworks/R.framework/Resources/bin/R CMD check --install=check:karyoploteR.install-out.txt --library=/Library/Frameworks/R.framework/Resources/library --no-vignettes --timings karyoploteR_1.35.3.tar.gz |
| StartedAt: 2025-10-22 20:23:54 -0400 (Wed, 22 Oct 2025) |
| EndedAt: 2025-10-22 20:27:49 -0400 (Wed, 22 Oct 2025) |
| EllapsedTime: 235.0 seconds |
| RetCode: 0 |
| Status: OK |
| CheckDir: karyoploteR.Rcheck |
| Warnings: 0 |
##############################################################################
##############################################################################
###
### Running command:
###
### /Library/Frameworks/R.framework/Resources/bin/R CMD check --install=check:karyoploteR.install-out.txt --library=/Library/Frameworks/R.framework/Resources/library --no-vignettes --timings karyoploteR_1.35.3.tar.gz
###
##############################################################################
##############################################################################
* using log directory ‘/Users/biocbuild/bbs-3.22-bioc/meat/karyoploteR.Rcheck’
* using R version 4.5.1 Patched (2025-09-10 r88807)
* using platform: aarch64-apple-darwin20
* R was compiled by
Apple clang version 16.0.0 (clang-1600.0.26.6)
GNU Fortran (GCC) 14.2.0
* running under: macOS Ventura 13.7.7
* using session charset: UTF-8
* using option ‘--no-vignettes’
* checking for file ‘karyoploteR/DESCRIPTION’ ... OK
* checking extension type ... Package
* this is package ‘karyoploteR’ version ‘1.35.3’
* package encoding: UTF-8
* checking package namespace information ... OK
* checking package dependencies ... OK
* checking if this is a source package ... OK
* checking if there is a namespace ... OK
* checking for hidden files and directories ... OK
* checking for portable file names ... OK
* checking for sufficient/correct file permissions ... OK
* checking whether package ‘karyoploteR’ can be installed ... OK
* checking installed package size ... OK
* checking package directory ... OK
* checking ‘build’ directory ... OK
* checking DESCRIPTION meta-information ... NOTE
Packages listed in more than one of Depends, Imports, Suggests, Enhances:
‘regioneR’ ‘GenomicRanges’
A package should be listed in only one of these fields.
* checking top-level files ... OK
* checking for left-over files ... OK
* checking index information ... OK
* checking package subdirectories ... NOTE
Problems with news in ‘NEWS’:
Cannot process chunk/lines:
NEW FEATURES
Cannot process chunk/lines:
SIGNIFICANT USER-VISIBLE CHANGES
Cannot process chunk/lines:
NEW FEATURES
Cannot process chunk/lines:
SIGNIFICANT USER-VISIBLE CHANGES
* checking code files for non-ASCII characters ... OK
* checking R files for syntax errors ... OK
* checking whether the package can be loaded ... OK
* checking whether the package can be loaded with stated dependencies ... OK
* checking whether the package can be unloaded cleanly ... OK
* checking whether the namespace can be loaded with stated dependencies ... OK
* checking whether the namespace can be unloaded cleanly ... OK
* checking whether startup messages can be suppressed ... OK
* checking dependencies in R code ... OK
* checking S3 generic/method consistency ... OK
* checking replacement functions ... OK
* checking foreign function calls ... OK
* checking R code for possible problems ... OK
* checking Rd files ... NOTE
checkRd: (-1) kpPlotBAMCoverage.Rd:48: Lost braces
48 | There's more information at the \url{https://bernatgel.github.io/karyoploter_tutorial/}{karyoploteR tutorial}.
| ^
checkRd: (-1) kpPlotBAMDensity.Rd:48: Lost braces
48 | There's more information at the \url{https://bernatgel.github.io/karyoploter_tutorial/}{karyoploteR tutorial}.
| ^
checkRd: (-1) kpPlotCoverage.Rd:46: Lost braces
46 | There's more information at the \url{https://bernatgel.github.io/karyoploter_tutorial/}{karyoploteR tutorial}.
| ^
checkRd: (-1) kpPlotDensity.Rd:42: Lost braces
42 | There's more information at the \url{https://bernatgel.github.io/karyoploter_tutorial/}{karyoploteR tutorial}.
| ^
checkRd: (-1) kpPlotManhattan.Rd:80: Lost braces
80 | There's more information at the \url{https://bernatgel.github.io/karyoploter_tutorial/}{karyoploteR tutorial}.
| ^
checkRd: (-1) kpPlotMarkers.Rd:81: Lost braces
81 | There's more information at the \url{https://bernatgel.github.io/karyoploter_tutorial/}{karyoploteR tutorial}.
| ^
checkRd: (-1) kpPlotRainfall.Rd:47: Lost braces
47 | There's more information at the \url{https://bernatgel.github.io/karyoploter_tutorial/}{karyoploteR tutorial}.
| ^
checkRd: (-1) kpPoints.Rd:54: Lost braces
54 | There's more information at the \url{https://bernatgel.github.io/karyoploter_tutorial/}{karyoploteR tutorial}.
| ^
checkRd: (-1) kpRect.Rd:55: Lost braces
55 | There's more information at the \url{https://bernatgel.github.io/karyoploter_tutorial/}{karyoploteR tutorial}.
| ^
checkRd: (-1) plotKaryotype.Rd:61: Lost braces
61 | There's more information at the \url{https://bernatgel.github.io/karyoploter_tutorial/}{karyoploteR tutorial}.
| ^
* checking Rd metadata ... OK
* checking Rd cross-references ... NOTE
Found the following Rd file(s) with Rd \link{} targets missing package
anchors:
getCytobands.Rd: GenomicRanges, memoise, forget
kpPlotBAMCoverage.Rd: bamsignals
kpPlotBAMDensity.Rd: Rsamtools
kpPlotBigWig.Rd: BigWigFile
Please provide package anchors for all Rd \link{} targets not in the
package itself and the base packages.
* checking for missing documentation entries ... OK
* checking for code/documentation mismatches ... OK
* checking Rd \usage sections ... OK
* checking Rd contents ... OK
* checking for unstated dependencies in examples ... OK
* checking R/sysdata.rda ... OK
* checking files in ‘vignettes’ ... OK
* checking examples ... OK
Examples with CPU (user + system) or elapsed time > 5s
user system elapsed
mergeTranscripts 27.206 0.310 27.530
kpPlotGenes 22.265 0.395 22.705
kpPlotDensity 16.877 1.351 18.313
* checking for unstated dependencies in ‘tests’ ... OK
* checking tests ...
Running ‘testthat.R’
OK
* checking for unstated dependencies in vignettes ... OK
* checking package vignettes ... OK
* checking running R code from vignettes ... SKIPPED
* checking re-building of vignette outputs ... SKIPPED
* checking PDF version of manual ... OK
* DONE
Status: 4 NOTEs
See
‘/Users/biocbuild/bbs-3.22-bioc/meat/karyoploteR.Rcheck/00check.log’
for details.
karyoploteR.Rcheck/00install.out
############################################################################## ############################################################################## ### ### Running command: ### ### /Library/Frameworks/R.framework/Resources/bin/R CMD INSTALL karyoploteR ### ############################################################################## ############################################################################## * installing to library ‘/Library/Frameworks/R.framework/Versions/4.5-arm64/Resources/library’ * installing *source* package ‘karyoploteR’ ... ** this is package ‘karyoploteR’ version ‘1.35.3’ ** using staged installation ** R ** inst ** byte-compile and prepare package for lazy loading ** help *** installing help indices ** building package indices ** installing vignettes ** testing if installed package can be loaded from temporary location ** testing if installed package can be loaded from final location ** testing if installed package keeps a record of temporary installation path * DONE (karyoploteR)
karyoploteR.Rcheck/tests/testthat.Rout
R version 4.5.1 Patched (2025-09-10 r88807) -- "Great Square Root"
Copyright (C) 2025 The R Foundation for Statistical Computing
Platform: aarch64-apple-darwin20
R is free software and comes with ABSOLUTELY NO WARRANTY.
You are welcome to redistribute it under certain conditions.
Type 'license()' or 'licence()' for distribution details.
R is a collaborative project with many contributors.
Type 'contributors()' for more information and
'citation()' on how to cite R or R packages in publications.
Type 'demo()' for some demos, 'help()' for on-line help, or
'help.start()' for an HTML browser interface to help.
Type 'q()' to quit R.
> library(testthat)
> library(karyoploteR)
Loading required package: regioneR
Loading required package: GenomicRanges
Loading required package: stats4
Loading required package: BiocGenerics
Loading required package: generics
Attaching package: 'generics'
The following objects are masked from 'package:base':
as.difftime, as.factor, as.ordered, intersect, is.element, setdiff,
setequal, union
Attaching package: 'BiocGenerics'
The following objects are masked from 'package:stats':
IQR, mad, sd, var, xtabs
The following objects are masked from 'package:base':
Filter, Find, Map, Position, Reduce, anyDuplicated, aperm, append,
as.data.frame, basename, cbind, colnames, dirname, do.call,
duplicated, eval, evalq, get, grep, grepl, is.unsorted, lapply,
mapply, match, mget, order, paste, pmax, pmax.int, pmin, pmin.int,
rank, rbind, rownames, sapply, saveRDS, table, tapply, unique,
unsplit, which.max, which.min
Loading required package: S4Vectors
Attaching package: 'S4Vectors'
The following object is masked from 'package:utils':
findMatches
The following objects are masked from 'package:base':
I, expand.grid, unname
Loading required package: IRanges
Loading required package: Seqinfo
>
> test_check("karyoploteR")
[ FAIL 0 | WARN 0 | SKIP 3 | PASS 177 ]
══ Skipped tests (3) ═══════════════════════════════════════════════════════════
• empty test (3): 'test_plotKaryotype.R:27:1', 'test_plotKaryotype.R:34:1',
'test_plotKaryotype.R:44:1'
[ FAIL 0 | WARN 0 | SKIP 3 | PASS 177 ]
>
> proc.time()
user system elapsed
6.919 0.276 7.203
karyoploteR.Rcheck/karyoploteR-Ex.timings
| name | user | system | elapsed | |
| addGeneNames | 2.234 | 0.059 | 2.311 | |
| autotrack | 0.000 | 0.000 | 0.001 | |
| colByCategory | 0.001 | 0.000 | 0.001 | |
| colByChr | 0.142 | 0.002 | 0.146 | |
| colByRegion | 0.319 | 0.032 | 0.356 | |
| colByValue | 0.062 | 0.002 | 0.063 | |
| darker | 0.000 | 0.000 | 0.001 | |
| filterParams | 0.001 | 0.000 | 0.000 | |
| findIntersections | 0.035 | 0.001 | 0.035 | |
| getChromosomeNamesBoundingBox | 0.02 | 0.00 | 0.02 | |
| getColorSchemas | 0.001 | 0.001 | 0.001 | |
| getCytobandColors | 0.000 | 0.001 | 0.001 | |
| getCytobands | 0.001 | 0.000 | 0.001 | |
| getDataPanelBoundingBox | 0.014 | 0.000 | 0.015 | |
| getDefaultPlotParams | 0.020 | 0.003 | 0.023 | |
| getMainTitleBoundingBox | 0.011 | 0.000 | 0.011 | |
| getTextSize | 0.022 | 0.000 | 0.023 | |
| getVariantsColors | 0 | 0 | 0 | |
| horizonColors | 0.001 | 0.000 | 0.001 | |
| is.color | 0 | 0 | 0 | |
| kpAbline | 0.716 | 0.210 | 0.930 | |
| kpAddBaseNumbers | 0.094 | 0.002 | 0.096 | |
| kpAddChromosomeNames | 0.011 | 0.000 | 0.011 | |
| kpAddChromosomeSeparators | 0.142 | 0.004 | 0.145 | |
| kpAddColorRect | 0.042 | 0.001 | 0.043 | |
| kpAddCytobandLabels | 0.099 | 0.001 | 0.101 | |
| kpAddCytobands | 0.011 | 0.001 | 0.011 | |
| kpAddCytobandsAsLine | 0.022 | 0.001 | 0.023 | |
| kpAddLabels | 0.120 | 0.001 | 0.122 | |
| kpAddMainTitle | 0.010 | 0.001 | 0.011 | |
| kpArea | 0.114 | 0.001 | 0.115 | |
| kpArrows | 0.156 | 0.002 | 0.158 | |
| kpAxis | 0.084 | 0.002 | 0.084 | |
| kpBars | 0.050 | 0.000 | 0.051 | |
| kpDataBackground | 0.079 | 0.000 | 0.080 | |
| kpHeatmap | 0.037 | 0.000 | 0.038 | |
| kpLines | 0.077 | 0.001 | 0.079 | |
| kpPlotBAMCoverage | 3.325 | 0.092 | 3.481 | |
| kpPlotBAMDensity | 0.763 | 0.018 | 0.786 | |
| kpPlotBigWig | 0.254 | 0.015 | 0.271 | |
| kpPlotCoverage | 0.135 | 0.004 | 0.138 | |
| kpPlotDensity | 16.877 | 1.351 | 18.313 | |
| kpPlotGenes | 22.265 | 0.395 | 22.705 | |
| kpPlotHorizon | 3.877 | 0.011 | 3.893 | |
| kpPlotLinks | 0.262 | 0.004 | 0.266 | |
| kpPlotLoess | 0.021 | 0.001 | 0.021 | |
| kpPlotManhattan | 2.079 | 0.065 | 2.162 | |
| kpPlotMarkers | 0.491 | 0.006 | 0.496 | |
| kpPlotNames | 0.031 | 0.000 | 0.031 | |
| kpPlotRainfall | 0.227 | 0.003 | 0.229 | |
| kpPlotRegions | 3.300 | 0.041 | 3.343 | |
| kpPlotRibbon | 0.025 | 0.000 | 0.026 | |
| kpPlotTranscripts | 1.856 | 0.008 | 1.870 | |
| kpPoints | 0.075 | 0.001 | 0.077 | |
| kpPolygon | 0.065 | 0.002 | 0.067 | |
| kpRect | 0.222 | 0.007 | 0.228 | |
| kpSegments | 0.149 | 0.004 | 0.152 | |
| kpText | 0.075 | 0.001 | 0.076 | |
| lighter | 0.000 | 0.000 | 0.001 | |
| makeGenesDataFromTxDb | 2.273 | 0.071 | 2.346 | |
| mergeTranscripts | 27.206 | 0.310 | 27.530 | |
| plotDefaultPlotParams | 0.104 | 0.003 | 0.107 | |
| plotKaryotype | 0.343 | 0.023 | 0.365 | |
| plotPalettes | 0.009 | 0.002 | 0.010 | |
| prepareParameters2 | 0.012 | 0.001 | 0.014 | |
| prepareParameters4 | 0.013 | 0.001 | 0.013 | |
| processClipping | 0.011 | 0.001 | 0.013 | |
| transparent | 0.000 | 0.001 | 0.001 | |