| Back to Build/check report for BioC 3.23: simplified long |
|
This page was generated on 2025-11-01 11:32 -0400 (Sat, 01 Nov 2025).
| Hostname | OS | Arch (*) | R version | Installed pkgs |
|---|---|---|---|---|
| nebbiolo1 | Linux (Ubuntu 24.04.3 LTS) | x86_64 | R Under development (unstable) (2025-10-20 r88955) -- "Unsuffered Consequences" | 4774 |
| Click on any hostname to see more info about the system (e.g. compilers) (*) as reported by 'uname -p', except on Windows and Mac OS X | ||||
| Package 801/2321 | Hostname | OS / Arch | INSTALL | BUILD | CHECK | BUILD BIN | ||||||||
| gemma.R 3.7.0 (landing page) Ogan Mancarci
| nebbiolo1 | Linux (Ubuntu 24.04.3 LTS) / x86_64 | OK | OK | OK | |||||||||
|
To the developers/maintainers of the gemma.R package: - Allow up to 24 hours (and sometimes 48 hours) for your latest push to git@git.bioconductor.org:packages/gemma.R.git to reflect on this report. See Troubleshooting Build Report for more information. - Use the following Renviron settings to reproduce errors and warnings. - If 'R CMD check' started to fail recently on the Linux builder(s) over a missing dependency, add the missing dependency to 'Suggests:' in your DESCRIPTION file. See Renviron.bioc for more information. |
| Package: gemma.R |
| Version: 3.7.0 |
| Command: /home/biocbuild/bbs-3.23-bioc/R/bin/R CMD check --install=check:gemma.R.install-out.txt --library=/home/biocbuild/bbs-3.23-bioc/R/site-library --timings gemma.R_3.7.0.tar.gz |
| StartedAt: 2025-10-31 23:34:56 -0400 (Fri, 31 Oct 2025) |
| EndedAt: 2025-10-31 23:46:50 -0400 (Fri, 31 Oct 2025) |
| EllapsedTime: 713.9 seconds |
| RetCode: 0 |
| Status: OK |
| CheckDir: gemma.R.Rcheck |
| Warnings: 0 |
##############################################################################
##############################################################################
###
### Running command:
###
### /home/biocbuild/bbs-3.23-bioc/R/bin/R CMD check --install=check:gemma.R.install-out.txt --library=/home/biocbuild/bbs-3.23-bioc/R/site-library --timings gemma.R_3.7.0.tar.gz
###
##############################################################################
##############################################################################
* using log directory ‘/home/biocbuild/bbs-3.23-bioc/meat/gemma.R.Rcheck’
* using R Under development (unstable) (2025-10-20 r88955)
* using platform: x86_64-pc-linux-gnu
* R was compiled by
gcc (Ubuntu 13.3.0-6ubuntu2~24.04) 13.3.0
GNU Fortran (Ubuntu 13.3.0-6ubuntu2~24.04) 13.3.0
* running under: Ubuntu 24.04.3 LTS
* using session charset: UTF-8
* checking for file ‘gemma.R/DESCRIPTION’ ... OK
* this is package ‘gemma.R’ version ‘3.7.0’
* package encoding: UTF-8
* checking package namespace information ... OK
* checking package dependencies ... INFO
Imports includes 21 non-default packages.
Importing from so many packages makes the package vulnerable to any of
them becoming unavailable. Move as many as possible to Suggests and
use conditionally.
* checking if this is a source package ... OK
* checking if there is a namespace ... OK
* checking for hidden files and directories ... OK
* checking for portable file names ... OK
* checking for sufficient/correct file permissions ... OK
* checking whether package ‘gemma.R’ can be installed ... OK
* checking installed package size ... OK
* checking package directory ... OK
* checking ‘build’ directory ... OK
* checking DESCRIPTION meta-information ... OK
* checking top-level files ... OK
* checking for left-over files ... OK
* checking index information ... OK
* checking package subdirectories ... OK
* checking code files for non-ASCII characters ... OK
* checking R files for syntax errors ... OK
* checking whether the package can be loaded ... OK
* checking whether the package can be loaded with stated dependencies ... OK
* checking whether the package can be unloaded cleanly ... OK
* checking whether the namespace can be loaded with stated dependencies ... OK
* checking whether the namespace can be unloaded cleanly ... OK
* checking loading without being on the library search path ... OK
* checking dependencies in R code ... OK
* checking S3 generic/method consistency ... OK
* checking replacement functions ... OK
* checking foreign function calls ... OK
* checking R code for possible problems ... OK
* checking Rd files ... OK
* checking Rd metadata ... OK
* checking Rd cross-references ... OK
* checking for missing documentation entries ... OK
* checking for code/documentation mismatches ... OK
* checking Rd \usage sections ... OK
* checking Rd contents ... OK
* checking for unstated dependencies in examples ... OK
* checking files in ‘vignettes’ ... OK
* checking examples ... OK
Examples with CPU (user + system) or elapsed time > 5s
user system elapsed
get_dataset_object 7.397 0.376 10.251
get_gene_differential_expression_values 1.268 0.068 7.722
dot-get_gene_differential_expression_values 1.275 0.008 7.857
get_dataset_processed_expression 1.182 0.036 5.846
get_dataset_differential_expression_analyses 0.557 0.068 5.062
get_datasets 0.204 0.020 10.140
* checking for unstated dependencies in ‘tests’ ... OK
* checking tests ...
Running ‘testthat.R’
OK
* checking for unstated dependencies in vignettes ... OK
* checking package vignettes ... OK
* checking re-building of vignette outputs ... OK
* checking PDF version of manual ... OK
* DONE
Status: OK
gemma.R.Rcheck/00install.out
############################################################################## ############################################################################## ### ### Running command: ### ### /home/biocbuild/bbs-3.23-bioc/R/bin/R CMD INSTALL gemma.R ### ############################################################################## ############################################################################## * installing to library ‘/home/biocbuild/bbs-3.23-bioc/R/site-library’ * installing *source* package ‘gemma.R’ ... ** this is package ‘gemma.R’ version ‘3.7.0’ ** using staged installation ** R ** inst ** byte-compile and prepare package for lazy loading ** help *** installing help indices *** copying figures ** building package indices ** installing vignettes ** testing if installed package can be loaded from temporary location ** testing if installed package can be loaded from final location ** testing if installed package keeps a record of temporary installation path * DONE (gemma.R)
gemma.R.Rcheck/tests/testthat.Rout
R Under development (unstable) (2025-10-20 r88955) -- "Unsuffered Consequences"
Copyright (C) 2025 The R Foundation for Statistical Computing
Platform: x86_64-pc-linux-gnu
R is free software and comes with ABSOLUTELY NO WARRANTY.
You are welcome to redistribute it under certain conditions.
Type 'license()' or 'licence()' for distribution details.
R is a collaborative project with many contributors.
Type 'contributors()' for more information and
'citation()' on how to cite R or R packages in publications.
Type 'demo()' for some demos, 'help()' for on-line help, or
'help.start()' for an HTML browser interface to help.
Type 'q()' to quit R.
> library(testthat)
> library(dplyr)
Attaching package: 'dplyr'
The following object is masked from 'package:testthat':
matches
The following objects are masked from 'package:stats':
filter, lag
The following objects are masked from 'package:base':
intersect, setdiff, setequal, union
>
> # Prevent certificate issues for GitHub actions
> options(gemma.SSL = FALSE)
> # get gemma api path if it's set in the environment
> gemma.R:::setGemmaPath('prod')
[1] "https://gemma.msl.ubc.ca/rest/v2/"
> print(gemma.R:::gemmaPath())
[1] "https://gemma.msl.ubc.ca/rest/v2/"
> test_check("gemma.R")
Loading required package: gemma.R
[ FAIL 0 | WARN 0 | SKIP 5 | PASS 192 ]
══ Skipped tests (5) ═══════════════════════════════════════════════════════════
• On Bioconductor (4): 'testCaches.R:37:3', 'testConvenience.R:15:5',
'testConvenience.R:37:5', 'testDatasetEndpoints.R:88:5'
• empty test (1): 'testConvenience.R:1:1'
[ FAIL 0 | WARN 0 | SKIP 5 | PASS 192 ]
>
>
>
> proc.time()
user system elapsed
112.481 2.732 325.716
gemma.R.Rcheck/gemma.R-Ex.timings
| name | user | system | elapsed | |
| dot-getResultSets | 0 | 0 | 0 | |
| dot-get_dataset_expression_for_genes | 0.964 | 0.061 | 3.090 | |
| dot-get_gene_differential_expression_values | 1.275 | 0.008 | 7.857 | |
| filter_properties | 0.030 | 0.000 | 0.032 | |
| forget_gemma_memoised | 0.013 | 0.019 | 0.032 | |
| gemma_call | 0.006 | 0.006 | 0.097 | |
| get_annotation_children | 0.013 | 0.002 | 0.090 | |
| get_annotation_parents | 0.009 | 0.000 | 0.084 | |
| get_child_terms | 0.014 | 0.001 | 0.116 | |
| get_dataset_annotations | 0.007 | 0.001 | 0.096 | |
| get_dataset_differential_expression_analyses | 0.557 | 0.068 | 5.062 | |
| get_dataset_expression | 0.835 | 0.069 | 3.196 | |
| get_dataset_expression_for_genes | 0.281 | 0.003 | 0.878 | |
| get_dataset_object | 7.397 | 0.376 | 10.251 | |
| get_dataset_platforms | 0.053 | 0.002 | 0.254 | |
| get_dataset_processed_expression | 1.182 | 0.036 | 5.846 | |
| get_dataset_publications | 0.009 | 0.000 | 0.087 | |
| get_dataset_quantitation_types | 0.009 | 0.001 | 0.207 | |
| get_dataset_raw_expression | 0.681 | 0.055 | 4.574 | |
| get_dataset_samples | 0.259 | 0.008 | 0.871 | |
| get_datasets | 0.204 | 0.020 | 10.140 | |
| get_datasets_by_ids | 0.062 | 0.002 | 0.236 | |
| get_differential_expression_values | 0.953 | 0.050 | 4.721 | |
| get_gene_differential_expression_values | 1.268 | 0.068 | 7.722 | |
| get_gene_go_terms | 0.048 | 0.002 | 0.355 | |
| get_gene_locations | 0.026 | 0.002 | 0.250 | |
| get_gene_probes | 0.039 | 0.005 | 0.226 | |
| get_genes | 0.035 | 0.003 | 0.227 | |
| get_platform_annotations | 0.766 | 0.061 | 3.501 | |
| get_platform_datasets | 0.067 | 0.003 | 0.582 | |
| get_platform_element_genes | 0.013 | 0.004 | 0.126 | |
| get_platforms_by_ids | 0.036 | 0.002 | 0.237 | |
| get_result_sets | 0.067 | 0.004 | 0.251 | |
| get_taxa | 0.016 | 0.001 | 0.133 | |
| get_taxa_by_ids | 0.017 | 0.000 | 0.095 | |
| get_taxon_datasets | 0.080 | 0.007 | 0.426 | |
| make_design | 0.576 | 0.031 | 1.076 | |
| search_annotations | 0.010 | 0.001 | 0.089 | |
| search_datasets | 0.032 | 0.004 | 0.501 | |
| search_gemma | 0.102 | 0.013 | 0.746 | |
| update_result | 0.688 | 0.012 | 3.851 | |