Back to Multiple platform build/check report for BioC 3.22:   simplified   long
ABCDEF[G]HIJKLMNOPQRSTUVWXYZ

This page was generated on 2025-10-15 12:07 -0400 (Wed, 15 Oct 2025).

HostnameOSArch (*)R versionInstalled pkgs
nebbiolo2Linux (Ubuntu 24.04.3 LTS)x86_644.5.1 Patched (2025-08-23 r88802) -- "Great Square Root" 4866
lconwaymacOS 12.7.6 Montereyx86_644.5.1 Patched (2025-09-10 r88807) -- "Great Square Root" 4653
kjohnson3macOS 13.7.7 Venturaarm644.5.1 Patched (2025-09-10 r88807) -- "Great Square Root" 4598
taishanLinux (openEuler 24.03 LTS)aarch644.5.0 (2025-04-11) -- "How About a Twenty-Six" 4610
Click on any hostname to see more info about the system (e.g. compilers)      (*) as reported by 'uname -p', except on Windows and Mac OS X

Package 799/2346HostnameOS / ArchINSTALLBUILDCHECKBUILD BIN
gDRutils 1.7.18  (landing page)
Arkadiusz Gladki
Snapshot Date: 2025-10-14 13:45 -0400 (Tue, 14 Oct 2025)
git_url: https://git.bioconductor.org/packages/gDRutils
git_branch: devel
git_last_commit: f4317a5
git_last_commit_date: 2025-10-13 05:11:46 -0400 (Mon, 13 Oct 2025)
nebbiolo2Linux (Ubuntu 24.04.3 LTS) / x86_64  OK    OK    OK  UNNEEDED, same version is already published
lconwaymacOS 12.7.6 Monterey / x86_64  OK    OK    OK    OK  UNNEEDED, same version is already published
kjohnson3macOS 13.7.7 Ventura / arm64  OK    OK    OK    OK  UNNEEDED, same version is already published
taishanLinux (openEuler 24.03 LTS) / aarch64  OK    OK    OK  


CHECK results for gDRutils on taishan

To the developers/maintainers of the gDRutils package:
- Allow up to 24 hours (and sometimes 48 hours) for your latest push to git@git.bioconductor.org:packages/gDRutils.git to reflect on this report. See Troubleshooting Build Report for more information.
- Use the following Renviron settings to reproduce errors and warnings.
- If 'R CMD check' started to fail recently on the Linux builder(s) over a missing dependency, add the missing dependency to 'Suggests:' in your DESCRIPTION file. See Renviron.bioc for more information.
- See Martin Grigorov's blog post for how to debug Linux ARM64 related issues on a x86_64 host.

raw results


Summary

Package: gDRutils
Version: 1.7.18
Command: /home/biocbuild/R/R/bin/R CMD check --install=check:gDRutils.install-out.txt --library=/home/biocbuild/R/R/site-library --no-vignettes --timings gDRutils_1.7.18.tar.gz
StartedAt: 2025-10-14 08:31:59 -0000 (Tue, 14 Oct 2025)
EndedAt: 2025-10-14 08:37:44 -0000 (Tue, 14 Oct 2025)
EllapsedTime: 344.3 seconds
RetCode: 0
Status:   OK  
CheckDir: gDRutils.Rcheck
Warnings: 0

Command output

##############################################################################
##############################################################################
###
### Running command:
###
###   /home/biocbuild/R/R/bin/R CMD check --install=check:gDRutils.install-out.txt --library=/home/biocbuild/R/R/site-library --no-vignettes --timings gDRutils_1.7.18.tar.gz
###
##############################################################################
##############################################################################


* using log directory ‘/home/biocbuild/bbs-3.22-bioc/meat/gDRutils.Rcheck’
* using R version 4.5.0 (2025-04-11)
* using platform: aarch64-unknown-linux-gnu
* R was compiled by
    aarch64-unknown-linux-gnu-gcc (GCC) 14.2.0
    GNU Fortran (GCC) 14.2.0
* running under: openEuler 24.03 (LTS)
* using session charset: UTF-8
* using option ‘--no-vignettes’
* checking for file ‘gDRutils/DESCRIPTION’ ... OK
* checking extension type ... Package
* this is package ‘gDRutils’ version ‘1.7.18’
* package encoding: UTF-8
* checking package namespace information ... OK
* checking package dependencies ... OK
* checking if this is a source package ... OK
* checking if there is a namespace ... OK
* checking for hidden files and directories ... OK
* checking for portable file names ... OK
* checking for sufficient/correct file permissions ... OK
* checking whether package ‘gDRutils’ can be installed ... OK
* checking installed package size ... OK
* checking package directory ... OK
* checking ‘build’ directory ... OK
* checking DESCRIPTION meta-information ... OK
* checking top-level files ... OK
* checking for left-over files ... OK
* checking index information ... OK
* checking package subdirectories ... OK
* checking code files for non-ASCII characters ... OK
* checking R files for syntax errors ... OK
* checking whether the package can be loaded ... OK
* checking whether the package can be loaded with stated dependencies ... OK
* checking whether the package can be unloaded cleanly ... OK
* checking whether the namespace can be loaded with stated dependencies ... OK
* checking whether the namespace can be unloaded cleanly ... OK
* checking loading without being on the library search path ... OK
* checking dependencies in R code ... OK
* checking S3 generic/method consistency ... OK
* checking replacement functions ... OK
* checking foreign function calls ... OK
* checking R code for possible problems ... OK
* checking Rd files ... OK
* checking Rd metadata ... OK
* checking Rd cross-references ... NOTE
Found the following Rd file(s) with Rd \link{} targets missing package
anchors:
  SE_metadata.Rd: SummarizedExperiment-class
  convert_mae_assay_to_dt.Rd: SummarizedExperiment-class,
    MultiAssayExperiment-class
  convert_se_assay_to_dt.Rd: SummarizedExperiment-class
  is_exp_empty.Rd: SummarizedExperiment-class
  split_SE_components.Rd: SummarizedExperiment-class
  validate_se_assay_name.Rd: SummarizedExperiment-class
Please provide package anchors for all Rd \link{} targets not in the
package itself and the base packages.
* checking for missing documentation entries ... OK
* checking for code/documentation mismatches ... OK
* checking Rd \usage sections ... OK
* checking Rd contents ... OK
* checking for unstated dependencies in examples ... OK
* checking files in ‘vignettes’ ... OK
* checking examples ... OK
Examples with CPU (user + system) or elapsed time > 5s
           user system elapsed
merge_MAE 5.352  0.823   5.093
* checking for unstated dependencies in ‘tests’ ... OK
* checking tests ...
  Running ‘testthat.R’
 OK
* checking for unstated dependencies in vignettes ... OK
* checking package vignettes ... OK
* checking running R code from vignettes ... SKIPPED
* checking re-building of vignette outputs ... SKIPPED
* checking PDF version of manual ... OK
* DONE

Status: 1 NOTE
See
  ‘/home/biocbuild/bbs-3.22-bioc/meat/gDRutils.Rcheck/00check.log’
for details.


Installation output

gDRutils.Rcheck/00install.out

##############################################################################
##############################################################################
###
### Running command:
###
###   /home/biocbuild/R/R/bin/R CMD INSTALL gDRutils
###
##############################################################################
##############################################################################


* installing to library ‘/home/biocbuild/R/R-4.5.0/site-library’
* installing *source* package ‘gDRutils’ ...
** this is package ‘gDRutils’ version ‘1.7.18’
** using staged installation
** R
** inst
** byte-compile and prepare package for lazy loading
** help
*** installing help indices
** building package indices
** installing vignettes
** testing if installed package can be loaded from temporary location
** testing if installed package can be loaded from final location
** testing if installed package keeps a record of temporary installation path
* DONE (gDRutils)

Tests output

gDRutils.Rcheck/tests/testthat.Rout


R version 4.5.0 (2025-04-11) -- "How About a Twenty-Six"
Copyright (C) 2025 The R Foundation for Statistical Computing
Platform: aarch64-unknown-linux-gnu

R is free software and comes with ABSOLUTELY NO WARRANTY.
You are welcome to redistribute it under certain conditions.
Type 'license()' or 'licence()' for distribution details.

R is a collaborative project with many contributors.
Type 'contributors()' for more information and
'citation()' on how to cite R or R packages in publications.

Type 'demo()' for some demos, 'help()' for on-line help, or
'help.start()' for an HTML browser interface to help.
Type 'q()' to quit R.

> library("gDRutils")
> library("testthat")
> 
> test_check("gDRutils")
[ FAIL 0 | WARN 0 | SKIP 0 | PASS 845 ]
> 
> proc.time()
   user  system elapsed 
128.449   5.079 132.919 

Example timings

gDRutils.Rcheck/gDRutils-Ex.timings

nameusersystemelapsed
MAEpply0.5190.0400.562
SE_metadata0.0420.0000.042
addClass0.0030.0000.003
aggregate_assay0.7290.0190.751
apply_bumpy_function2.7520.0282.789
assert_choices0.0010.0000.000
average_biological_replicates_dt0.5080.0920.600
calc_sd0.0010.0000.001
capVals0.2900.0440.336
cap_assay_infinities0.3840.0000.379
cap_xc500.0010.0000.000
convert_colData_to_json0.0730.0000.073
convert_combo_data_to_dt0.4180.0120.428
convert_combo_field_to_assay0.0020.0000.002
convert_mae_assay_to_dt0.0890.0000.089
convert_mae_to_json0.0200.0000.021
convert_metadata_to_json0.0130.0000.013
convert_rowData_to_json0.0040.0000.004
convert_se_assay_to_custom_dt0.8100.0280.837
convert_se_assay_to_dt0.0780.0000.078
convert_se_to_json0.0170.0000.017
define_matrix_grid_positions0.0750.0000.074
demote_fields0.5070.0200.522
df_to_bm_assay0.1930.0000.194
dot-set_invalid_fit_params000
dot-standardize_conc000
extend_normalization_type_name000
fit_curves0.1840.0080.193
flatten0.0100.0000.011
gen_synthetic_data0.0070.0000.008
geometric_mean0.0000.0000.001
get_MAE_identifiers0.0090.0000.009
get_additional_variables0.0190.0000.020
get_assay_dt_duplicated_rows0.2710.0040.277
get_assay_names0.0000.0000.001
get_assay_req_uniq_cols0.1580.0000.159
get_combo_assay_names0.0010.0000.000
get_combo_base_assay_names0.0010.0000.001
get_combo_excess_field_names0.0020.0000.003
get_combo_score_assay_names0.0010.0000.001
get_combo_score_field_names0.0010.0000.001
get_default_identifiers0.0000.0000.001
get_duplicated_rows0.0030.0000.003
get_env_assay_names000
get_env_var0.0010.0000.000
get_expect_one_identifiers0.0000.0000.001
get_experiment_groups000
get_gDR_session_info0.0710.0030.074
get_identifiers_dt0.0070.0000.007
get_idfs_synonyms000
get_isobologram_columns0.0960.0000.095
get_non_empty_assays0.0610.0000.059
get_required_identifiers000
get_settings_from_json0.0010.0000.001
get_supported_experiments0.0010.0000.000
get_synthetic_data0.0090.0030.013
get_testdata0.1040.0040.109
get_testdata_codilution0.1010.0040.107
get_testdata_combo0.3420.0000.364
has_assay_dt_duplicated_rows0.1780.0040.182
has_dt_duplicated_rows0.0010.0000.000
has_single_codrug_data0.8870.0400.930
has_valid_codrug_data0.2010.0000.200
headers0.0320.0000.032
identifiers000
identify_unique_se_metadata_fields0.0090.0000.009
is_any_exp_empty0.0570.0030.060
is_combo_data0.1530.0080.162
is_exp_empty0.0610.0000.060
is_mae_empty0.0630.0000.062
logisticFit0.0370.0040.040
loop2.4620.0283.506
map_conc_to_standardized_conc0.0020.0040.006
mcolData0.0140.0080.022
merge_MAE5.3520.8235.093
merge_SE1.9030.0441.932
merge_assay0.3740.0000.372
merge_metadata0.0090.0000.009
modifyData0.3750.0040.380
mrowData0.0160.0000.016
predict_conc_from_efficacy0.0010.0000.000
predict_efficacy_from_conc0.0010.0000.001
predict_smooth_from_combo0.2290.0200.250
prettify_flat_metrics0.0470.0000.047
process_batch0.6330.1390.775
promote_fields0.2350.0000.235
refine_coldata0.0130.0000.012
refine_rowdata0.0550.0000.055
remove_codrug_data0.0850.0000.085
remove_drug_batch0.0020.0000.002
rename_DFrame0.0110.0000.012
rename_bumpy0.0380.0000.038
round_concentration000
set_constant_fit_params0.0000.0000.001
set_unique_cl_names0.0630.0000.064
set_unique_cl_names_dt0.0250.0000.026
set_unique_drug_names0.0710.0000.071
set_unique_drug_names_dt0.050.000.05
set_unique_identifiers0.3500.0040.355
set_unique_names_dt0.0240.0000.024
shorten_normalization_type_name000
split_SE_components0.1210.0040.126
split_big_table_for_xlsx0.0060.0000.006
standardize_mae0.1460.0000.146
standardize_se0.0610.0000.062
throw_msg_if_duplicates0.1520.0040.157
update_env_idfs_from_mae0.0020.0000.002
update_idfs_synonyms0.0000.0000.001
validate_MAE0.1040.0000.105
validate_SE0.0340.0000.034
validate_identifiers0.0090.0000.009
validate_json000
validate_mae_with_schema0.6680.0560.870
validate_se_assay_name0.0090.0000.009