Back to Multiple platform build/check report for BioC 3.22:   simplified   long
ABCDEF[G]HIJKLMNOPQRSTUVWXYZ

This page was generated on 2025-10-15 12:04 -0400 (Wed, 15 Oct 2025).

HostnameOSArch (*)R versionInstalled pkgs
nebbiolo2Linux (Ubuntu 24.04.3 LTS)x86_644.5.1 Patched (2025-08-23 r88802) -- "Great Square Root" 4866
lconwaymacOS 12.7.6 Montereyx86_644.5.1 Patched (2025-09-10 r88807) -- "Great Square Root" 4653
kjohnson3macOS 13.7.7 Venturaarm644.5.1 Patched (2025-09-10 r88807) -- "Great Square Root" 4598
taishanLinux (openEuler 24.03 LTS)aarch644.5.0 (2025-04-11) -- "How About a Twenty-Six" 4610
Click on any hostname to see more info about the system (e.g. compilers)      (*) as reported by 'uname -p', except on Windows and Mac OS X

Package 799/2346HostnameOS / ArchINSTALLBUILDCHECKBUILD BIN
gDRutils 1.7.18  (landing page)
Arkadiusz Gladki
Snapshot Date: 2025-10-14 13:45 -0400 (Tue, 14 Oct 2025)
git_url: https://git.bioconductor.org/packages/gDRutils
git_branch: devel
git_last_commit: f4317a5
git_last_commit_date: 2025-10-13 05:11:46 -0400 (Mon, 13 Oct 2025)
nebbiolo2Linux (Ubuntu 24.04.3 LTS) / x86_64  OK    OK    OK  UNNEEDED, same version is already published
lconwaymacOS 12.7.6 Monterey / x86_64  OK    OK    OK    OK  UNNEEDED, same version is already published
kjohnson3macOS 13.7.7 Ventura / arm64  OK    OK    OK    OK  UNNEEDED, same version is already published
taishanLinux (openEuler 24.03 LTS) / aarch64  OK    OK    OK  


CHECK results for gDRutils on lconway

To the developers/maintainers of the gDRutils package:
- Allow up to 24 hours (and sometimes 48 hours) for your latest push to git@git.bioconductor.org:packages/gDRutils.git to reflect on this report. See Troubleshooting Build Report for more information.
- Use the following Renviron settings to reproduce errors and warnings.
- If 'R CMD check' started to fail recently on the Linux builder(s) over a missing dependency, add the missing dependency to 'Suggests:' in your DESCRIPTION file. See Renviron.bioc for more information.

raw results


Summary

Package: gDRutils
Version: 1.7.18
Command: /Library/Frameworks/R.framework/Resources/bin/R CMD check --install=check:gDRutils.install-out.txt --library=/Library/Frameworks/R.framework/Resources/library --no-vignettes --timings gDRutils_1.7.18.tar.gz
StartedAt: 2025-10-14 22:09:37 -0400 (Tue, 14 Oct 2025)
EndedAt: 2025-10-14 22:18:19 -0400 (Tue, 14 Oct 2025)
EllapsedTime: 521.8 seconds
RetCode: 0
Status:   OK  
CheckDir: gDRutils.Rcheck
Warnings: 0

Command output

##############################################################################
##############################################################################
###
### Running command:
###
###   /Library/Frameworks/R.framework/Resources/bin/R CMD check --install=check:gDRutils.install-out.txt --library=/Library/Frameworks/R.framework/Resources/library --no-vignettes --timings gDRutils_1.7.18.tar.gz
###
##############################################################################
##############################################################################


* using log directory ‘/Users/biocbuild/bbs-3.22-bioc/meat/gDRutils.Rcheck’
* using R version 4.5.1 Patched (2025-09-10 r88807)
* using platform: x86_64-apple-darwin20
* R was compiled by
    Apple clang version 14.0.0 (clang-1400.0.29.202)
    GNU Fortran (GCC) 14.2.0
* running under: macOS Monterey 12.7.6
* using session charset: UTF-8
* using option ‘--no-vignettes’
* checking for file ‘gDRutils/DESCRIPTION’ ... OK
* checking extension type ... Package
* this is package ‘gDRutils’ version ‘1.7.18’
* package encoding: UTF-8
* checking package namespace information ... OK
* checking package dependencies ... OK
* checking if this is a source package ... OK
* checking if there is a namespace ... OK
* checking for hidden files and directories ... OK
* checking for portable file names ... OK
* checking for sufficient/correct file permissions ... OK
* checking whether package ‘gDRutils’ can be installed ... OK
* checking installed package size ... OK
* checking package directory ... OK
* checking ‘build’ directory ... OK
* checking DESCRIPTION meta-information ... OK
* checking top-level files ... OK
* checking for left-over files ... OK
* checking index information ... OK
* checking package subdirectories ... OK
* checking code files for non-ASCII characters ... OK
* checking R files for syntax errors ... OK
* checking whether the package can be loaded ... OK
* checking whether the package can be loaded with stated dependencies ... OK
* checking whether the package can be unloaded cleanly ... OK
* checking whether the namespace can be loaded with stated dependencies ... OK
* checking whether the namespace can be unloaded cleanly ... OK
* checking dependencies in R code ... OK
* checking S3 generic/method consistency ... OK
* checking replacement functions ... OK
* checking foreign function calls ... OK
* checking R code for possible problems ... OK
* checking Rd files ... OK
* checking Rd metadata ... OK
* checking Rd cross-references ... NOTE
Found the following Rd file(s) with Rd \link{} targets missing package
anchors:
  SE_metadata.Rd: SummarizedExperiment-class
  convert_mae_assay_to_dt.Rd: SummarizedExperiment-class,
    MultiAssayExperiment-class
  convert_se_assay_to_dt.Rd: SummarizedExperiment-class
  is_exp_empty.Rd: SummarizedExperiment-class
  split_SE_components.Rd: SummarizedExperiment-class
  validate_se_assay_name.Rd: SummarizedExperiment-class
Please provide package anchors for all Rd \link{} targets not in the
package itself and the base packages.
* checking for missing documentation entries ... OK
* checking for code/documentation mismatches ... OK
* checking Rd \usage sections ... OK
* checking Rd contents ... OK
* checking for unstated dependencies in examples ... OK
* checking files in ‘vignettes’ ... OK
* checking examples ... OK
Examples with CPU (user + system) or elapsed time > 5s
                      user system elapsed
loop                 3.560  1.522   5.837
merge_MAE            4.474  0.400   6.841
get_gDR_session_info 2.201  2.184  41.244
* checking for unstated dependencies in ‘tests’ ... OK
* checking tests ...
  Running ‘testthat.R’
 OK
* checking for unstated dependencies in vignettes ... OK
* checking package vignettes ... OK
* checking running R code from vignettes ... SKIPPED
* checking re-building of vignette outputs ... SKIPPED
* checking PDF version of manual ... OK
* DONE

Status: 1 NOTE
See
  ‘/Users/biocbuild/bbs-3.22-bioc/meat/gDRutils.Rcheck/00check.log’
for details.


Installation output

gDRutils.Rcheck/00install.out

##############################################################################
##############################################################################
###
### Running command:
###
###   /Library/Frameworks/R.framework/Resources/bin/R CMD INSTALL gDRutils
###
##############################################################################
##############################################################################


* installing to library ‘/Library/Frameworks/R.framework/Versions/4.5-x86_64/Resources/library’
* installing *source* package ‘gDRutils’ ...
** this is package ‘gDRutils’ version ‘1.7.18’
** using staged installation
** R
** inst
** byte-compile and prepare package for lazy loading
** help
*** installing help indices
** building package indices
** installing vignettes
** testing if installed package can be loaded from temporary location
** testing if installed package can be loaded from final location
** testing if installed package keeps a record of temporary installation path
* DONE (gDRutils)

Tests output

gDRutils.Rcheck/tests/testthat.Rout


R version 4.5.1 Patched (2025-09-10 r88807) -- "Great Square Root"
Copyright (C) 2025 The R Foundation for Statistical Computing
Platform: x86_64-apple-darwin20

R is free software and comes with ABSOLUTELY NO WARRANTY.
You are welcome to redistribute it under certain conditions.
Type 'license()' or 'licence()' for distribution details.

R is a collaborative project with many contributors.
Type 'contributors()' for more information and
'citation()' on how to cite R or R packages in publications.

Type 'demo()' for some demos, 'help()' for on-line help, or
'help.start()' for an HTML browser interface to help.
Type 'q()' to quit R.

> library("gDRutils")
> library("testthat")
> 
> test_check("gDRutils")
[ FAIL 0 | WARN 0 | SKIP 0 | PASS 845 ]
> 
> proc.time()
   user  system elapsed 
105.265   7.042 132.070 

Example timings

gDRutils.Rcheck/gDRutils-Ex.timings

nameusersystemelapsed
MAEpply0.6090.0661.164
SE_metadata0.0390.0090.053
addClass0.0020.0010.003
aggregate_assay0.6580.0981.006
apply_bumpy_function1.9210.1442.573
assert_choices0.0010.0000.001
average_biological_replicates_dt0.5030.0350.688
calc_sd0.0010.0010.003
capVals0.2250.0220.607
cap_assay_infinities0.8340.0241.171
cap_xc500.0000.0000.001
convert_colData_to_json0.0510.0010.096
convert_combo_data_to_dt0.2910.0200.508
convert_combo_field_to_assay0.0020.0000.002
convert_mae_assay_to_dt0.0740.0080.115
convert_mae_to_json0.0170.0040.025
convert_metadata_to_json0.0120.0010.012
convert_rowData_to_json0.0040.0010.004
convert_se_assay_to_custom_dt0.6350.0802.053
convert_se_assay_to_dt0.0690.0050.078
convert_se_to_json0.0160.0010.017
define_matrix_grid_positions0.0580.0060.071
demote_fields0.4380.0150.486
df_to_bm_assay0.1390.0040.196
dot-set_invalid_fit_params0.0010.0000.000
dot-standardize_conc0.0000.0010.000
extend_normalization_type_name000
fit_curves0.1650.0522.412
flatten0.0100.0020.014
gen_synthetic_data0.0050.0010.007
geometric_mean0.0000.0010.000
get_MAE_identifiers0.0070.0080.035
get_additional_variables0.0150.0020.019
get_assay_dt_duplicated_rows0.2190.0150.255
get_assay_names0.0010.0000.000
get_assay_req_uniq_cols0.1520.0070.165
get_combo_assay_names0.0010.0000.001
get_combo_base_assay_names0.0010.0000.001
get_combo_excess_field_names0.0010.0000.002
get_combo_score_assay_names0.0010.0000.002
get_combo_score_field_names0.0010.0010.001
get_default_identifiers0.0000.0010.001
get_duplicated_rows0.0030.0010.004
get_env_assay_names0.0000.0010.000
get_env_var0.0000.0010.001
get_expect_one_identifiers0.0010.0010.001
get_experiment_groups000
get_gDR_session_info 2.201 2.18441.244
get_identifiers_dt0.0060.0080.058
get_idfs_synonyms0.0000.0010.001
get_isobologram_columns0.0710.0060.177
get_non_empty_assays0.0570.0050.254
get_required_identifiers0.0000.0010.000
get_settings_from_json0.0010.0010.004
get_supported_experiments0.0000.0000.001
get_synthetic_data0.0110.0040.033
get_testdata0.0830.0360.423
get_testdata_codilution0.0780.0110.311
get_testdata_combo0.2610.0530.585
has_assay_dt_duplicated_rows0.1480.0160.196
has_dt_duplicated_rows0.0000.0010.001
has_single_codrug_data0.2650.0090.318
has_valid_codrug_data0.1840.0080.219
headers0.0300.0120.054
identifiers0.0000.0000.001
identify_unique_se_metadata_fields0.0080.0020.011
is_any_exp_empty0.0560.0020.066
is_combo_data0.1410.0330.231
is_exp_empty0.0840.0440.424
is_mae_empty0.0600.0060.079
logisticFit0.0400.0020.049
loop3.5601.5225.837
map_conc_to_standardized_conc0.0080.0400.066
mcolData0.0200.0190.050
merge_MAE4.4740.4006.841
merge_SE1.8310.0662.012
merge_assay0.3820.0150.418
merge_metadata0.0080.0020.011
modifyData0.3870.0140.436
mrowData0.0170.0020.023
predict_conc_from_efficacy0.0000.0000.001
predict_efficacy_from_conc0.0010.0000.001
predict_smooth_from_combo0.2400.0260.479
prettify_flat_metrics0.0490.0020.056
process_batch0.7050.1330.902
promote_fields0.2230.0200.681
refine_coldata0.0120.0030.017
refine_rowdata0.0520.0060.116
remove_codrug_data0.0730.0060.086
remove_drug_batch0.0020.0010.003
rename_DFrame0.0100.0060.241
rename_bumpy0.0260.0040.058
round_concentration000
set_constant_fit_params0.0010.0010.001
set_unique_cl_names0.0480.0030.273
set_unique_cl_names_dt0.0260.0010.030
set_unique_drug_names0.0740.0030.080
set_unique_drug_names_dt0.0490.0020.052
set_unique_identifiers0.3210.0210.845
set_unique_names_dt0.0220.0020.026
shorten_normalization_type_name000
split_SE_components0.0860.0050.110
split_big_table_for_xlsx0.0040.0010.015
standardize_mae0.1070.0090.373
standardize_se0.0250.0030.205
throw_msg_if_duplicates0.1220.0180.357
update_env_idfs_from_mae0.0010.0000.001
update_idfs_synonyms000
validate_MAE0.0650.0030.110
validate_SE0.0250.0020.049
validate_identifiers0.0090.0020.019
validate_json0.0000.0010.000
validate_mae_with_schema0.4310.1563.567
validate_se_assay_name0.0070.0030.045