Back to Build/check report for BioC 3.23:   simplified   long
ABCDEF[G]HIJKLMNOPQRSTUVWXYZ

This page was generated on 2025-11-01 11:32 -0400 (Sat, 01 Nov 2025).

HostnameOSArch (*)R versionInstalled pkgs
nebbiolo1Linux (Ubuntu 24.04.3 LTS)x86_64R Under development (unstable) (2025-10-20 r88955) -- "Unsuffered Consequences" 4774
Click on any hostname to see more info about the system (e.g. compilers)      (*) as reported by 'uname -p', except on Windows and Mac OS X

Package 792/2321HostnameOS / ArchINSTALLBUILDCHECKBUILD BIN
gDRcore 1.9.1  (landing page)
Arkadiusz Gladki
Snapshot Date: 2025-10-31 13:40 -0400 (Fri, 31 Oct 2025)
git_url: https://git.bioconductor.org/packages/gDRcore
git_branch: devel
git_last_commit: 6b41ab3
git_last_commit_date: 2025-10-30 05:31:59 -0400 (Thu, 30 Oct 2025)
nebbiolo1Linux (Ubuntu 24.04.3 LTS) / x86_64  OK    OK    OK  YES


CHECK results for gDRcore on nebbiolo1

To the developers/maintainers of the gDRcore package:
- Allow up to 24 hours (and sometimes 48 hours) for your latest push to git@git.bioconductor.org:packages/gDRcore.git to reflect on this report. See Troubleshooting Build Report for more information.
- Use the following Renviron settings to reproduce errors and warnings.
- If 'R CMD check' started to fail recently on the Linux builder(s) over a missing dependency, add the missing dependency to 'Suggests:' in your DESCRIPTION file. See Renviron.bioc for more information.

raw results


Summary

Package: gDRcore
Version: 1.9.1
Command: /home/biocbuild/bbs-3.23-bioc/R/bin/R CMD check --install=check:gDRcore.install-out.txt --library=/home/biocbuild/bbs-3.23-bioc/R/site-library --timings gDRcore_1.9.1.tar.gz
StartedAt: 2025-10-31 23:32:51 -0400 (Fri, 31 Oct 2025)
EndedAt: 2025-10-31 23:38:39 -0400 (Fri, 31 Oct 2025)
EllapsedTime: 348.4 seconds
RetCode: 0
Status:   OK  
CheckDir: gDRcore.Rcheck
Warnings: 0

Command output

##############################################################################
##############################################################################
###
### Running command:
###
###   /home/biocbuild/bbs-3.23-bioc/R/bin/R CMD check --install=check:gDRcore.install-out.txt --library=/home/biocbuild/bbs-3.23-bioc/R/site-library --timings gDRcore_1.9.1.tar.gz
###
##############################################################################
##############################################################################


* using log directory ‘/home/biocbuild/bbs-3.23-bioc/meat/gDRcore.Rcheck’
* using R Under development (unstable) (2025-10-20 r88955)
* using platform: x86_64-pc-linux-gnu
* R was compiled by
    gcc (Ubuntu 13.3.0-6ubuntu2~24.04) 13.3.0
    GNU Fortran (Ubuntu 13.3.0-6ubuntu2~24.04) 13.3.0
* running under: Ubuntu 24.04.3 LTS
* using session charset: UTF-8
* checking for file ‘gDRcore/DESCRIPTION’ ... OK
* checking extension type ... Package
* this is package ‘gDRcore’ version ‘1.9.1’
* package encoding: UTF-8
* checking package namespace information ... OK
* checking package dependencies ... OK
* checking if this is a source package ... OK
* checking if there is a namespace ... OK
* checking for hidden files and directories ... OK
* checking for portable file names ... OK
* checking for sufficient/correct file permissions ... OK
* checking whether package ‘gDRcore’ can be installed ... OK
* used C++ compiler: ‘g++ (Ubuntu 13.3.0-6ubuntu2~24.04) 13.3.0’
* checking installed package size ... OK
* checking package directory ... OK
* checking ‘build’ directory ... OK
* checking DESCRIPTION meta-information ... OK
* checking top-level files ... OK
* checking for left-over files ... OK
* checking index information ... OK
* checking package subdirectories ... OK
* checking code files for non-ASCII characters ... OK
* checking R files for syntax errors ... OK
* checking whether the package can be loaded ... OK
* checking whether the package can be loaded with stated dependencies ... OK
* checking whether the package can be unloaded cleanly ... OK
* checking whether the namespace can be loaded with stated dependencies ... OK
* checking whether the namespace can be unloaded cleanly ... OK
* checking loading without being on the library search path ... OK
* checking whether startup messages can be suppressed ... OK
* checking dependencies in R code ... OK
* checking S3 generic/method consistency ... OK
* checking replacement functions ... OK
* checking foreign function calls ... OK
* checking R code for possible problems ... NOTE
fit_SE.combinations : <anonymous>: no visible binding for global
  variable ‘hsa_score’
fit_SE.combinations : <anonymous>: no visible binding for global
  variable ‘bliss_score’
Undefined global functions or variables:
  bliss_score hsa_score
* checking Rd files ... OK
* checking Rd metadata ... OK
* checking Rd cross-references ... NOTE
Found the following Rd file(s) with Rd \link{} targets missing package
anchors:
  fit_SE.combinations.Rd: SummarizedExperiment-class
  runDrugResponseProcessingPipelineFxns.Rd: SummarizedExperiment-class
Please provide package anchors for all Rd \link{} targets not in the
package itself and the base packages.
* checking for missing documentation entries ... OK
* checking for code/documentation mismatches ... OK
* checking Rd \usage sections ... OK
* checking Rd contents ... OK
* checking for unstated dependencies in examples ... OK
* checking line endings in C/C++/Fortran sources/headers ... OK
* checking compiled code ... NOTE
Note: information on .o files is not available
File ‘gDRcore/libs/gDRcore.so’:
  Found non-API call to R: ‘STRING_PTR’

Compiled code should not call non-API entry points in R.

See ‘Writing portable packages’ in the ‘Writing R Extensions’ manual,
and section ‘Moving into C API compliance’ for issues with the use of
non-API entry points.
* checking files in ‘vignettes’ ... OK
* checking examples ... OK
Examples with CPU (user + system) or elapsed time > 5s
                                        user system elapsed
runDrugResponseProcessingPipelineFxns 18.762  0.411  18.725
annotate_dt_with_cell_line             5.329  0.228   5.557
* checking for unstated dependencies in ‘tests’ ... OK
* checking tests ...
  Running ‘testthat.R’
 OK
* checking for unstated dependencies in vignettes ... OK
* checking package vignettes ... OK
* checking re-building of vignette outputs ... OK
* checking PDF version of manual ... OK
* DONE

Status: 3 NOTEs
See
  ‘/home/biocbuild/bbs-3.23-bioc/meat/gDRcore.Rcheck/00check.log’
for details.


Installation output

gDRcore.Rcheck/00install.out

##############################################################################
##############################################################################
###
### Running command:
###
###   /home/biocbuild/bbs-3.23-bioc/R/bin/R CMD INSTALL gDRcore
###
##############################################################################
##############################################################################


* installing to library ‘/home/biocbuild/bbs-3.23-bioc/R/site-library’
* installing *source* package ‘gDRcore’ ...
** this is package ‘gDRcore’ version ‘1.9.1’
** using staged installation
** libs
using C++ compiler: ‘g++ (Ubuntu 13.3.0-6ubuntu2~24.04) 13.3.0’
g++ -std=gnu++17 -I"/home/biocbuild/bbs-3.23-bioc/R/include" -DNDEBUG   -I/usr/local/include    -fpic  -g -O2  -Wall -Werror=format-security  -c gDRcore.cpp -o gDRcore.o
g++ -std=gnu++17 -shared -L/home/biocbuild/bbs-3.23-bioc/R/lib -L/usr/local/lib -o gDRcore.so gDRcore.o -L/home/biocbuild/bbs-3.23-bioc/R/lib -lR
installing to /home/biocbuild/bbs-3.23-bioc/R/site-library/00LOCK-gDRcore/00new/gDRcore/libs
** R
** inst
** byte-compile and prepare package for lazy loading
** help
*** installing help indices
** building package indices
** installing vignettes
** testing if installed package can be loaded from temporary location
** checking absolute paths in shared objects and dynamic libraries
** testing if installed package can be loaded from final location
** testing if installed package keeps a record of temporary installation path
* DONE (gDRcore)

Tests output

gDRcore.Rcheck/tests/testthat.Rout


R Under development (unstable) (2025-10-20 r88955) -- "Unsuffered Consequences"
Copyright (C) 2025 The R Foundation for Statistical Computing
Platform: x86_64-pc-linux-gnu

R is free software and comes with ABSOLUTELY NO WARRANTY.
You are welcome to redistribute it under certain conditions.
Type 'license()' or 'licence()' for distribution details.

R is a collaborative project with many contributors.
Type 'contributors()' for more information and
'citation()' on how to cite R or R packages in publications.

Type 'demo()' for some demos, 'help()' for on-line help, or
'help.start()' for an HTML browser interface to help.
Type 'q()' to quit R.

> library("gDRcore")
> library("testthat")
> 
> test_check("gDRcore")
INFO [2025-10-31 23:35:44] 
INFO [2025-10-31 23:35:44] 
INFO [2025-10-31 23:35:44] 
INFO [2025-10-31 23:35:44] 
INFO [2025-10-31 23:37:55] 
INFO [2025-10-31 23:37:55] 
INFO [2025-10-31 23:37:55] 
INFO [2025-10-31 23:37:55] Manifest loaded successfully
INFO [2025-10-31 23:37:55] Reading Template_7daytreated.xlsx with load_templates_xlsx
INFO [2025-10-31 23:37:55] Loading Template_7daytreated.xlsx
INFO [2025-10-31 23:37:56] Loading Template_Untreated.xlsx
INFO [2025-10-31 23:37:56] Templates loaded successfully!
INFO [2025-10-31 23:37:56] Reading file /home/biocbuild/bbs-3.23-bioc/R/site-library/gDRimport/extdata/data1/RawData_day0.xlsx, sheet Readout_0077vs0068_day7
INFO [2025-10-31 23:37:56] Plate 201904190a read; 384 wells
INFO [2025-10-31 23:37:56] Plate 201904190b read; 384 wells
INFO [2025-10-31 23:37:56] Plate 201904190c read; 384 wells
INFO [2025-10-31 23:37:56] Plate 201904190d read; 384 wells
INFO [2025-10-31 23:37:56] Plate 201904190e read; 384 wells
INFO [2025-10-31 23:37:56] Plate 201904190f read; 384 wells
INFO [2025-10-31 23:37:56] File done
INFO [2025-10-31 23:37:56] Reading file /home/biocbuild/bbs-3.23-bioc/R/site-library/gDRimport/extdata/data1/RawData_day7.xlsx, sheet Readout_0077vs0068_day7
INFO [2025-10-31 23:37:56] Plate 201904197a read; 384 wells
INFO [2025-10-31 23:37:56] Plate 201904197b read; 384 wells
INFO [2025-10-31 23:37:56] Plate 201904197c read; 384 wells
INFO [2025-10-31 23:37:56] Plate 201904197d read; 384 wells
INFO [2025-10-31 23:37:56] Plate 201904197e read; 384 wells
INFO [2025-10-31 23:37:56] Plate 201904197f read; 384 wells
INFO [2025-10-31 23:37:56] File done
INFO [2025-10-31 23:37:57] Manifest loaded successfully
INFO [2025-10-31 23:37:57] Reading Template_7daytreated.xlsx with load_templates_xlsx
INFO [2025-10-31 23:37:57] Loading Template_7daytreated.xlsx
INFO [2025-10-31 23:37:57] Loading Template_Untreated.xlsx
INFO [2025-10-31 23:37:57] Templates loaded successfully!
INFO [2025-10-31 23:37:57] Reading file /home/biocbuild/bbs-3.23-bioc/R/site-library/gDRimport/extdata/data1/RawData_day0.xlsx, sheet Readout_0077vs0068_day7
INFO [2025-10-31 23:37:57] Plate 201904190a read; 384 wells
INFO [2025-10-31 23:37:57] Plate 201904190b read; 384 wells
INFO [2025-10-31 23:37:57] Plate 201904190c read; 384 wells
INFO [2025-10-31 23:37:57] Plate 201904190d read; 384 wells
INFO [2025-10-31 23:37:57] Plate 201904190e read; 384 wells
INFO [2025-10-31 23:37:57] Plate 201904190f read; 384 wells
INFO [2025-10-31 23:37:57] File done
INFO [2025-10-31 23:37:57] Reading file /home/biocbuild/bbs-3.23-bioc/R/site-library/gDRimport/extdata/data1/RawData_day7.xlsx, sheet Readout_0077vs0068_day7
INFO [2025-10-31 23:37:58] Plate 201904197a read; 384 wells
INFO [2025-10-31 23:37:58] Plate 201904197b read; 384 wells
INFO [2025-10-31 23:37:58] Plate 201904197c read; 384 wells
INFO [2025-10-31 23:37:58] Plate 201904197d read; 384 wells
INFO [2025-10-31 23:37:58] Plate 201904197e read; 384 wells
INFO [2025-10-31 23:37:58] Plate 201904197f read; 384 wells
INFO [2025-10-31 23:37:58] File done
[ FAIL 0 | WARN 0 | SKIP 0 | PASS 235 ]
> 
> proc.time()
   user  system elapsed 
215.789   5.220 219.567 

Example timings

gDRcore.Rcheck/gDRcore-Ex.timings

nameusersystemelapsed
annotate_dt_with_cell_line5.3290.2285.557
annotate_dt_with_drug0.0130.0030.017
annotate_mae_with_cell_line1.2250.0441.268
annotate_mae_with_drug0.1270.0280.155
annotate_se_with_cell_line0.0260.0050.031
annotate_se_with_drug0.0190.0060.025
calculate_GR_value0.0030.0000.003
calculate_excess0.0640.0010.066
calculate_matrix_metric0.0160.0060.022
calculate_score0.030.000.03
cleanup_metadata0.2620.0070.270
convert_mae_to_raw_data0.6330.0480.649
convert_se_to_raw_data0.1090.0010.088
data_model0.0010.0000.002
fit_SE.combinations3.4000.0363.436
get_cell_line_annotation0.0050.0020.007
get_cellline_annotation_from_dt0.0130.0000.013
get_default_nested_identifiers0.0000.0010.001
get_drug_annotation0.0050.0020.008
get_drug_annotation_from_dt0.0050.0000.006
grr_matches0.0140.0010.014
identify_data_type0.0400.0010.041
identify_keys0.2120.0020.215
map_df0.2170.0030.219
map_ids_to_fits0.0010.0010.001
merge_data1.5160.0881.537
prepare_input1.4040.0301.335
process_perturbations0.0070.0000.007
replace_conc_with_standardized_conc0.0010.0000.001
runDrugResponseProcessingPipelineFxns18.762 0.41118.725
split_raw_data0.2990.0060.278
test_synthetic_data0.8860.0060.769