Back to Build/check report for BioC 3.23:   simplified   long
ABCDEF[G]HIJKLMNOPQRSTUVWXYZ

This page was generated on 2025-11-03 11:33 -0500 (Mon, 03 Nov 2025).

HostnameOSArch (*)R versionInstalled pkgs
nebbiolo1Linux (Ubuntu 24.04.3 LTS)x86_64R Under development (unstable) (2025-10-20 r88955) -- "Unsuffered Consequences" 4775
Click on any hostname to see more info about the system (e.g. compilers)      (*) as reported by 'uname -p', except on Windows and Mac OS X

Package 792/2321HostnameOS / ArchINSTALLBUILDCHECKBUILD BIN
gDRcore 1.9.1  (landing page)
Arkadiusz Gladki
Snapshot Date: 2025-11-02 13:40 -0500 (Sun, 02 Nov 2025)
git_url: https://git.bioconductor.org/packages/gDRcore
git_branch: devel
git_last_commit: 6b41ab3
git_last_commit_date: 2025-10-30 05:31:59 -0500 (Thu, 30 Oct 2025)
nebbiolo1Linux (Ubuntu 24.04.3 LTS) / x86_64  OK    OK    OK  UNNEEDED, same version is already published


INSTALL results for gDRcore on nebbiolo1

To the developers/maintainers of the gDRcore package:
- Allow up to 24 hours (and sometimes 48 hours) for your latest push to git@git.bioconductor.org:packages/gDRcore.git to reflect on this report. See Troubleshooting Build Report for more information.
- Use the following Renviron settings to reproduce errors and warnings.
- If 'R CMD check' started to fail recently on the Linux builder(s) over a missing dependency, add the missing dependency to 'Suggests:' in your DESCRIPTION file. See Renviron.bioc for more information.

raw results


Summary

Package: gDRcore
Version: 1.9.1
Command: /home/biocbuild/bbs-3.23-bioc/R/bin/R CMD INSTALL gDRcore
StartedAt: 2025-11-02 15:44:21 -0500 (Sun, 02 Nov 2025)
EndedAt: 2025-11-02 15:44:35 -0500 (Sun, 02 Nov 2025)
EllapsedTime: 14.8 seconds
RetCode: 0
Status:   OK  

Command output

##############################################################################
##############################################################################
###
### Running command:
###
###   /home/biocbuild/bbs-3.23-bioc/R/bin/R CMD INSTALL gDRcore
###
##############################################################################
##############################################################################


* installing to library ‘/home/biocbuild/bbs-3.23-bioc/R/site-library’
* installing *source* package ‘gDRcore’ ...
** this is package ‘gDRcore’ version ‘1.9.1’
** using staged installation
** libs
using C++ compiler: ‘g++ (Ubuntu 13.3.0-6ubuntu2~24.04) 13.3.0’
g++ -std=gnu++17 -I"/home/biocbuild/bbs-3.23-bioc/R/include" -DNDEBUG   -I/usr/local/include    -fpic  -g -O2  -Wall -Werror=format-security  -c gDRcore.cpp -o gDRcore.o
g++ -std=gnu++17 -shared -L/home/biocbuild/bbs-3.23-bioc/R/lib -L/usr/local/lib -o gDRcore.so gDRcore.o -L/home/biocbuild/bbs-3.23-bioc/R/lib -lR
installing to /home/biocbuild/bbs-3.23-bioc/R/site-library/00LOCK-gDRcore/00new/gDRcore/libs
** R
** inst
** byte-compile and prepare package for lazy loading
** help
*** installing help indices
** building package indices
** installing vignettes
** testing if installed package can be loaded from temporary location
** checking absolute paths in shared objects and dynamic libraries
** testing if installed package can be loaded from final location
** testing if installed package keeps a record of temporary installation path
* DONE (gDRcore)