Back to Multiple platform build/check report for BioC 3.22:   simplified   long
AB[C]DEFGHIJKLMNOPQRSTUVWXYZ

This page was generated on 2025-10-28 12:03 -0400 (Tue, 28 Oct 2025).

HostnameOSArch (*)R versionInstalled pkgs
nebbiolo2Linux (Ubuntu 24.04.3 LTS)x86_644.5.1 Patched (2025-08-23 r88802) -- "Great Square Root" 4901
lconwaymacOS 12.7.6 Montereyx86_644.5.1 Patched (2025-09-10 r88807) -- "Great Square Root" 4691
kjohnson3macOS 13.7.7 Venturaarm644.5.1 Patched (2025-09-10 r88807) -- "Great Square Root" 4637
Click on any hostname to see more info about the system (e.g. compilers)      (*) as reported by 'uname -p', except on Windows and Mac OS X

Package 401/2361HostnameOS / ArchINSTALLBUILDCHECKBUILD BIN
cn.mops 1.55.1  (landing page)
Gundula Povysil
Snapshot Date: 2025-10-27 13:45 -0400 (Mon, 27 Oct 2025)
git_url: https://git.bioconductor.org/packages/cn.mops
git_branch: devel
git_last_commit: 8f56f3e
git_last_commit_date: 2025-07-22 22:34:45 -0400 (Tue, 22 Jul 2025)
nebbiolo2Linux (Ubuntu 24.04.3 LTS) / x86_64  OK    OK    OK  UNNEEDED, same version is already published
lconwaymacOS 12.7.6 Monterey / x86_64  OK    OK    OK    OK  UNNEEDED, same version is already published
kjohnson3macOS 13.7.7 Ventura / arm64  OK    OK    OK    OK  UNNEEDED, same version is already published


CHECK results for cn.mops on lconway

To the developers/maintainers of the cn.mops package:
- Allow up to 24 hours (and sometimes 48 hours) for your latest push to git@git.bioconductor.org:packages/cn.mops.git to reflect on this report. See Troubleshooting Build Report for more information.
- Use the following Renviron settings to reproduce errors and warnings.
- If 'R CMD check' started to fail recently on the Linux builder(s) over a missing dependency, add the missing dependency to 'Suggests:' in your DESCRIPTION file. See Renviron.bioc for more information.

raw results


Summary

Package: cn.mops
Version: 1.55.1
Command: /Library/Frameworks/R.framework/Resources/bin/R CMD check --install=check:cn.mops.install-out.txt --library=/Library/Frameworks/R.framework/Resources/library --no-vignettes --timings cn.mops_1.55.1.tar.gz
StartedAt: 2025-10-27 20:42:33 -0400 (Mon, 27 Oct 2025)
EndedAt: 2025-10-27 20:46:04 -0400 (Mon, 27 Oct 2025)
EllapsedTime: 211.3 seconds
RetCode: 0
Status:   OK  
CheckDir: cn.mops.Rcheck
Warnings: 0

Command output

##############################################################################
##############################################################################
###
### Running command:
###
###   /Library/Frameworks/R.framework/Resources/bin/R CMD check --install=check:cn.mops.install-out.txt --library=/Library/Frameworks/R.framework/Resources/library --no-vignettes --timings cn.mops_1.55.1.tar.gz
###
##############################################################################
##############################################################################


* using log directory ‘/Users/biocbuild/bbs-3.22-bioc/meat/cn.mops.Rcheck’
* using R version 4.5.1 Patched (2025-09-10 r88807)
* using platform: x86_64-apple-darwin20
* R was compiled by
    Apple clang version 14.0.0 (clang-1400.0.29.202)
    GNU Fortran (GCC) 14.2.0
* running under: macOS Monterey 12.7.6
* using session charset: UTF-8
* using option ‘--no-vignettes’
* checking for file ‘cn.mops/DESCRIPTION’ ... OK
* checking extension type ... Package
* this is package ‘cn.mops’ version ‘1.55.1’
* checking package namespace information ... OK
* checking package dependencies ... OK
* checking if this is a source package ... OK
* checking if there is a namespace ... OK
* checking for hidden files and directories ... OK
* checking for portable file names ... OK
* checking for sufficient/correct file permissions ... OK
* checking whether package ‘cn.mops’ can be installed ... OK
* used C compiler: ‘Apple clang version 14.0.0 (clang-1400.0.29.202)’
* used C++ compiler: ‘Apple clang version 14.0.0 (clang-1400.0.29.202)’
* used SDK: ‘MacOSX11.3.1.sdk’
* checking installed package size ... OK
* checking package directory ... OK
* checking ‘build’ directory ... OK
* checking DESCRIPTION meta-information ... OK
* checking top-level files ... OK
* checking for left-over files ... OK
* checking index information ... OK
* checking package subdirectories ... OK
* checking code files for non-ASCII characters ... OK
* checking R files for syntax errors ... OK
* checking whether the package can be loaded ... OK
* checking whether the package can be loaded with stated dependencies ... OK
* checking whether the package can be unloaded cleanly ... OK
* checking whether the namespace can be loaded with stated dependencies ... OK
* checking whether the namespace can be unloaded cleanly ... OK
* checking whether startup messages can be suppressed ... OK
* checking dependencies in R code ... OK
* checking S3 generic/method consistency ... OK
* checking replacement functions ... OK
* checking foreign function calls ... OK
* checking R code for possible problems ... OK
* checking Rd files ... OK
* checking Rd metadata ... OK
* checking Rd cross-references ... OK
* checking for missing documentation entries ... OK
* checking for code/documentation mismatches ... OK
* checking Rd \usage sections ... OK
* checking Rd contents ... OK
* checking for unstated dependencies in examples ... OK
* checking contents of ‘data’ directory ... OK
* checking data for non-ASCII characters ... OK
* checking data for ASCII and uncompressed saves ... OK
* checking line endings in C/C++/Fortran sources/headers ... OK
* checking compiled code ... NOTE
Note: information on .o files is not available
* checking sizes of PDF files under ‘inst/doc’ ... OK
* checking files in ‘vignettes’ ... OK
* checking examples ... OK
Examples with CPU (user + system) or elapsed time > 5s
                                                     user system elapsed
referencecn.mops                                    7.667  0.066  17.382
calcFractionalCopyNumbers-CNVDetectionResult-method 6.215  0.063   6.306
cn.mops                                             6.107  0.148  18.174
calcFractionalCopyNumbers                           5.907  0.038   5.967
haplocn.mops                                        1.107  0.035  11.092
getReadCountsFromBAM                                0.475  0.018   5.766
getSegmentReadCountsFromBAM                         0.312  0.014   5.557
* checking for unstated dependencies in vignettes ... OK
* checking package vignettes ... OK
* checking running R code from vignettes ... SKIPPED
* checking re-building of vignette outputs ... SKIPPED
* checking PDF version of manual ... OK
* DONE

Status: 1 NOTE
See
  ‘/Users/biocbuild/bbs-3.22-bioc/meat/cn.mops.Rcheck/00check.log’
for details.


Installation output

cn.mops.Rcheck/00install.out

##############################################################################
##############################################################################
###
### Running command:
###
###   /Library/Frameworks/R.framework/Resources/bin/R CMD INSTALL cn.mops
###
##############################################################################
##############################################################################


* installing to library ‘/Library/Frameworks/R.framework/Versions/4.5-x86_64/Resources/library’
* installing *source* package ‘cn.mops’ ...
** this is package ‘cn.mops’ version ‘1.55.1’
** using staged installation
** libs
using C compiler: ‘Apple clang version 14.0.0 (clang-1400.0.29.202)’
using C++ compiler: ‘Apple clang version 14.0.0 (clang-1400.0.29.202)’
using SDK: ‘MacOSX11.3.1.sdk’
clang -arch x86_64 -I"/Library/Frameworks/R.framework/Resources/include" -DNDEBUG   -I/opt/R/x86_64/include    -fPIC  -falign-functions=64 -Wall -g -O2  -c R_init_cnmops.c -o R_init_cnmops.o
clang++ -arch x86_64 -std=gnu++17 -I"/Library/Frameworks/R.framework/Resources/include" -DNDEBUG   -I/opt/R/x86_64/include    -fPIC  -falign-functions=64 -Wall -g -O2   -c cnmops.cpp -o cnmops.o
clang++ -arch x86_64 -std=gnu++17 -I"/Library/Frameworks/R.framework/Resources/include" -DNDEBUG   -I/opt/R/x86_64/include    -fPIC  -falign-functions=64 -Wall -g -O2   -c segment.cpp -o segment.o
segment.cpp:62:40: warning: variable 'maxIdx' set but not used [-Wunused-but-set-variable]
        double newPValue, maxPValue,oldPValue,maxIdx;
                                              ^
segment.cpp:60:9: warning: variable 'oldStatistic' set but not used [-Wunused-but-set-variable]
        double oldStatistic, meanLeft,meanRight,varLeft,varRight;
               ^
segment.cpp:59:20: warning: variable 'globalSd' set but not used [-Wunused-but-set-variable]
        double globalMean,globalSd,diff,M2,globalVariance;
                          ^
segment.cpp:61:31: warning: variable 'maxStatistic' set but not used [-Wunused-but-set-variable]
        double newStatistic,meanDiff,maxStatistic,DOF,a,b,eps1;
                                     ^
segment.cpp:64:9: warning: unused variable 'Rf_beta' [-Wunused-variable]
        double beta,nn;
               ^
/Library/Frameworks/R.framework/Resources/include/Rmath.h:221:15: note: expanded from macro 'beta'
#define beta            Rf_beta
                        ^
5 warnings generated.
clang++ -arch x86_64 -std=gnu++17 -dynamiclib -Wl,-headerpad_max_install_names -undefined dynamic_lookup -L/Library/Frameworks/R.framework/Resources/lib -L/opt/R/x86_64/lib -o cn.mops.so R_init_cnmops.o cnmops.o segment.o -F/Library/Frameworks/R.framework/.. -framework R
installing to /Library/Frameworks/R.framework/Versions/4.5-x86_64/Resources/library/00LOCK-cn.mops/00new/cn.mops/libs
** R
** data
** inst
** byte-compile and prepare package for lazy loading
** help
*** installing help indices
** building package indices
** installing vignettes
** testing if installed package can be loaded from temporary location
** checking absolute paths in shared objects and dynamic libraries
** testing if installed package can be loaded from final location
** testing if installed package keeps a record of temporary installation path
* DONE (cn.mops)

Tests output


Example timings

cn.mops.Rcheck/cn.mops-Ex.timings

nameusersystemelapsed
CNVDetectionResult0.0020.0010.002
calcFractionalCopyNumbers-CNVDetectionResult-method6.2150.0636.306
calcFractionalCopyNumbers5.9070.0385.967
calcIntegerCopyNumbers-CNVDetectionResult-method0.4360.0050.442
calcIntegerCopyNumbers0.4330.0090.443
cn.mops 6.107 0.14818.174
cnvr-CNVDetectionResult-method0.2140.0080.224
cnvr0.2030.0030.208
cnvs-CNVDetectionResult-method0.2030.0050.210
cnvs0.2070.0040.211
exomecn.mops2.5680.0292.619
getReadCountsFromBAM0.4750.0185.766
getSegmentReadCountsFromBAM0.3120.0145.557
gr-CNVDetectionResult-method0.2600.0050.271
gr0.2620.0040.267
haplocn.mops 1.107 0.03511.092
individualCall-CNVDetectionResult-method0.2210.0050.227
individualCall0.2350.0040.240
iniCall-CNVDetectionResult-method0.2430.0040.251
iniCall0.2520.0040.258
integerCopyNumber-CNVDetectionResult-method0.2350.0040.242
integerCopyNumber0.2530.0040.258
localAssessments-CNVDetectionResult-method0.2320.0040.237
localAssessments0.2240.0040.230
makeRobustCNVR0.3990.0040.406
normalizeChromosomes0.4990.0200.522
normalizeGenome0.1250.0070.132
normalizedData-CNVDetectionResult-method0.2300.0110.243
normalizedData0.2230.0040.228
params-CNVDetectionResult-method0.2250.0140.240
params0.2230.0150.239
posteriorProbs-CNVDetectionResult-method0.2360.0040.241
posteriorProbs0.2330.0040.239
referencecn.mops 7.667 0.06617.382
sampleNames-CNVDetectionResult-method0.2100.0050.226
sampleNames0.2130.0040.217
segment0.020.000.02
segmentation-CNVDetectionResult-method0.2370.0040.242
segmentation0.2370.0040.243
segplot-CNVDetectionResult-method1.0340.0081.048
segplot1.0530.0081.066
singlecn.mops0.7160.0080.726