| Back to Multiple platform build/check report for BioC 3.23: simplified long |
|
This page was generated on 2025-11-21 11:37 -0500 (Fri, 21 Nov 2025).
| Hostname | OS | Arch (*) | R version | Installed pkgs |
|---|---|---|---|---|
| nebbiolo1 | Linux (Ubuntu 24.04.3 LTS) | x86_64 | R Under development (unstable) (2025-10-20 r88955) -- "Unsuffered Consequences" | 4829 |
| lconway | macOS 12.7.6 Monterey | x86_64 | R Under development (unstable) (2025-10-21 r88958) -- "Unsuffered Consequences" | 4602 |
| kjohnson3 | macOS 13.7.7 Ventura | arm64 | R Under development (unstable) (2025-11-04 r88984) -- "Unsuffered Consequences" | 4566 |
| Click on any hostname to see more info about the system (e.g. compilers) (*) as reported by 'uname -p', except on Windows and Mac OS X | ||||
| Package 393/2327 | Hostname | OS / Arch | INSTALL | BUILD | CHECK | BUILD BIN | ||||||||
| cn.mops 1.57.0 (landing page) Gundula Povysil
| nebbiolo1 | Linux (Ubuntu 24.04.3 LTS) / x86_64 | OK | OK | OK | |||||||||
| lconway | macOS 12.7.6 Monterey / x86_64 | OK | OK | OK | OK | |||||||||
| kjohnson3 | macOS 13.7.7 Ventura / arm64 | OK | OK | OK | OK | |||||||||
|
To the developers/maintainers of the cn.mops package: - Allow up to 24 hours (and sometimes 48 hours) for your latest push to git@git.bioconductor.org:packages/cn.mops.git to reflect on this report. See Troubleshooting Build Report for more information. - Use the following Renviron settings to reproduce errors and warnings. - If 'R CMD check' started to fail recently on the Linux builder(s) over a missing dependency, add the missing dependency to 'Suggests:' in your DESCRIPTION file. See Renviron.bioc for more information. |
| Package: cn.mops |
| Version: 1.57.0 |
| Command: /home/biocbuild/bbs-3.23-bioc/R/bin/R CMD check --install=check:cn.mops.install-out.txt --library=/home/biocbuild/bbs-3.23-bioc/R/site-library --timings cn.mops_1.57.0.tar.gz |
| StartedAt: 2025-11-20 22:13:02 -0500 (Thu, 20 Nov 2025) |
| EndedAt: 2025-11-20 22:16:12 -0500 (Thu, 20 Nov 2025) |
| EllapsedTime: 190.3 seconds |
| RetCode: 0 |
| Status: OK |
| CheckDir: cn.mops.Rcheck |
| Warnings: 0 |
##############################################################################
##############################################################################
###
### Running command:
###
### /home/biocbuild/bbs-3.23-bioc/R/bin/R CMD check --install=check:cn.mops.install-out.txt --library=/home/biocbuild/bbs-3.23-bioc/R/site-library --timings cn.mops_1.57.0.tar.gz
###
##############################################################################
##############################################################################
* using log directory ‘/home/biocbuild/bbs-3.23-bioc/meat/cn.mops.Rcheck’
* using R Under development (unstable) (2025-10-20 r88955)
* using platform: x86_64-pc-linux-gnu
* R was compiled by
gcc (Ubuntu 13.3.0-6ubuntu2~24.04) 13.3.0
GNU Fortran (Ubuntu 13.3.0-6ubuntu2~24.04) 13.3.0
* running under: Ubuntu 24.04.3 LTS
* using session charset: UTF-8
* checking for file ‘cn.mops/DESCRIPTION’ ... OK
* checking extension type ... Package
* this is package ‘cn.mops’ version ‘1.57.0’
* checking package namespace information ... OK
* checking package dependencies ... OK
* checking if this is a source package ... OK
* checking if there is a namespace ... OK
* checking for hidden files and directories ... OK
* checking for portable file names ... OK
* checking for sufficient/correct file permissions ... OK
* checking whether package ‘cn.mops’ can be installed ... OK
* used C compiler: ‘gcc (Ubuntu 13.3.0-6ubuntu2~24.04) 13.3.0’
* used C++ compiler: ‘g++ (Ubuntu 13.3.0-6ubuntu2~24.04) 13.3.0’
* checking installed package size ... OK
* checking package directory ... OK
* checking ‘build’ directory ... OK
* checking DESCRIPTION meta-information ... OK
* checking top-level files ... OK
* checking for left-over files ... OK
* checking index information ... OK
* checking package subdirectories ... OK
* checking code files for non-ASCII characters ... OK
* checking R files for syntax errors ... OK
* checking whether the package can be loaded ... OK
* checking whether the package can be loaded with stated dependencies ... OK
* checking whether the package can be unloaded cleanly ... OK
* checking whether the namespace can be loaded with stated dependencies ... OK
* checking whether the namespace can be unloaded cleanly ... OK
* checking loading without being on the library search path ... OK
* checking whether startup messages can be suppressed ... OK
* checking dependencies in R code ... OK
* checking S3 generic/method consistency ... OK
* checking replacement functions ... OK
* checking foreign function calls ... OK
* checking R code for possible problems ... OK
* checking Rd files ... OK
* checking Rd metadata ... OK
* checking Rd cross-references ... OK
* checking for missing documentation entries ... OK
* checking for code/documentation mismatches ... OK
* checking Rd \usage sections ... OK
* checking Rd contents ... OK
* checking for unstated dependencies in examples ... OK
* checking contents of ‘data’ directory ... OK
* checking data for non-ASCII characters ... OK
* checking data for ASCII and uncompressed saves ... OK
* checking line endings in C/C++/Fortran sources/headers ... OK
* checking compiled code ... INFO
Note: information on .o files is not available
* checking sizes of PDF files under ‘inst/doc’ ...* checking files in ‘vignettes’ ... OK
* checking examples ... OK
Examples with CPU (user + system) or elapsed time > 5s
user system elapsed
referencecn.mops 8.355 0.057 16.356
calcFractionalCopyNumbers-CNVDetectionResult-method 5.950 0.012 5.961
calcFractionalCopyNumbers 5.785 0.011 5.796
cn.mops 5.167 0.061 14.946
haplocn.mops 0.978 0.010 9.309
getReadCountsFromBAM 0.423 0.007 5.053
* checking for unstated dependencies in vignettes ... OK
* checking package vignettes ... OK
* checking re-building of vignette outputs ... OK
* checking PDF version of manual ... OK
* DONE
Status: OK
cn.mops.Rcheck/00install.out
##############################################################################
##############################################################################
###
### Running command:
###
### /home/biocbuild/bbs-3.23-bioc/R/bin/R CMD INSTALL cn.mops
###
##############################################################################
##############################################################################
* installing to library ‘/home/biocbuild/bbs-3.23-bioc/R/site-library’
* installing *source* package ‘cn.mops’ ...
** this is package ‘cn.mops’ version ‘1.57.0’
** using staged installation
** libs
using C compiler: ‘gcc (Ubuntu 13.3.0-6ubuntu2~24.04) 13.3.0’
using C++ compiler: ‘g++ (Ubuntu 13.3.0-6ubuntu2~24.04) 13.3.0’
gcc -std=gnu2x -I"/home/biocbuild/bbs-3.23-bioc/R/include" -DNDEBUG -I/usr/local/include -fpic -g -O2 -Wall -Werror=format-security -c R_init_cnmops.c -o R_init_cnmops.o
g++ -std=gnu++17 -I"/home/biocbuild/bbs-3.23-bioc/R/include" -DNDEBUG -I/usr/local/include -fpic -g -O2 -Wall -Werror=format-security -c cnmops.cpp -o cnmops.o
g++ -std=gnu++17 -I"/home/biocbuild/bbs-3.23-bioc/R/include" -DNDEBUG -I/usr/local/include -fpic -g -O2 -Wall -Werror=format-security -c segment.cpp -o segment.o
segment.cpp: In function ‘SEXPREC* segment(SEXP, SEXP, SEXP, SEXP, SEXP, SEXP)’:
segment.cpp:59:27: warning: variable ‘globalSd’ set but not used [-Wunused-but-set-variable]
59 | double globalMean,globalSd,diff,M2,globalVariance;
| ^~~~~~~~
segment.cpp:60:16: warning: variable ‘oldStatistic’ set but not used [-Wunused-but-set-variable]
60 | double oldStatistic, meanLeft,meanRight,varLeft,varRight;
| ^~~~~~~~~~~~
segment.cpp:61:38: warning: variable ‘maxStatistic’ set but not used [-Wunused-but-set-variable]
61 | double newStatistic,meanDiff,maxStatistic,DOF,a,b,eps1;
| ^~~~~~~~~~~~
segment.cpp:62:47: warning: variable ‘maxIdx’ set but not used [-Wunused-but-set-variable]
62 | double newPValue, maxPValue,oldPValue,maxIdx;
| ^~~~~~
In file included from segment.cpp:10:
/home/biocbuild/bbs-3.23-bioc/R/include/Rmath.h:221:25: warning: unused variable ‘Rf_beta’ [-Wunused-variable]
221 | #define beta Rf_beta
| ^~~~~~~
segment.cpp:64:16: note: in expansion of macro ‘beta’
64 | double beta,nn;
| ^~~~
g++ -std=gnu++17 -shared -L/home/biocbuild/bbs-3.23-bioc/R/lib -L/usr/local/lib -o cn.mops.so R_init_cnmops.o cnmops.o segment.o -L/home/biocbuild/bbs-3.23-bioc/R/lib -lR
installing to /home/biocbuild/bbs-3.23-bioc/R/site-library/00LOCK-cn.mops/00new/cn.mops/libs
** R
** data
** inst
** byte-compile and prepare package for lazy loading
** help
*** installing help indices
** building package indices
** installing vignettes
** testing if installed package can be loaded from temporary location
** checking absolute paths in shared objects and dynamic libraries
** testing if installed package can be loaded from final location
** testing if installed package keeps a record of temporary installation path
* DONE (cn.mops)
cn.mops.Rcheck/cn.mops-Ex.timings
| name | user | system | elapsed | |
| CNVDetectionResult | 0.000 | 0.001 | 0.002 | |
| calcFractionalCopyNumbers-CNVDetectionResult-method | 5.950 | 0.012 | 5.961 | |
| calcFractionalCopyNumbers | 5.785 | 0.011 | 5.796 | |
| calcIntegerCopyNumbers-CNVDetectionResult-method | 0.376 | 0.003 | 0.378 | |
| calcIntegerCopyNumbers | 0.355 | 0.003 | 0.358 | |
| cn.mops | 5.167 | 0.061 | 14.946 | |
| cnvr-CNVDetectionResult-method | 0.203 | 0.003 | 0.206 | |
| cnvr | 0.190 | 0.004 | 0.194 | |
| cnvs-CNVDetectionResult-method | 0.200 | 0.003 | 0.203 | |
| cnvs | 0.194 | 0.001 | 0.195 | |
| exomecn.mops | 2.105 | 0.005 | 2.110 | |
| getReadCountsFromBAM | 0.423 | 0.007 | 5.053 | |
| getSegmentReadCountsFromBAM | 0.297 | 0.007 | 4.818 | |
| gr-CNVDetectionResult-method | 0.241 | 0.005 | 0.246 | |
| gr | 0.204 | 0.005 | 0.209 | |
| haplocn.mops | 0.978 | 0.010 | 9.309 | |
| individualCall-CNVDetectionResult-method | 0.206 | 0.002 | 0.208 | |
| individualCall | 0.205 | 0.002 | 0.207 | |
| iniCall-CNVDetectionResult-method | 0.197 | 0.005 | 0.202 | |
| iniCall | 0.214 | 0.002 | 0.217 | |
| integerCopyNumber-CNVDetectionResult-method | 0.540 | 0.002 | 0.546 | |
| integerCopyNumber | 0.202 | 0.002 | 0.204 | |
| localAssessments-CNVDetectionResult-method | 0.206 | 0.008 | 0.214 | |
| localAssessments | 0.196 | 0.003 | 0.199 | |
| makeRobustCNVR | 0.351 | 0.002 | 0.353 | |
| normalizeChromosomes | 0.132 | 0.003 | 0.135 | |
| normalizeGenome | 0.141 | 0.007 | 0.148 | |
| normalizedData-CNVDetectionResult-method | 0.193 | 0.005 | 0.198 | |
| normalizedData | 0.205 | 0.006 | 0.211 | |
| params-CNVDetectionResult-method | 0.188 | 0.014 | 0.202 | |
| params | 0.192 | 0.014 | 0.206 | |
| posteriorProbs-CNVDetectionResult-method | 0.192 | 0.003 | 0.195 | |
| posteriorProbs | 0.191 | 0.001 | 0.192 | |
| referencecn.mops | 8.355 | 0.057 | 16.356 | |
| sampleNames-CNVDetectionResult-method | 0.222 | 0.059 | 0.281 | |
| sampleNames | 0.231 | 0.078 | 0.309 | |
| segment | 0.024 | 0.008 | 0.030 | |
| segmentation-CNVDetectionResult-method | 0.216 | 0.052 | 0.268 | |
| segmentation | 0.228 | 0.032 | 0.260 | |
| segplot-CNVDetectionResult-method | 0.872 | 0.019 | 0.891 | |
| segplot | 0.863 | 0.013 | 0.876 | |
| singlecn.mops | 0.631 | 0.040 | 0.670 | |