| Back to Build/check report for BioC 3.23: simplified long |
|
This page was generated on 2025-11-01 11:32 -0400 (Sat, 01 Nov 2025).
| Hostname | OS | Arch (*) | R version | Installed pkgs |
|---|---|---|---|---|
| nebbiolo1 | Linux (Ubuntu 24.04.3 LTS) | x86_64 | R Under development (unstable) (2025-10-20 r88955) -- "Unsuffered Consequences" | 4774 |
| Click on any hostname to see more info about the system (e.g. compilers) (*) as reported by 'uname -p', except on Windows and Mac OS X | ||||
| Package 385/2321 | Hostname | OS / Arch | INSTALL | BUILD | CHECK | BUILD BIN | ||||||||
| clustifyr 1.23.0 (landing page) Rui Fu
| nebbiolo1 | Linux (Ubuntu 24.04.3 LTS) / x86_64 | OK | OK | OK | |||||||||
|
To the developers/maintainers of the clustifyr package: - Allow up to 24 hours (and sometimes 48 hours) for your latest push to git@git.bioconductor.org:packages/clustifyr.git to reflect on this report. See Troubleshooting Build Report for more information. - Use the following Renviron settings to reproduce errors and warnings. - If 'R CMD check' started to fail recently on the Linux builder(s) over a missing dependency, add the missing dependency to 'Suggests:' in your DESCRIPTION file. See Renviron.bioc for more information. |
| Package: clustifyr |
| Version: 1.23.0 |
| Command: /home/biocbuild/bbs-3.23-bioc/R/bin/R CMD check --install=check:clustifyr.install-out.txt --library=/home/biocbuild/bbs-3.23-bioc/R/site-library --timings clustifyr_1.23.0.tar.gz |
| StartedAt: 2025-10-31 22:06:00 -0400 (Fri, 31 Oct 2025) |
| EndedAt: 2025-10-31 22:18:04 -0400 (Fri, 31 Oct 2025) |
| EllapsedTime: 723.9 seconds |
| RetCode: 0 |
| Status: OK |
| CheckDir: clustifyr.Rcheck |
| Warnings: 0 |
##############################################################################
##############################################################################
###
### Running command:
###
### /home/biocbuild/bbs-3.23-bioc/R/bin/R CMD check --install=check:clustifyr.install-out.txt --library=/home/biocbuild/bbs-3.23-bioc/R/site-library --timings clustifyr_1.23.0.tar.gz
###
##############################################################################
##############################################################################
* using log directory ‘/home/biocbuild/bbs-3.23-bioc/meat/clustifyr.Rcheck’
* using R Under development (unstable) (2025-10-20 r88955)
* using platform: x86_64-pc-linux-gnu
* R was compiled by
gcc (Ubuntu 13.3.0-6ubuntu2~24.04) 13.3.0
GNU Fortran (Ubuntu 13.3.0-6ubuntu2~24.04) 13.3.0
* running under: Ubuntu 24.04.3 LTS
* using session charset: UTF-8
* checking for file ‘clustifyr/DESCRIPTION’ ... OK
* this is package ‘clustifyr’ version ‘1.23.0’
* package encoding: UTF-8
* checking package namespace information ... OK
* checking package dependencies ... OK
* checking if this is a source package ... OK
* checking if there is a namespace ... OK
* checking for hidden files and directories ... OK
* checking for portable file names ... OK
* checking for sufficient/correct file permissions ... OK
* checking whether package ‘clustifyr’ can be installed ... OK
* checking installed package size ... OK
* checking package directory ... OK
* checking ‘build’ directory ... OK
* checking DESCRIPTION meta-information ... NOTE
License stub is invalid DCF.
* checking top-level files ... OK
* checking for left-over files ... OK
* checking index information ... OK
* checking package subdirectories ... OK
* checking code files for non-ASCII characters ... OK
* checking R files for syntax errors ... OK
* checking whether the package can be loaded ... OK
* checking whether the package can be loaded with stated dependencies ... OK
* checking whether the package can be unloaded cleanly ... OK
* checking whether the namespace can be loaded with stated dependencies ... OK
* checking whether the namespace can be unloaded cleanly ... OK
* checking loading without being on the library search path ... OK
* checking dependencies in R code ... OK
* checking S3 generic/method consistency ... OK
* checking replacement functions ... OK
* checking foreign function calls ... OK
* checking R code for possible problems ... OK
* checking Rd files ... OK
* checking Rd metadata ... OK
* checking Rd cross-references ... OK
* checking for missing documentation entries ... OK
* checking for code/documentation mismatches ... OK
* checking Rd \usage sections ... OK
* checking Rd contents ... OK
* checking for unstated dependencies in examples ... OK
* checking contents of ‘data’ directory ... OK
* checking data for non-ASCII characters ... OK
* checking LazyData ... OK
* checking data for ASCII and uncompressed saves ... OK
* checking files in ‘vignettes’ ... OK
* checking examples ... OK
Examples with CPU (user + system) or elapsed time > 5s
user system elapsed
plot_pathway_gsea 16.318 0.156 16.477
calculate_pathway_gsea 13.778 0.234 14.012
* checking for unstated dependencies in ‘tests’ ... OK
* checking tests ...
Running ‘testthat.R’
OK
* checking for unstated dependencies in vignettes ... OK
* checking package vignettes ... OK
* checking re-building of vignette outputs ... OK
* checking PDF version of manual ... OK
* DONE
Status: 1 NOTE
See
‘/home/biocbuild/bbs-3.23-bioc/meat/clustifyr.Rcheck/00check.log’
for details.
clustifyr.Rcheck/00install.out
############################################################################## ############################################################################## ### ### Running command: ### ### /home/biocbuild/bbs-3.23-bioc/R/bin/R CMD INSTALL clustifyr ### ############################################################################## ############################################################################## * installing to library ‘/home/biocbuild/bbs-3.23-bioc/R/site-library’ * installing *source* package ‘clustifyr’ ... ** this is package ‘clustifyr’ version ‘1.23.0’ ** using staged installation ** R ** data *** moving datasets to lazyload DB ** inst ** byte-compile and prepare package for lazy loading ** help *** installing help indices *** copying figures ** building package indices ** installing vignettes ** testing if installed package can be loaded from temporary location ** testing if installed package can be loaded from final location ** testing if installed package keeps a record of temporary installation path * DONE (clustifyr)
clustifyr.Rcheck/tests/testthat.Rout
R Under development (unstable) (2025-10-20 r88955) -- "Unsuffered Consequences"
Copyright (C) 2025 The R Foundation for Statistical Computing
Platform: x86_64-pc-linux-gnu
R is free software and comes with ABSOLUTELY NO WARRANTY.
You are welcome to redistribute it under certain conditions.
Type 'license()' or 'licence()' for distribution details.
R is a collaborative project with many contributors.
Type 'contributors()' for more information and
'citation()' on how to cite R or R packages in publications.
Type 'demo()' for some demos, 'help()' for on-line help, or
'help.start()' for an HTML browser interface to help.
Type 'q()' to quit R.
> library(testthat)
> library(clustifyr)
>
> test_check("clustifyr")
[ FAIL 0 | WARN 1 | SKIP 0 | PASS 183 ]
[ FAIL 0 | WARN 1 | SKIP 0 | PASS 183 ]
>
> proc.time()
user system elapsed
436.991 6.301 443.328
clustifyr.Rcheck/clustifyr-Ex.timings
| name | user | system | elapsed | |
| append_genes | 0.024 | 0.014 | 0.038 | |
| assess_rank_bias | 0.001 | 0.000 | 0.000 | |
| average_clusters | 0.051 | 0.011 | 0.063 | |
| binarize_expr | 0.092 | 0.012 | 0.105 | |
| build_atlas | 0.747 | 0.021 | 0.769 | |
| calc_distance | 0.005 | 0.000 | 0.005 | |
| calculate_pathway_gsea | 13.778 | 0.234 | 14.012 | |
| call_consensus | 0.181 | 0.011 | 0.194 | |
| call_to_metadata | 0.128 | 0.191 | 0.319 | |
| check_raw_counts | 0.728 | 0.101 | 0.830 | |
| clustify | 1.760 | 0.079 | 1.841 | |
| clustify_lists | 0.050 | 0.013 | 0.064 | |
| clustify_nudge | 0.917 | 0.027 | 0.945 | |
| clustifyr_methods | 0.000 | 0.000 | 0.001 | |
| collapse_to_cluster | 1.228 | 0.020 | 1.251 | |
| compare_lists | 0.109 | 0.000 | 0.109 | |
| cor_to_call | 0.067 | 0.001 | 0.068 | |
| cor_to_call_rank | 0.057 | 0.000 | 0.057 | |
| cor_to_call_topn | 0.059 | 0.000 | 0.059 | |
| downsample_matrix | 0.011 | 0.001 | 0.012 | |
| feature_select_PCA | 0.007 | 0.003 | 0.010 | |
| file_marker_parse | 0.002 | 0.001 | 0.003 | |
| find_rank_bias | 0.029 | 0.005 | 0.033 | |
| gene_pct_markerm | 0.280 | 0.002 | 0.282 | |
| get_ucsc_reference | 0 | 0 | 0 | |
| get_vargenes | 0.001 | 0.000 | 0.001 | |
| gmt_to_list | 0.037 | 0.000 | 0.038 | |
| insert_meta_object | 0.204 | 0.014 | 0.218 | |
| make_comb_ref | 0.011 | 0.002 | 0.013 | |
| marker_select | 0.023 | 0.001 | 0.024 | |
| matrixize_markers | 0.022 | 0.006 | 0.028 | |
| object_data | 0.267 | 0.007 | 0.273 | |
| object_ref | 0.920 | 0.157 | 1.078 | |
| overcluster | 0.84 | 0.02 | 0.86 | |
| overcluster_test | 2.305 | 0.051 | 2.356 | |
| parse_loc_object | 0.204 | 0.019 | 0.222 | |
| plot_best_call | 0.583 | 0.006 | 0.589 | |
| plot_cor | 0.849 | 0.008 | 0.857 | |
| plot_cor_heatmap | 0.861 | 0.007 | 0.868 | |
| plot_dims | 0.357 | 0.003 | 0.359 | |
| plot_gene | 0.653 | 0.002 | 0.654 | |
| plot_pathway_gsea | 16.318 | 0.156 | 16.477 | |
| plot_rank_bias | 0.000 | 0.000 | 0.001 | |
| pos_neg_marker | 0.007 | 0.000 | 0.008 | |
| pos_neg_select | 0.057 | 0.003 | 0.061 | |
| query_rank_bias | 0.035 | 0.000 | 0.035 | |
| ref_feature_select | 0.027 | 0.000 | 0.028 | |
| ref_marker_select | 0.155 | 0.000 | 0.156 | |
| reverse_marker_matrix | 0.002 | 0.004 | 0.006 | |
| run_clustifyr_app | 0.001 | 0.000 | 0.000 | |
| seurat_meta | 0.251 | 0.000 | 0.251 | |
| seurat_ref | 0.226 | 0.018 | 0.245 | |
| write_meta | 0.268 | 0.015 | 0.283 | |