| Back to Build/check report for BioC 3.22: simplified long |
|
This page was generated on 2025-10-27 12:45 -0400 (Mon, 27 Oct 2025).
| Hostname | OS | Arch (*) | R version | Installed pkgs |
|---|---|---|---|---|
| kjohnson3 | macOS 13.7.7 Ventura | arm64 | 4.5.1 Patched (2025-09-10 r88807) -- "Great Square Root" | 4637 |
| Click on any hostname to see more info about the system (e.g. compilers) (*) as reported by 'uname -p', except on Windows and Mac OS X | ||||
| Package 395/2361 | Hostname | OS / Arch | INSTALL | BUILD | CHECK | BUILD BIN | ||||||||
| clustifyr 1.21.0 (landing page) Rui Fu
| kjohnson3 | macOS 13.7.7 Ventura / arm64 | OK | OK | OK | OK | ||||||||
|
To the developers/maintainers of the clustifyr package: - Allow up to 24 hours (and sometimes 48 hours) for your latest push to git@git.bioconductor.org:packages/clustifyr.git to reflect on this report. See Troubleshooting Build Report for more information. - Use the following Renviron settings to reproduce errors and warnings. - If 'R CMD check' started to fail recently on the Linux builder(s) over a missing dependency, add the missing dependency to 'Suggests:' in your DESCRIPTION file. See Renviron.bioc for more information. |
| Package: clustifyr |
| Version: 1.21.0 |
| Command: /Library/Frameworks/R.framework/Resources/bin/R CMD check --install=check:clustifyr.install-out.txt --library=/Library/Frameworks/R.framework/Resources/library --no-vignettes --timings clustifyr_1.21.0.tar.gz |
| StartedAt: 2025-10-26 19:12:01 -0400 (Sun, 26 Oct 2025) |
| EndedAt: 2025-10-26 19:16:40 -0400 (Sun, 26 Oct 2025) |
| EllapsedTime: 279.1 seconds |
| RetCode: 0 |
| Status: OK |
| CheckDir: clustifyr.Rcheck |
| Warnings: 0 |
##############################################################################
##############################################################################
###
### Running command:
###
### /Library/Frameworks/R.framework/Resources/bin/R CMD check --install=check:clustifyr.install-out.txt --library=/Library/Frameworks/R.framework/Resources/library --no-vignettes --timings clustifyr_1.21.0.tar.gz
###
##############################################################################
##############################################################################
* using log directory ‘/Users/biocbuild/bbs-3.22-bioc/meat/clustifyr.Rcheck’
* using R version 4.5.1 Patched (2025-09-10 r88807)
* using platform: aarch64-apple-darwin20
* R was compiled by
Apple clang version 16.0.0 (clang-1600.0.26.6)
GNU Fortran (GCC) 14.2.0
* running under: macOS Ventura 13.7.7
* using session charset: UTF-8
* using option ‘--no-vignettes’
* checking for file ‘clustifyr/DESCRIPTION’ ... OK
* this is package ‘clustifyr’ version ‘1.21.0’
* package encoding: UTF-8
* checking package namespace information ... OK
* checking package dependencies ... OK
* checking if this is a source package ... OK
* checking if there is a namespace ... OK
* checking for hidden files and directories ... OK
* checking for portable file names ... OK
* checking for sufficient/correct file permissions ... OK
* checking whether package ‘clustifyr’ can be installed ... OK
* checking installed package size ... OK
* checking package directory ... OK
* checking ‘build’ directory ... OK
* checking DESCRIPTION meta-information ... NOTE
License stub is invalid DCF.
* checking top-level files ... OK
* checking for left-over files ... OK
* checking index information ... OK
* checking package subdirectories ... OK
* checking code files for non-ASCII characters ... OK
* checking R files for syntax errors ... OK
* checking whether the package can be loaded ... OK
* checking whether the package can be loaded with stated dependencies ... OK
* checking whether the package can be unloaded cleanly ... OK
* checking whether the namespace can be loaded with stated dependencies ... OK
* checking whether the namespace can be unloaded cleanly ... OK
* checking dependencies in R code ... OK
* checking S3 generic/method consistency ... OK
* checking replacement functions ... OK
* checking foreign function calls ... OK
* checking R code for possible problems ... OK
* checking Rd files ... OK
* checking Rd metadata ... OK
* checking Rd cross-references ... OK
* checking for missing documentation entries ... OK
* checking for code/documentation mismatches ... OK
* checking Rd \usage sections ... OK
* checking Rd contents ... OK
* checking for unstated dependencies in examples ... OK
* checking contents of ‘data’ directory ... OK
* checking data for non-ASCII characters ... OK
* checking LazyData ... OK
* checking data for ASCII and uncompressed saves ... OK
* checking files in ‘vignettes’ ... OK
* checking examples ... OK
Examples with CPU (user + system) or elapsed time > 5s
user system elapsed
plot_pathway_gsea 6.263 0.013 6.276
calculate_pathway_gsea 5.363 0.007 5.369
* checking for unstated dependencies in ‘tests’ ... OK
* checking tests ...
Running ‘testthat.R’
OK
* checking for unstated dependencies in vignettes ... OK
* checking package vignettes ... OK
* checking running R code from vignettes ... SKIPPED
* checking re-building of vignette outputs ... SKIPPED
* checking PDF version of manual ... OK
* DONE
Status: 1 NOTE
See
‘/Users/biocbuild/bbs-3.22-bioc/meat/clustifyr.Rcheck/00check.log’
for details.
clustifyr.Rcheck/00install.out
############################################################################## ############################################################################## ### ### Running command: ### ### /Library/Frameworks/R.framework/Resources/bin/R CMD INSTALL clustifyr ### ############################################################################## ############################################################################## * installing to library ‘/Library/Frameworks/R.framework/Versions/4.5-arm64/Resources/library’ * installing *source* package ‘clustifyr’ ... ** this is package ‘clustifyr’ version ‘1.21.0’ ** using staged installation ** R ** data *** moving datasets to lazyload DB ** inst ** byte-compile and prepare package for lazy loading ** help *** installing help indices *** copying figures ** building package indices ** installing vignettes ** testing if installed package can be loaded from temporary location ** testing if installed package can be loaded from final location ** testing if installed package keeps a record of temporary installation path * DONE (clustifyr)
clustifyr.Rcheck/tests/testthat.Rout
R version 4.5.1 Patched (2025-09-10 r88807) -- "Great Square Root"
Copyright (C) 2025 The R Foundation for Statistical Computing
Platform: aarch64-apple-darwin20
R is free software and comes with ABSOLUTELY NO WARRANTY.
You are welcome to redistribute it under certain conditions.
Type 'license()' or 'licence()' for distribution details.
R is a collaborative project with many contributors.
Type 'contributors()' for more information and
'citation()' on how to cite R or R packages in publications.
Type 'demo()' for some demos, 'help()' for on-line help, or
'help.start()' for an HTML browser interface to help.
Type 'q()' to quit R.
> library(testthat)
> library(clustifyr)
>
> test_check("clustifyr")
[ FAIL 0 | WARN 1 | SKIP 0 | PASS 183 ]
[ FAIL 0 | WARN 1 | SKIP 0 | PASS 183 ]
>
> proc.time()
user system elapsed
165.500 1.913 167.493
clustifyr.Rcheck/clustifyr-Ex.timings
| name | user | system | elapsed | |
| append_genes | 0.009 | 0.002 | 0.011 | |
| assess_rank_bias | 0.000 | 0.000 | 0.001 | |
| average_clusters | 0.020 | 0.003 | 0.023 | |
| binarize_expr | 0.033 | 0.001 | 0.034 | |
| build_atlas | 0.253 | 0.003 | 0.256 | |
| calc_distance | 0.002 | 0.000 | 0.002 | |
| calculate_pathway_gsea | 5.363 | 0.007 | 5.369 | |
| call_consensus | 0.058 | 0.002 | 0.060 | |
| call_to_metadata | 0.052 | 0.041 | 0.093 | |
| check_raw_counts | 0.295 | 0.006 | 0.301 | |
| clustify | 0.640 | 0.013 | 0.654 | |
| clustify_lists | 0.016 | 0.001 | 0.017 | |
| clustify_nudge | 0.282 | 0.005 | 0.287 | |
| clustifyr_methods | 0 | 0 | 0 | |
| collapse_to_cluster | 0.490 | 0.009 | 0.499 | |
| compare_lists | 0.035 | 0.001 | 0.035 | |
| cor_to_call | 0.023 | 0.002 | 0.025 | |
| cor_to_call_rank | 0.017 | 0.001 | 0.017 | |
| cor_to_call_topn | 0.018 | 0.001 | 0.018 | |
| downsample_matrix | 0.004 | 0.001 | 0.004 | |
| feature_select_PCA | 0.003 | 0.000 | 0.004 | |
| file_marker_parse | 0.000 | 0.001 | 0.002 | |
| find_rank_bias | 0.011 | 0.001 | 0.012 | |
| gene_pct_markerm | 0.090 | 0.000 | 0.091 | |
| get_ucsc_reference | 0.000 | 0.000 | 0.001 | |
| get_vargenes | 0.001 | 0.000 | 0.000 | |
| gmt_to_list | 0.014 | 0.000 | 0.015 | |
| insert_meta_object | 0.065 | 0.006 | 0.070 | |
| make_comb_ref | 0.004 | 0.001 | 0.005 | |
| marker_select | 0.010 | 0.001 | 0.011 | |
| matrixize_markers | 0.008 | 0.001 | 0.009 | |
| object_data | 0.086 | 0.004 | 0.090 | |
| object_ref | 0.340 | 0.033 | 0.374 | |
| overcluster | 0.248 | 0.018 | 0.267 | |
| overcluster_test | 0.765 | 0.024 | 0.787 | |
| parse_loc_object | 0.060 | 0.004 | 0.065 | |
| plot_best_call | 0.243 | 0.004 | 0.247 | |
| plot_cor | 0.277 | 0.014 | 0.291 | |
| plot_cor_heatmap | 0.313 | 0.017 | 0.331 | |
| plot_dims | 0.100 | 0.001 | 0.102 | |
| plot_gene | 0.210 | 0.003 | 0.213 | |
| plot_pathway_gsea | 6.263 | 0.013 | 6.276 | |
| plot_rank_bias | 0 | 0 | 0 | |
| pos_neg_marker | 0.002 | 0.000 | 0.003 | |
| pos_neg_select | 0.019 | 0.001 | 0.020 | |
| query_rank_bias | 0.012 | 0.001 | 0.013 | |
| ref_feature_select | 0.008 | 0.001 | 0.008 | |
| ref_marker_select | 0.048 | 0.000 | 0.048 | |
| reverse_marker_matrix | 0.001 | 0.001 | 0.003 | |
| run_clustifyr_app | 0 | 0 | 0 | |
| seurat_meta | 0.078 | 0.005 | 0.084 | |
| seurat_ref | 0.064 | 0.005 | 0.069 | |
| write_meta | 0.080 | 0.006 | 0.085 | |