Back to Build/check report for BioC 3.23:   simplified   long
ABCDEFGHIJKLMNOPQR[S]TUVWXYZ

This page was generated on 2025-10-31 08:34 -0400 (Fri, 31 Oct 2025).

HostnameOSArch (*)R versionInstalled pkgs
nebbiolo1Linux (Ubuntu 24.04.3 LTS)x86_64R Under development (unstable) (2025-10-20 r88955) -- "Unsuffered Consequences" 4428
Click on any hostname to see more info about the system (e.g. compilers)      (*) as reported by 'uname -p', except on Windows and Mac OS X

Package 2056/2321HostnameOS / ArchINSTALLBUILDCHECKBUILD BIN
Spectra 1.21.0  (landing page)
RforMassSpectrometry Package Maintainer
Snapshot Date: 2025-10-30 13:40 -0400 (Thu, 30 Oct 2025)
git_url: https://git.bioconductor.org/packages/Spectra
git_branch: devel
git_last_commit: 3a71e5d
git_last_commit_date: 2025-10-29 11:01:49 -0400 (Wed, 29 Oct 2025)
nebbiolo1Linux (Ubuntu 24.04.3 LTS) / x86_64  OK    OK    OK  NO, package depends on 'IRanges' which is not available


BUILD results for Spectra on nebbiolo1

To the developers/maintainers of the Spectra package:
- Allow up to 24 hours (and sometimes 48 hours) for your latest push to git@git.bioconductor.org:packages/Spectra.git to reflect on this report. See Troubleshooting Build Report for more information.
- Use the following Renviron settings to reproduce errors and warnings.
- If 'R CMD check' started to fail recently on the Linux builder(s) over a missing dependency, add the missing dependency to 'Suggests:' in your DESCRIPTION file. See Renviron.bioc for more information.

raw results


Summary

Package: Spectra
Version: 1.21.0
Command: /home/biocbuild/bbs-3.23-bioc/R/bin/R CMD build --keep-empty-dirs --no-resave-data Spectra
StartedAt: 2025-10-30 19:12:18 -0400 (Thu, 30 Oct 2025)
EndedAt: 2025-10-30 19:13:09 -0400 (Thu, 30 Oct 2025)
EllapsedTime: 51.1 seconds
RetCode: 0
Status:   OK  
PackageFile: Spectra_1.21.0.tar.gz
PackageFileSize: 1.808 MiB

Command output

##############################################################################
##############################################################################
###
### Running command:
###
###   /home/biocbuild/bbs-3.23-bioc/R/bin/R CMD build --keep-empty-dirs --no-resave-data Spectra
###
##############################################################################
##############################################################################


* checking for file ‘Spectra/DESCRIPTION’ ... OK
* preparing ‘Spectra’:
* checking DESCRIPTION meta-information ... OK
* installing the package (it is needed to build vignettes)
* creating vignettes ... OK
* checking for LF line-endings in source and make files and shell scripts
* checking for empty or unneeded directories
WARNING: directory ‘Spectra/pkgdown’ is empty
* looking to see if a ‘data/datalist’ file should be added
* building ‘Spectra_1.21.0.tar.gz’