| Back to Multiple platform build/check report for BioC 3.22: simplified long |
|
This page was generated on 2025-08-15 12:07 -0400 (Fri, 15 Aug 2025).
| Hostname | OS | Arch (*) | R version | Installed pkgs |
|---|---|---|---|---|
| nebbiolo2 | Linux (Ubuntu 24.04.3 LTS) | x86_64 | 4.5.1 (2025-06-13) -- "Great Square Root" | 4818 |
| palomino8 | Windows Server 2022 Datacenter | x64 | 4.5.1 (2025-06-13 ucrt) -- "Great Square Root" | 4554 |
| lconway | macOS 12.7.1 Monterey | x86_64 | 4.5.1 (2025-06-13) -- "Great Square Root" | 4595 |
| kjohnson3 | macOS 13.7.7 Ventura | arm64 | 4.5.1 Patched (2025-06-14 r88325) -- "Great Square Root" | 4537 |
| taishan | Linux (openEuler 24.03 LTS) | aarch64 | 4.5.0 (2025-04-11) -- "How About a Twenty-Six" | 4535 |
| Click on any hostname to see more info about the system (e.g. compilers) (*) as reported by 'uname -p', except on Windows and Mac OS X | ||||
| Package 2027/2317 | Hostname | OS / Arch | INSTALL | BUILD | CHECK | BUILD BIN | ||||||||
| SpaceTrooper 0.99.3 (landing page) Dario Righelli
| nebbiolo2 | Linux (Ubuntu 24.04.3 LTS) / x86_64 | OK | OK | OK | |||||||||
| palomino8 | Windows Server 2022 Datacenter / x64 | OK | OK | OK | OK | |||||||||
| lconway | macOS 12.7.1 Monterey / x86_64 | OK | OK | OK | OK | |||||||||
| kjohnson3 | macOS 13.7.7 Ventura / arm64 | OK | OK | OK | OK | |||||||||
| taishan | Linux (openEuler 24.03 LTS) / aarch64 | OK | OK | OK | ||||||||||
|
To the developers/maintainers of the SpaceTrooper package: - Allow up to 24 hours (and sometimes 48 hours) for your latest push to git@git.bioconductor.org:packages/SpaceTrooper.git to reflect on this report. See Troubleshooting Build Report for more information. - Use the following Renviron settings to reproduce errors and warnings. - If 'R CMD check' started to fail recently on the Linux builder(s) over a missing dependency, add the missing dependency to 'Suggests:' in your DESCRIPTION file. See Renviron.bioc for more information. |
| Package: SpaceTrooper |
| Version: 0.99.3 |
| Command: F:\biocbuild\bbs-3.22-bioc\R\bin\R.exe CMD check --no-multiarch --install=check:SpaceTrooper.install-out.txt --library=F:\biocbuild\bbs-3.22-bioc\R\library --no-vignettes --timings SpaceTrooper_0.99.3.tar.gz |
| StartedAt: 2025-08-15 08:06:30 -0400 (Fri, 15 Aug 2025) |
| EndedAt: 2025-08-15 08:15:27 -0400 (Fri, 15 Aug 2025) |
| EllapsedTime: 536.7 seconds |
| RetCode: 0 |
| Status: OK |
| CheckDir: SpaceTrooper.Rcheck |
| Warnings: 0 |
##############################################################################
##############################################################################
###
### Running command:
###
### F:\biocbuild\bbs-3.22-bioc\R\bin\R.exe CMD check --no-multiarch --install=check:SpaceTrooper.install-out.txt --library=F:\biocbuild\bbs-3.22-bioc\R\library --no-vignettes --timings SpaceTrooper_0.99.3.tar.gz
###
##############################################################################
##############################################################################
* using log directory 'F:/biocbuild/bbs-3.22-bioc/meat/SpaceTrooper.Rcheck'
* using R version 4.5.1 (2025-06-13 ucrt)
* using platform: x86_64-w64-mingw32
* R was compiled by
gcc.exe (GCC) 14.2.0
GNU Fortran (GCC) 14.2.0
* running under: Windows Server 2022 x64 (build 20348)
* using session charset: UTF-8
* using option '--no-vignettes'
* checking for file 'SpaceTrooper/DESCRIPTION' ... OK
* checking extension type ... Package
* this is package 'SpaceTrooper' version '0.99.3'
* package encoding: UTF-8
* checking package namespace information ... OK
* checking package dependencies ... OK
* checking if this is a source package ... OK
* checking if there is a namespace ... OK
* checking for hidden files and directories ... OK
* checking for portable file names ... OK
* checking whether package 'SpaceTrooper' can be installed ... OK
* checking installed package size ... INFO
installed size is 8.6Mb
sub-directories of 1Mb or more:
extdata 8.2Mb
* checking package directory ... OK
* checking 'build' directory ... OK
* checking DESCRIPTION meta-information ... OK
* checking top-level files ... OK
* checking for left-over files ... OK
* checking index information ... OK
* checking package subdirectories ... OK
* checking code files for non-ASCII characters ... OK
* checking R files for syntax errors ... OK
* checking whether the package can be loaded ... OK
* checking whether the package can be loaded with stated dependencies ... OK
* checking whether the package can be unloaded cleanly ... OK
* checking whether the namespace can be loaded with stated dependencies ... OK
* checking whether the namespace can be unloaded cleanly ... OK
* checking dependencies in R code ... OK
* checking S3 generic/method consistency ... OK
* checking replacement functions ... OK
* checking foreign function calls ... OK
* checking R code for possible problems ... NOTE
.checkFovPositionVersion: no visible global function definition for
'metadata<-'
readCosmxProteinSPE: no visible global function definition for
'metadata<-'
readCosmxSPE: no visible global function definition for 'metadata<-'
readXeniumSPE: no visible global function definition for 'metadata<-'
Undefined global functions or variables:
metadata<-
* checking Rd files ... OK
* checking Rd metadata ... OK
* checking Rd cross-references ... NOTE
Found the following Rd file(s) with Rd \link{} targets missing package
anchors:
computeTrainDF.Rd: SpatialExperiment-class
dot-computeCosmxProteinTrainSet.Rd: SpatialExperiment-class
dot-computeCosmxTrainSet.Rd: SpatialExperiment-class
dot-computeXenMerTrainSet.Rd: SpatialExperiment-class
Please provide package anchors for all Rd \link{} targets not in the
package itself and the base packages.
* checking for missing documentation entries ... OK
* checking for code/documentation mismatches ... OK
* checking Rd \usage sections ... OK
* checking Rd contents ... OK
* checking for unstated dependencies in examples ... OK
* checking files in 'vignettes' ... OK
* checking examples ... OK
* checking for unstated dependencies in 'tests' ... OK
* checking tests ...
Running 'testthat.R'
OK
* checking for unstated dependencies in vignettes ... OK
* checking package vignettes ... OK
* checking running R code from vignettes ... SKIPPED
* checking re-building of vignette outputs ... SKIPPED
* checking PDF version of manual ... OK
* DONE
Status: 2 NOTEs
See
'F:/biocbuild/bbs-3.22-bioc/meat/SpaceTrooper.Rcheck/00check.log'
for details.
SpaceTrooper.Rcheck/00install.out
############################################################################## ############################################################################## ### ### Running command: ### ### F:\biocbuild\bbs-3.22-bioc\R\bin\R.exe CMD INSTALL SpaceTrooper ### ############################################################################## ############################################################################## * installing to library 'F:/biocbuild/bbs-3.22-bioc/R/library' * installing *source* package 'SpaceTrooper' ... ** this is package 'SpaceTrooper' version '0.99.3' ** using staged installation ** R ** inst ** byte-compile and prepare package for lazy loading ** help *** installing help indices ** building package indices ** installing vignettes ** testing if installed package can be loaded from temporary location ** testing if installed package can be loaded from final location ** testing if installed package keeps a record of temporary installation path * DONE (SpaceTrooper)
SpaceTrooper.Rcheck/tests/testthat.Rout
R version 4.5.1 (2025-06-13 ucrt) -- "Great Square Root"
Copyright (C) 2025 The R Foundation for Statistical Computing
Platform: x86_64-w64-mingw32/x64
R is free software and comes with ABSOLUTELY NO WARRANTY.
You are welcome to redistribute it under certain conditions.
Type 'license()' or 'licence()' for distribution details.
R is a collaborative project with many contributors.
Type 'contributors()' for more information and
'citation()' on how to cite R or R packages in publications.
Type 'demo()' for some demos, 'help()' for on-line help, or
'help.start()' for an HTML browser interface to help.
Type 'q()' to quit R.
> # This file is part of the standard setup for testthat.
> # It is recommended that you do not modify it.
> #
> # Where should you do additional test configuration?
> # Learn more about the roles of various files in:
> # * https://r-pkgs.org/testing-design.html#sec-tests-files-overview
> # * https://testthat.r-lib.org/articles/special-files.html
>
> library(testthat)
> library(SpaceTrooper)
Loading required package: SpatialExperiment
Loading required package: SingleCellExperiment
Loading required package: SummarizedExperiment
Loading required package: MatrixGenerics
Loading required package: matrixStats
Attaching package: 'MatrixGenerics'
The following objects are masked from 'package:matrixStats':
colAlls, colAnyNAs, colAnys, colAvgsPerRowSet, colCollapse,
colCounts, colCummaxs, colCummins, colCumprods, colCumsums,
colDiffs, colIQRDiffs, colIQRs, colLogSumExps, colMadDiffs,
colMads, colMaxs, colMeans2, colMedians, colMins, colOrderStats,
colProds, colQuantiles, colRanges, colRanks, colSdDiffs, colSds,
colSums2, colTabulates, colVarDiffs, colVars, colWeightedMads,
colWeightedMeans, colWeightedMedians, colWeightedSds,
colWeightedVars, rowAlls, rowAnyNAs, rowAnys, rowAvgsPerColSet,
rowCollapse, rowCounts, rowCummaxs, rowCummins, rowCumprods,
rowCumsums, rowDiffs, rowIQRDiffs, rowIQRs, rowLogSumExps,
rowMadDiffs, rowMads, rowMaxs, rowMeans2, rowMedians, rowMins,
rowOrderStats, rowProds, rowQuantiles, rowRanges, rowRanks,
rowSdDiffs, rowSds, rowSums2, rowTabulates, rowVarDiffs, rowVars,
rowWeightedMads, rowWeightedMeans, rowWeightedMedians,
rowWeightedSds, rowWeightedVars
Loading required package: GenomicRanges
Loading required package: stats4
Loading required package: BiocGenerics
Loading required package: generics
Attaching package: 'generics'
The following objects are masked from 'package:base':
as.difftime, as.factor, as.ordered, intersect, is.element, setdiff,
setequal, union
Attaching package: 'BiocGenerics'
The following objects are masked from 'package:stats':
IQR, mad, sd, var, xtabs
The following objects are masked from 'package:base':
Filter, Find, Map, Position, Reduce, anyDuplicated, aperm, append,
as.data.frame, basename, cbind, colnames, dirname, do.call,
duplicated, eval, evalq, get, grep, grepl, is.unsorted, lapply,
mapply, match, mget, order, paste, pmax, pmax.int, pmin, pmin.int,
rank, rbind, rownames, sapply, saveRDS, table, tapply, unique,
unsplit, which.max, which.min
Loading required package: S4Vectors
Attaching package: 'S4Vectors'
The following object is masked from 'package:utils':
findMatches
The following objects are masked from 'package:base':
I, expand.grid, unname
Loading required package: IRanges
Attaching package: 'IRanges'
The following object is masked from 'package:grDevices':
windows
Loading required package: Seqinfo
Loading required package: Biobase
Welcome to Bioconductor
Vignettes contain introductory material; view with
'browseVignettes()'. To cite Bioconductor, see
'citation("Biobase")', and for packages 'citation("pkgname")'.
Attaching package: 'Biobase'
The following object is masked from 'package:MatrixGenerics':
rowMedians
The following objects are masked from 'package:matrixStats':
anyMissing, rowMedians
>
> test_check("SpaceTrooper")
rdCSPE> cospath <- system.file(file.path("extdata", "CosMx_DBKero_Tiny"),
rdCSPE+ package="SpaceTrooper")
rdCSPE> spe <- readCosmxSPE(cospath, sampleName="DBKero_Tiny")
Removing 1 cells with 0 counts!
Removing 1 cells with 0 counts!
Removing 1 cells with 0 counts!
Removing 1 cells with 0 counts!
[ FAIL 0 | WARN 0 | SKIP 0 | PASS 16 ]
>
> proc.time()
user system elapsed
30.40 2.81 32.14
SpaceTrooper.Rcheck/SpaceTrooper-Ex.timings
| name | user | system | elapsed | |
| addPolygonsToSPE | 1.41 | 0.03 | 1.45 | |
| computeAreaFromPolygons | 1.66 | 0.03 | 1.68 | |
| computeAspectRatioFromPolygons | 0.28 | 0.00 | 0.28 | |
| computeCenterFromPolygons | 0.39 | 0.03 | 0.42 | |
| computeLambda | 1.94 | 0.16 | 2.11 | |
| computeMissingMetricsMerfish | 0.43 | 0.00 | 0.44 | |
| computeMissingMetricsXenium | 0.85 | 0.03 | 0.88 | |
| computeQScore | 1.89 | 0.03 | 1.92 | |
| computeQscoreFlags | 2.14 | 0.02 | 2.15 | |
| computeSpatialOutlier | 1.11 | 0.03 | 1.16 | |
| computeThresholdFlags | 1.19 | 0.03 | 1.22 | |
| computeTrainDF | 1.29 | 0.06 | 1.36 | |
| dot-getActiveGeometryName | 0.52 | 0.03 | 0.54 | |
| dot-renameGeometry | 0.47 | 0.03 | 0.50 | |
| dot-setActiveGeometry | 1.59 | 0.08 | 1.68 | |
| getFencesOutlier | 1.28 | 0.00 | 1.34 | |
| getModelFormula | 1.14 | 0.02 | 1.16 | |
| plotCellsFovs | 0.81 | 0.03 | 0.84 | |
| plotCentroids | 0.71 | 0.02 | 0.72 | |
| plotMetricHist | 0.48 | 0.03 | 0.51 | |
| plotPolygons | 1.11 | 0.00 | 1.13 | |
| plotQScoreTerms | 2.47 | 0.04 | 2.52 | |
| plotZoomFovsMap | 1.36 | 0.05 | 1.40 | |
| qcFlagPlots | 3.09 | 0.09 | 3.19 | |
| readAndAddPolygonsToSPE | 0.66 | 0.04 | 0.69 | |
| readCosmxSPE | 0.42 | 0.00 | 0.42 | |
| readMerfishSPE | 0.28 | 0.00 | 0.28 | |
| readPolygons | 0.52 | 0.01 | 0.53 | |
| readPolygonsCosmx | 0.55 | 0.02 | 0.56 | |
| readPolygonsMerfish | 0.32 | 0.00 | 0.35 | |
| readPolygonsXenium | 0.50 | 0.03 | 0.56 | |
| readXeniumSPE | 0.61 | 0.04 | 0.66 | |
| spatialPerCellQC | 1.24 | 0.02 | 1.25 | |
| trainModel | 1.53 | 0.05 | 1.57 | |