Back to Multiple platform build/check report for BioC 3.22:   simplified   long
ABCDEFGHIJKLMNOPQR[S]TUVWXYZ

This page was generated on 2025-10-11 12:07 -0400 (Sat, 11 Oct 2025).

HostnameOSArch (*)R versionInstalled pkgs
nebbiolo2Linux (Ubuntu 24.04.3 LTS)x86_644.5.1 Patched (2025-08-23 r88802) -- "Great Square Root" 4864
lconwaymacOS 12.7.1 Montereyx86_644.5.1 Patched (2025-09-10 r88807) -- "Great Square Root" 4652
kjohnson3macOS 13.7.7 Venturaarm644.5.1 Patched (2025-09-10 r88807) -- "Great Square Root" 4597
taishanLinux (openEuler 24.03 LTS)aarch644.5.0 (2025-04-11) -- "How About a Twenty-Six" 4586
Click on any hostname to see more info about the system (e.g. compilers)      (*) as reported by 'uname -p', except on Windows and Mac OS X

Package 2044/2346HostnameOS / ArchINSTALLBUILDCHECKBUILD BIN
SNPhood 1.39.0  (landing page)
Christian Arnold
Snapshot Date: 2025-10-10 13:45 -0400 (Fri, 10 Oct 2025)
git_url: https://git.bioconductor.org/packages/SNPhood
git_branch: devel
git_last_commit: 79a2c60
git_last_commit_date: 2025-04-15 10:56:04 -0400 (Tue, 15 Apr 2025)
nebbiolo2Linux (Ubuntu 24.04.3 LTS) / x86_64  OK    OK    OK  UNNEEDED, same version is already published
lconwaymacOS 12.7.1 Monterey / x86_64  OK    OK    OK    OK  UNNEEDED, same version is already published
kjohnson3macOS 13.7.7 Ventura / arm64  OK    OK    OK    OK  UNNEEDED, same version is already published
taishanLinux (openEuler 24.03 LTS) / aarch64  OK    OK    OK  


CHECK results for SNPhood on taishan

To the developers/maintainers of the SNPhood package:
- Allow up to 24 hours (and sometimes 48 hours) for your latest push to git@git.bioconductor.org:packages/SNPhood.git to reflect on this report. See Troubleshooting Build Report for more information.
- Use the following Renviron settings to reproduce errors and warnings.
- If 'R CMD check' started to fail recently on the Linux builder(s) over a missing dependency, add the missing dependency to 'Suggests:' in your DESCRIPTION file. See Renviron.bioc for more information.
- See Martin Grigorov's blog post for how to debug Linux ARM64 related issues on a x86_64 host.

raw results


Summary

Package: SNPhood
Version: 1.39.0
Command: /home/biocbuild/R/R/bin/R CMD check --install=check:SNPhood.install-out.txt --library=/home/biocbuild/R/R/site-library --no-vignettes --timings SNPhood_1.39.0.tar.gz
StartedAt: 2025-10-10 13:50:59 -0000 (Fri, 10 Oct 2025)
EndedAt: 2025-10-10 14:07:17 -0000 (Fri, 10 Oct 2025)
EllapsedTime: 977.9 seconds
RetCode: 0
Status:   OK  
CheckDir: SNPhood.Rcheck
Warnings: 0

Command output

##############################################################################
##############################################################################
###
### Running command:
###
###   /home/biocbuild/R/R/bin/R CMD check --install=check:SNPhood.install-out.txt --library=/home/biocbuild/R/R/site-library --no-vignettes --timings SNPhood_1.39.0.tar.gz
###
##############################################################################
##############################################################################


* using log directory ‘/home/biocbuild/bbs-3.22-bioc/meat/SNPhood.Rcheck’
* using R version 4.5.0 (2025-04-11)
* using platform: aarch64-unknown-linux-gnu
* R was compiled by
    aarch64-unknown-linux-gnu-gcc (GCC) 14.2.0
    GNU Fortran (GCC) 14.2.0
* running under: openEuler 24.03 (LTS)
* using session charset: UTF-8
* using option ‘--no-vignettes’
* checking for file ‘SNPhood/DESCRIPTION’ ... OK
* this is package ‘SNPhood’ version ‘1.39.0’
* checking package namespace information ... OK
* checking package dependencies ... OK
* checking if this is a source package ... OK
* checking if there is a namespace ... OK
* checking for hidden files and directories ... OK
* checking for portable file names ... OK
* checking for sufficient/correct file permissions ... OK
* checking whether package ‘SNPhood’ can be installed ... OK
* checking installed package size ... OK
* checking package directory ... OK
* checking ‘build’ directory ... OK
* checking DESCRIPTION meta-information ... NOTE
BugReports field is not a suitable URL but contains an email address:
   use the Contact field instead
* checking top-level files ... OK
* checking for left-over files ... OK
* checking index information ... OK
* checking package subdirectories ... OK
* checking code files for non-ASCII characters ... OK
* checking R files for syntax errors ... OK
* checking whether the package can be loaded ... OK
* checking whether the package can be loaded with stated dependencies ... OK
* checking whether the package can be unloaded cleanly ... OK
* checking whether the namespace can be loaded with stated dependencies ... OK
* checking whether the namespace can be unloaded cleanly ... OK
* checking loading without being on the library search path ... OK
* checking whether startup messages can be suppressed ... OK
* checking dependencies in R code ... OK
* checking S3 generic/method consistency ... OK
* checking replacement functions ... OK
* checking foreign function calls ... OK
* checking R code for possible problems ... NOTE
.calcBinomTestVector: no visible binding for global variable ‘pp’
Undefined global functions or variables:
  pp
* checking Rd files ... OK
* checking Rd metadata ... OK
* checking Rd cross-references ... NOTE
Found the following Rd file(s) with Rd \link{} targets missing package
anchors:
  analyzeSNPhood.Rd: BamFile-class, BamFileList-class
  collectFiles.Rd: BamFile-class, BamFileList-class
Please provide package anchors for all Rd \link{} targets not in the
package itself and the base packages.
* checking for missing documentation entries ... OK
* checking for code/documentation mismatches ... OK
* checking Rd \usage sections ... OK
* checking Rd contents ... OK
* checking for unstated dependencies in examples ... OK
* checking contents of ‘data’ directory ... OK
* checking data for non-ASCII characters ... OK
* checking LazyData ... OK
* checking data for ASCII and uncompressed saves ... OK
* checking files in ‘vignettes’ ... OK
* checking examples ... OK
Examples with CPU (user + system) or elapsed time > 5s
                                   user system elapsed
analyzeSNPhood                  124.164  2.193 171.052
plotAllelicBiasResults           39.843  0.143  45.569
plotAndSummarizeAllelicBiasTest  35.861  0.062  44.015
plotFDRResults                   35.557  0.201  50.167
testForAllelicBiases             34.565  0.113  42.120
annotationBins2                   8.468  0.004  14.412
associateGenotypes                7.654  0.012   8.679
* checking for unstated dependencies in vignettes ... OK
* checking package vignettes ... OK
* checking running R code from vignettes ... SKIPPED
* checking re-building of vignette outputs ... SKIPPED
* checking PDF version of manual ... OK
* DONE

Status: 3 NOTEs
See
  ‘/home/biocbuild/bbs-3.22-bioc/meat/SNPhood.Rcheck/00check.log’
for details.


Installation output

SNPhood.Rcheck/00install.out

##############################################################################
##############################################################################
###
### Running command:
###
###   /home/biocbuild/R/R/bin/R CMD INSTALL SNPhood
###
##############################################################################
##############################################################################


* installing to library ‘/home/biocbuild/R/R-4.5.0/site-library’
* installing *source* package ‘SNPhood’ ...
** this is package ‘SNPhood’ version ‘1.39.0’
** using staged installation
** R
** data
*** moving datasets to lazyload DB
** byte-compile and prepare package for lazy loading
** help
*** installing help indices
** building package indices
** installing vignettes
** testing if installed package can be loaded from temporary location
** testing if installed package can be loaded from final location
** testing if installed package keeps a record of temporary installation path
* DONE (SNPhood)

Tests output


Example timings

SNPhood.Rcheck/SNPhood-Ex.timings

nameusersystemelapsed
analyzeSNPhood124.164 2.193171.052
annotation-methods0.2790.0200.600
annotationBins0.1670.0000.336
annotationBins2 8.468 0.00414.412
annotationDatasets0.1640.0000.329
annotationReadGroups0.1780.0000.358
annotationRegions0.1740.0000.281
associateGenotypes7.6540.0128.679
bins-methods0.1540.0200.173
changeObjectIntegrityChecking0.1900.0080.215
collectFiles0.0320.0080.040
convertToAllelicFractions0.2740.0000.275
counts-method0.2960.0000.309
datasets-methods0.1780.0000.202
deleteDatasets0.9860.0481.056
deleteReadGroups0.1940.0080.203
deleteRegions1.0340.0082.021
enrichment-methods0.1890.0080.393
getDefaultParameterList0.0010.0000.005
mergeReadGroups0.2420.0200.522
parameters-methods0.1820.0040.374
plotAllelicBiasResults39.843 0.14345.569
plotAllelicBiasResultsOverview1.6870.0402.863
plotAndCalculateCorrelationDatasets1.2650.0521.475
plotAndCalculateWeakAndStrongGenotype0.8700.0120.950
plotAndClusterMatrix0.7700.0120.836
plotAndSummarizeAllelicBiasTest35.861 0.06244.015
plotBinCounts2.5360.0244.126
plotClusterAverage1.1240.0271.200
plotFDRResults35.557 0.20150.167
plotGenotypesPerCluster0.6940.0441.044
plotGenotypesPerSNP0.5710.0000.640
plotRegionCounts2.9830.0403.199
readGroups-methods0.1510.0000.154
regions-methods0.1680.0040.178
renameBins0.1780.0070.187
renameDatasets1.1920.0401.303
renameReadGroups0.1720.0040.179
renameRegions3.2310.0164.050
results1.7201.2693.641
testForAllelicBiases34.565 0.11342.120