Back to Multiple platform build/check report for BioC 3.23:   simplified   long
ABCDEFGHIJKLMNOPQR[S]TUVWXYZ

This page was generated on 2025-11-19 10:14 -0500 (Wed, 19 Nov 2025).

HostnameOSArch (*)R versionInstalled pkgs
nebbiolo1Linux (Ubuntu 24.04.3 LTS)x86_64R Under development (unstable) (2025-10-20 r88955) -- "Unsuffered Consequences" 4827
lconwaymacOS 12.7.6 Montereyx86_64R Under development (unstable) (2025-10-21 r88958) -- "Unsuffered Consequences" 4600
kjohnson3macOS 13.7.7 Venturaarm64R Under development (unstable) (2025-11-04 r88984) -- "Unsuffered Consequences" 4564
Click on any hostname to see more info about the system (e.g. compilers)      (*) as reported by 'uname -p', except on Windows and Mac OS X

Package 2026/2325HostnameOS / ArchINSTALLBUILDCHECKBUILD BIN
SNPhood 1.41.0  (landing page)
Christian Arnold
Snapshot Date: 2025-11-18 13:40 -0500 (Tue, 18 Nov 2025)
git_url: https://git.bioconductor.org/packages/SNPhood
git_branch: devel
git_last_commit: 4de7497
git_last_commit_date: 2025-10-29 10:28:24 -0500 (Wed, 29 Oct 2025)
nebbiolo1Linux (Ubuntu 24.04.3 LTS) / x86_64  OK    OK    OK  UNNEEDED, same version is already published
lconwaymacOS 12.7.6 Monterey / x86_64  OK    OK    OK    OK  NO, package depends on 'GenomicRanges' which is only available as a source package that needs compilation
kjohnson3macOS 13.7.7 Ventura / arm64  OK    OK    OK    OK  NO, package depends on 'GenomicRanges' which is only available as a source package that needs compilation


CHECK results for SNPhood on lconway

To the developers/maintainers of the SNPhood package:
- Allow up to 24 hours (and sometimes 48 hours) for your latest push to git@git.bioconductor.org:packages/SNPhood.git to reflect on this report. See Troubleshooting Build Report for more information.
- Use the following Renviron settings to reproduce errors and warnings.
- If 'R CMD check' started to fail recently on the Linux builder(s) over a missing dependency, add the missing dependency to 'Suggests:' in your DESCRIPTION file. See Renviron.bioc for more information.

raw results


Summary

Package: SNPhood
Version: 1.41.0
Command: /Library/Frameworks/R.framework/Resources/bin/R CMD check --install=check:SNPhood.install-out.txt --library=/Library/Frameworks/R.framework/Resources/library --no-vignettes --timings SNPhood_1.41.0.tar.gz
StartedAt: 2025-11-19 00:12:34 -0500 (Wed, 19 Nov 2025)
EndedAt: 2025-11-19 00:24:05 -0500 (Wed, 19 Nov 2025)
EllapsedTime: 691.3 seconds
RetCode: 0
Status:   OK  
CheckDir: SNPhood.Rcheck
Warnings: 0

Command output

##############################################################################
##############################################################################
###
### Running command:
###
###   /Library/Frameworks/R.framework/Resources/bin/R CMD check --install=check:SNPhood.install-out.txt --library=/Library/Frameworks/R.framework/Resources/library --no-vignettes --timings SNPhood_1.41.0.tar.gz
###
##############################################################################
##############################################################################


* using log directory ‘/Users/biocbuild/bbs-3.23-bioc/meat/SNPhood.Rcheck’
* using R Under development (unstable) (2025-10-21 r88958)
* using platform: x86_64-apple-darwin20
* R was compiled by
    Apple clang version 14.0.0 (clang-1400.0.29.202)
    GNU Fortran (GCC) 14.2.0
* running under: macOS Ventura 13.7.8
* using session charset: UTF-8
* using option ‘--no-vignettes’
* checking for file ‘SNPhood/DESCRIPTION’ ... OK
* this is package ‘SNPhood’ version ‘1.41.0’
* checking package namespace information ... OK
* checking package dependencies ... OK
* checking if this is a source package ... OK
* checking if there is a namespace ... OK
* checking for hidden files and directories ... OK
* checking for portable file names ... OK
* checking for sufficient/correct file permissions ... OK
* checking whether package ‘SNPhood’ can be installed ... OK
* checking installed package size ... OK
* checking package directory ... OK
* checking ‘build’ directory ... OK
* checking DESCRIPTION meta-information ... NOTE
BugReports field is not a suitable URL but contains an email address:
   use the Contact field instead
* checking top-level files ... OK
* checking for left-over files ... OK
* checking index information ... OK
* checking package subdirectories ... OK
* checking code files for non-ASCII characters ... OK
* checking R files for syntax errors ... OK
* checking whether the package can be loaded ... OK
* checking whether the package can be loaded with stated dependencies ... OK
* checking whether the package can be unloaded cleanly ... OK
* checking whether the namespace can be loaded with stated dependencies ... OK
* checking whether the namespace can be unloaded cleanly ... OK
* checking whether startup messages can be suppressed ... OK
* checking dependencies in R code ... OK
* checking S3 generic/method consistency ... OK
* checking replacement functions ... OK
* checking foreign function calls ... OK
* checking R code for possible problems ... NOTE
.calcBinomTestVector: no visible binding for global variable ‘pp’
Undefined global functions or variables:
  pp
* checking Rd files ... OK
* checking Rd metadata ... OK
* checking Rd cross-references ... NOTE
Found the following Rd file(s) with Rd \link{} targets missing package
anchors:
  analyzeSNPhood.Rd: BamFile-class, BamFileList-class
  collectFiles.Rd: BamFile-class, BamFileList-class
Please provide package anchors for all Rd \link{} targets not in the
package itself and the base packages.
* checking for missing documentation entries ... OK
* checking for code/documentation mismatches ... OK
* checking Rd \usage sections ... OK
* checking Rd contents ... OK
* checking for unstated dependencies in examples ... OK
* checking contents of ‘data’ directory ... OK
* checking data for non-ASCII characters ... OK
* checking LazyData ... OK
* checking data for ASCII and uncompressed saves ... OK
* checking files in ‘vignettes’ ... OK
* checking examples ... OK
Examples with CPU (user + system) or elapsed time > 5s
                                   user system elapsed
analyzeSNPhood                  113.148  2.557 144.318
plotAllelicBiasResults           32.163  0.380  32.709
plotAndSummarizeAllelicBiasTest  30.243  0.225  30.592
plotFDRResults                   29.543  0.290  30.000
testForAllelicBiases             29.139  0.276  29.548
results                           2.425  6.973   9.468
annotationBins2                   9.252  0.112   9.451
associateGenotypes                5.501  0.123   5.728
* checking for unstated dependencies in vignettes ... OK
* checking package vignettes ... OK
* checking running R code from vignettes ... SKIPPED
* checking re-building of vignette outputs ... SKIPPED
* checking PDF version of manual ... OK
* DONE

Status: 3 NOTEs
See
  ‘/Users/biocbuild/bbs-3.23-bioc/meat/SNPhood.Rcheck/00check.log’
for details.


Installation output

SNPhood.Rcheck/00install.out

##############################################################################
##############################################################################
###
### Running command:
###
###   /Library/Frameworks/R.framework/Resources/bin/R CMD INSTALL SNPhood
###
##############################################################################
##############################################################################


* installing to library ‘/Library/Frameworks/R.framework/Versions/4.6-x86_64/Resources/library’
* installing *source* package ‘SNPhood’ ...
** this is package ‘SNPhood’ version ‘1.41.0’
** using staged installation
** R
** data
*** moving datasets to lazyload DB
** byte-compile and prepare package for lazy loading
** help
*** installing help indices
** building package indices
** installing vignettes
** testing if installed package can be loaded from temporary location
** testing if installed package can be loaded from final location
** testing if installed package keeps a record of temporary installation path
* DONE (SNPhood)

Tests output


Example timings

SNPhood.Rcheck/SNPhood-Ex.timings

nameusersystemelapsed
analyzeSNPhood113.148 2.557144.318
annotation-methods0.2290.0660.298
annotationBins0.1130.0350.157
annotationBins29.2520.1129.451
annotationDatasets0.1080.0130.123
annotationReadGroups0.1130.0320.147
annotationRegions0.1100.0270.137
associateGenotypes5.5010.1235.728
bins-methods0.1000.0080.110
changeObjectIntegrityChecking0.1250.0220.148
collectFiles0.0320.0030.036
convertToAllelicFractions0.1820.0460.250
counts-method0.1990.0260.228
datasets-methods0.1190.0240.143
deleteDatasets1.0120.0341.053
deleteReadGroups0.1440.0230.169
deleteRegions1.0280.0361.074
enrichment-methods0.1260.0190.147
getDefaultParameterList0.0010.0000.001
mergeReadGroups0.1650.0230.191
parameters-methods0.1150.0220.138
plotAllelicBiasResults32.163 0.38032.709
plotAllelicBiasResultsOverview1.2350.0181.257
plotAndCalculateCorrelationDatasets1.3500.0251.379
plotAndCalculateWeakAndStrongGenotype0.7510.0690.829
plotAndClusterMatrix0.6060.0350.650
plotAndSummarizeAllelicBiasTest30.243 0.22530.592
plotBinCounts1.8580.0381.907
plotClusterAverage0.8500.0160.872
plotFDRResults29.543 0.29030.000
plotGenotypesPerCluster0.5320.0150.550
plotGenotypesPerSNP0.4360.0300.468
plotRegionCounts2.2210.0582.296
readGroups-methods0.1260.0130.139
regions-methods0.1860.0760.268
renameBins0.1310.0170.149
renameDatasets0.1360.0250.161
renameReadGroups0.1380.0150.154
renameRegions3.6080.0873.716
results2.4256.9739.468
testForAllelicBiases29.139 0.27629.548