Back to Multiple platform build/check report for BioC 3.22:   simplified   long
ABCDEFGHIJKLMNOPQ[R]STUVWXYZ

This page was generated on 2025-10-04 12:05 -0400 (Sat, 04 Oct 2025).

HostnameOSArch (*)R versionInstalled pkgs
nebbiolo2Linux (Ubuntu 24.04.3 LTS)x86_644.5.1 Patched (2025-08-23 r88802) -- "Great Square Root" 4853
lconwaymacOS 12.7.1 Montereyx86_644.5.1 Patched (2025-09-10 r88807) -- "Great Square Root" 4640
kjohnson3macOS 13.7.7 Venturaarm644.5.1 Patched (2025-09-10 r88807) -- "Great Square Root" 4585
taishanLinux (openEuler 24.03 LTS)aarch644.5.0 (2025-04-11) -- "How About a Twenty-Six" 4576
Click on any hostname to see more info about the system (e.g. compilers)      (*) as reported by 'uname -p', except on Windows and Mac OS X

Package 1722/2341HostnameOS / ArchINSTALLBUILDCHECKBUILD BIN
RCy3 2.29.1  (landing page)
Alex Pico
Snapshot Date: 2025-10-03 13:45 -0400 (Fri, 03 Oct 2025)
git_url: https://git.bioconductor.org/packages/RCy3
git_branch: devel
git_last_commit: 1b82e1c
git_last_commit_date: 2025-06-11 19:27:12 -0400 (Wed, 11 Jun 2025)
nebbiolo2Linux (Ubuntu 24.04.3 LTS) / x86_64  OK    OK    OK  UNNEEDED, same version is already published
lconwaymacOS 12.7.1 Monterey / x86_64  OK    OK    OK    OK  UNNEEDED, same version is already published
kjohnson3macOS 13.7.7 Ventura / arm64  OK    OK    OK    OK  UNNEEDED, same version is already published
taishanLinux (openEuler 24.03 LTS) / aarch64  OK    OK    OK  


CHECK results for RCy3 on lconway

To the developers/maintainers of the RCy3 package:
- Allow up to 24 hours (and sometimes 48 hours) for your latest push to git@git.bioconductor.org:packages/RCy3.git to reflect on this report. See Troubleshooting Build Report for more information.
- Use the following Renviron settings to reproduce errors and warnings.
- If 'R CMD check' started to fail recently on the Linux builder(s) over a missing dependency, add the missing dependency to 'Suggests:' in your DESCRIPTION file. See Renviron.bioc for more information.

raw results


Summary

Package: RCy3
Version: 2.29.1
Command: /Library/Frameworks/R.framework/Resources/bin/R CMD check --install=check:RCy3.install-out.txt --library=/Library/Frameworks/R.framework/Resources/library --no-vignettes --timings RCy3_2.29.1.tar.gz
StartedAt: 2025-10-04 00:02:35 -0400 (Sat, 04 Oct 2025)
EndedAt: 2025-10-04 00:04:21 -0400 (Sat, 04 Oct 2025)
EllapsedTime: 105.5 seconds
RetCode: 0
Status:   OK  
CheckDir: RCy3.Rcheck
Warnings: 0

Command output

##############################################################################
##############################################################################
###
### Running command:
###
###   /Library/Frameworks/R.framework/Resources/bin/R CMD check --install=check:RCy3.install-out.txt --library=/Library/Frameworks/R.framework/Resources/library --no-vignettes --timings RCy3_2.29.1.tar.gz
###
##############################################################################
##############################################################################


* using log directory ‘/Users/biocbuild/bbs-3.22-bioc/meat/RCy3.Rcheck’
* using R version 4.5.1 Patched (2025-09-10 r88807)
* using platform: x86_64-apple-darwin20
* R was compiled by
    Apple clang version 14.0.0 (clang-1400.0.29.202)
    GNU Fortran (GCC) 14.2.0
* running under: macOS Monterey 12.7.6
* using session charset: UTF-8
* using option ‘--no-vignettes’
* checking for file ‘RCy3/DESCRIPTION’ ... OK
* checking extension type ... Package
* this is package ‘RCy3’ version ‘2.29.1’
* package encoding: UTF-8
* checking package namespace information ... OK
* checking package dependencies ... OK
* checking if this is a source package ... OK
* checking if there is a namespace ... OK
* checking for hidden files and directories ... NOTE
Found the following hidden files and directories:
  .travis.yml
These were most likely included in error. See section ‘Package
structure’ in the ‘Writing R Extensions’ manual.
* checking for portable file names ... OK
* checking for sufficient/correct file permissions ... OK
* checking whether package ‘RCy3’ can be installed ... OK
* checking installed package size ... OK
* checking package directory ... OK
* checking ‘build’ directory ... OK
* checking DESCRIPTION meta-information ... NOTE
License stub is invalid DCF.
* checking top-level files ... OK
* checking for left-over files ... OK
* checking index information ... OK
* checking package subdirectories ... OK
* checking code files for non-ASCII characters ... OK
* checking R files for syntax errors ... OK
* checking whether the package can be loaded ... OK
* checking whether the package can be loaded with stated dependencies ... OK
* checking whether the package can be unloaded cleanly ... OK
* checking whether the namespace can be loaded with stated dependencies ... OK
* checking whether the namespace can be unloaded cleanly ... OK
* checking dependencies in R code ... OK
* checking S3 generic/method consistency ... OK
* checking replacement functions ... OK
* checking foreign function calls ... OK
* checking R code for possible problems ... NOTE
.checkHexColor: no visible global function definition for ‘colors’
.edgeNameToEdgeSUID: no visible binding for global variable ‘SUID’
.nodeNameToNodeSUID: no visible binding for global variable ‘SUID’
createNetworkFromDataFrames: no visible binding for global variable
  ‘SUID’
Undefined global functions or variables:
  SUID colors
Consider adding
  importFrom("grDevices", "colors")
to your NAMESPACE file.
* checking Rd files ... NOTE
checkRd: (-1) importFileFromUrl.Rd:24: Lost braces; missing escapes or markup?
    24 | dict: {'filePath': <new file's absolute path in Cytoscape workstation>, 'fileByteCount': number of bytes read}
       |       ^
checkRd: (-1) sandboxGetFileInfo.Rd:17: Lost braces; missing escapes or markup?
    17 | dict: {'filePath': <full path on Cytoscape workstation>, 'modifiedTime': <last changed time, '' if file doesn't exist>, 'isFile': <True if file, False if directory>}
       |       ^
checkRd: (-1) sandboxRemove.Rd:15: Lost braces; missing escapes or markup?
    15 | dict: {'sandboxPath': <directory on Cytoscape workstation>, 'existed': <True if sandbox existed>}
       |       ^
checkRd: (-1) sandboxRemoveFile.Rd:17: Lost braces; missing escapes or markup?
    17 | dict: {'filePath': <file's absolute path in Cytoscape workstation>, 'existed': True if file existed before being deleted}
       |       ^
checkRd: (-1) sandboxUrlTo.Rd:27: Lost braces; missing escapes or markup?
    27 | dict: {'filePath': <new file's absolute path in Cytoscape workstation>, 'fileByteCount': number of bytes read}
       |       ^
* checking Rd metadata ... OK
* checking Rd cross-references ... OK
* checking for missing documentation entries ... OK
* checking for code/documentation mismatches ... OK
* checking Rd \usage sections ... OK
* checking Rd contents ... OK
* checking for unstated dependencies in examples ... OK
* checking files in ‘vignettes’ ... OK
* checking examples ... OK
* checking for unstated dependencies in ‘tests’ ... OK
* checking tests ...
  Running ‘runTests.R’
 OK
* checking for unstated dependencies in vignettes ... OK
* checking package vignettes ... OK
* checking running R code from vignettes ... SKIPPED
* checking re-building of vignette outputs ... SKIPPED
* checking PDF version of manual ... OK
* DONE

Status: 4 NOTEs
See
  ‘/Users/biocbuild/bbs-3.22-bioc/meat/RCy3.Rcheck/00check.log’
for details.


Installation output

RCy3.Rcheck/00install.out

##############################################################################
##############################################################################
###
### Running command:
###
###   /Library/Frameworks/R.framework/Resources/bin/R CMD INSTALL RCy3
###
##############################################################################
##############################################################################


* installing to library ‘/Library/Frameworks/R.framework/Versions/4.5-x86_64/Resources/library’
* installing *source* package ‘RCy3’ ...
** this is package ‘RCy3’ version ‘2.29.1’
** using staged installation
** R
** inst
** byte-compile and prepare package for lazy loading
** help
*** installing help indices
** building package indices
** installing vignettes
** testing if installed package can be loaded from temporary location
** testing if installed package can be loaded from final location
** testing if installed package keeps a record of temporary installation path
* DONE (RCy3)

Tests output

RCy3.Rcheck/tests/runTests.Rout


R version 4.5.1 Patched (2025-09-10 r88807) -- "Great Square Root"
Copyright (C) 2025 The R Foundation for Statistical Computing
Platform: x86_64-apple-darwin20

R is free software and comes with ABSOLUTELY NO WARRANTY.
You are welcome to redistribute it under certain conditions.
Type 'license()' or 'licence()' for distribution details.

R is a collaborative project with many contributors.
Type 'contributors()' for more information and
'citation()' on how to cite R or R packages in publications.

Type 'demo()' for some demos, 'help()' for on-line help, or
'help.start()' for an HTML browser interface to help.
Type 'q()' to quit R.

> # tests disabled as the Bioconductor build system no longer supports interactive sessions
> #require(RCy3) || stop("unable to load RCy3")
> #BiocGenerics:::testPackage('RCy3')
> 
> proc.time()
   user  system elapsed 
  0.200   0.074   0.281 

Example timings

RCy3.Rcheck/RCy3-Ex.timings

nameusersystemelapsed
AddToGroup000
RemoveFromGroup0.0000.0010.000
UpdateAnnotationBoundedText000
addAnnotationBoundedText000
addAnnotationImage000
addAnnotationShape000
addAnnotationText000
addCyEdges0.0000.0000.001
addCyNodes000
analyzeNetwork000
applyFilter000
bundleEdges000
checkNotebookIsRunning000
checkRunningRemote000
clearEdgeBends000
clearEdgePropertyBypass000
clearNetworkCenterBypass000
clearNetworkPropertyBypass000
clearNetworkZoomBypass000
clearNodeOpacityBypass0.0000.0000.001
clearNodePropertyBypass000
clearSelection000
cloneNetwork000
closeSession0.0000.0000.001
collapseGroup0.0000.0010.000
commandEcho0.0000.0000.001
commandOpenDialog0.0000.0000.001
commandPause0.0000.0000.001
commandQuit0.0000.0010.000
commandRunFile000
commandSleep000
commandsAPI000
commandsGET0.0000.0000.001
commandsHelp0.0000.0010.000
commandsPOST000
commandsRun000
copyVisualStyle000
createColumnFilter000
createCompositeFilter0.0000.0000.001
createCytoscapejsFromNetwork000
createDegreeFilter0.0000.0010.000
createGraphFromNetwork000
createGroup000
createGroupByColumn000
createIgraphFromNetwork000
createNetworkFromCytoscapejs000
createNetworkFromDataFrames000
createNetworkFromGraph000
createNetworkFromIgraph000
createSubnetwork000
createView000
createVisualStyle0.0000.0000.001
cybrowserClose0.0010.0000.000
cybrowserDialog0.0000.0000.001
cybrowserHide0.0010.0000.000
cybrowserList0.0000.0010.000
cybrowserSend000
cybrowserShow0.0000.0000.001
cybrowserVersion000
cyrestAPI000
cyrestDELETE000
cyrestGET0.0000.0010.000
cyrestPOST0.0000.0000.001
cyrestPUT000
cytoscapeApiVersions000
cytoscapeFreeMemory000
cytoscapeMemoryStatus000
cytoscapeNumberOfCores0.0010.0000.000
cytoscapePing000
cytoscapeVersionInfo0.0010.0000.000
deleteAllNetworks000
deleteAllVisualStyle000
deleteAnnotation0.0010.0000.000
deleteDuplicateEdges000
deleteGroup0.0000.0000.001
deleteNetwork000
deleteSelectedEdges0.0000.0010.000
deleteSelectedNodes000
deleteSelfLoops000
deleteStyleMapping0.0000.0000.001
deleteTableColumn0.0000.0000.001
deleteVisualStyle000
diffusionAdvanced000
diffusionBasic000
disableApp0.0000.0010.000
doInitializeSandbox000
doRequestRemote000
doSetSandbox000
dockPanel0.0000.0010.000
dot-exportShowImage0.0010.0000.000
dot-getDefaultSandbox0.0000.0000.001
dot-getRequester000
enableApp000
expandGroup000
exportFilters0.0010.0000.001
exportImage000
exportJPG0.0000.0000.001
exportNetwork000
exportNetworkToNDEx000
exportPDF0.0010.0000.000
exportPNG000
exportPS000
exportSVG0.0000.0010.000
exportVisualStyles000
findRemoteCytoscape0.0000.0010.000
fitContent000
floatPanel000
getAbsSandboxPath000
getAllEdges000
getAllNodes000
getAllStyleMappings0.0000.0000.001
getAnnotationList000
getAppInformation000
getAppStatus000
getAppUpdates000
getArrowShapes000
getAvailableApps000
getBackgroundColorDefault0.0000.0010.001
getBrowserClientChannel000
getBrowserClientJs000
getCollectionList000
getCollectionName000
getCollectionNetworks000
getCollectionSuid000
getCurrentSandbox000
getCurrentSandboxName0.0010.0000.000
getCurrentSandboxPath000
getCurrentStyle0.0010.0000.000
getDefaultSandbox0.0000.0000.001
getDefaultSandboxPath000
getDisabledApps0.0000.0010.001
getEdgeColor000
getEdgeCount000
getEdgeInfo000
getEdgeLineStyle000
getEdgeLineWidth000
getEdgeProperty0.0010.0000.001
getEdgeSelectionColorDefault0.0000.0010.001
getEdgeTargetArrowShape0.0010.0000.001
getFilterList0.0000.0010.001
getFirstNeighbors000
getGroupInfo0.0000.0010.001
getInstalledApps0.0000.0000.001
getJupyterBridgeURL0.0000.0010.001
getLayoutNameMapping0.0000.0000.001
getLayoutNames0.0000.0000.001
getLayoutPropertyNames0.0000.0000.001
getLayoutPropertyType0.0000.0010.001
getLayoutPropertyValue000
getLineStyles000
getNetworkCenter000
getNetworkCount000
getNetworkList000
getNetworkNDExId000
getNetworkName0.0000.0000.001
getNetworkProperty0.0000.0010.000
getNetworkSuid000
getNetworkViewSuid000
getNetworkViews000
getNetworkZoom000
getNodeColor000
getNodeCount000
getNodeHeight000
getNodeLabelPosition000
getNodeLabelPositionDefault0.0000.0000.001
getNodePosition000
getNodeProperty000
getNodeSelectionColorDefault000
getNodeShapes000
getNodeSize000
getNodeWidth0.0010.0000.000
getNotebookIsRunning000
getSandboxReinitialize0.0010.0000.000
getSelectedEdgeCount000
getSelectedEdges0.0000.0010.000
getSelectedNodeCount000
getSelectedNodes0.0000.0010.000
getStyleDependencies000
getStyleMapping000
getTableColumnNames000
getTableColumnTypes0.0000.0010.000
getTableColumns000
getTableValue0.0000.0010.000
getUninstalledApps000
getVisualPropertyDefault000
getVisualPropertyNames000
getVisualStyleJSON0.0000.0010.000
getVisualStyleNames000
groupAnnotation0.0000.0000.001
hideAllPanels000
hideEdges000
hideNodes000
hidePanel000
hideSelectedEdges0.0000.0010.000
hideSelectedNodes0.0000.0000.001
importFileFromUrl0.0010.0000.000
importFilters000
importNetworkFromFile0.0010.0010.000
importNetworkFromNDEx0.0000.0000.001
importVisualStyles0.0000.0000.001
installApp000
invertEdgeSelection000
invertNodeSelection000
layoutCopycat0.0000.0000.001
layoutNetwork000
listGroups0.0010.0010.000
lockNodeDimensions0.0000.0000.001
makeSimpleGraph0.0710.0000.072
makeSimpleIgraph0.0820.0080.090
mapTableColumn000
mapVisualProperty0.0010.0000.001
matchArrowColorToEdge0.0000.0000.001
mergeNetworks000
notebookExportShowImage0.0000.0000.001
notebookShowImage000
openAppStore000
openSession000
paletteColorBrewerAccent0.0030.0000.004
paletteColorBrewerBlues0.0000.0000.001
paletteColorBrewerBrBG000
paletteColorBrewerBuGn000
paletteColorBrewerBuPu000
paletteColorBrewerDark2000
paletteColorBrewerGnBu0.0010.0000.000
paletteColorBrewerGreens000
paletteColorBrewerGreys000
paletteColorBrewerOrRd0.0000.0000.001
paletteColorBrewerOranges0.0000.0000.001
paletteColorBrewerPRGn0.0010.0000.001
paletteColorBrewerPaired000
paletteColorBrewerPastel1000
paletteColorBrewerPastel20.0010.0000.000
paletteColorBrewerPiYG0.0000.0000.001
paletteColorBrewerPuBu000
paletteColorBrewerPuBuGn0.0010.0000.000
paletteColorBrewerPuOr000
paletteColorBrewerPuRd0.0000.0000.001
paletteColorBrewerPurples0.0010.0000.001
paletteColorBrewerRdBu000
paletteColorBrewerRdPu000
paletteColorBrewerRdYlBu000
paletteColorBrewerReds000
paletteColorBrewerSet1000
paletteColorBrewerSet20.0000.0000.001
paletteColorBrewerSet30.0000.0000.001
paletteColorBrewerYlGn000
paletteColorBrewerYlGnBu0.0000.0010.000
paletteColorBrewerYlOrBr000
paletteColorBrewerYlOrRd000
paletteColorRandom0.0010.0000.000
paletteColorVirdis0.0000.0010.001
removeNodeCustomGraphics000
renameNetwork0.0000.0010.000
renameTableColumn0.0000.0000.001
resetDefaultSandbox0.0000.0010.000
rotateLayout000
runningRemoteCheck000
sandboxGetFileInfo000
sandboxGetFrom000
sandboxInitializer000
sandboxRemove0.0010.0000.000
sandboxRemoveFile000
sandboxSendTo000
sandboxSet000
sandboxUrlTo000
saveSession000
scaleLayout000
selectAll0.0000.0010.000
selectAllEdges000
selectAllNodes0.0000.0010.000
selectEdges000
selectEdgesAdjacentToNodes000
selectEdgesAdjacentToSelectedNodes000
selectEdgesConnectingSelectedNodes000
selectFirstNeighbors000
selectNodes000
selectNodesConnectedBySelectedEdges000
setBackgroundColorDefault0.0000.0010.000
setCatchupFilterSecs0.0010.0000.001
setCatchupNetworkSecs0.0000.0000.001
setCollectionName000
setCurrentNetwork000
setCurrentSandbox000
setCurrentView000
setDefaultSandbox000
setDefaultSandboxPath000
setEdgeColorBypass0.0000.0010.001
setEdgeColorDefault0.0000.0000.001
setEdgeColorMapping000
setEdgeFontFaceBypass000
setEdgeFontFaceDefault000
setEdgeFontFaceMapping0.0010.0000.000
setEdgeFontSizeBypass0.0000.0010.001
setEdgeFontSizeDefault0.0000.0000.001
setEdgeFontSizeMapping0.0000.0010.001
setEdgeLabelBypass000
setEdgeLabelColorBypass0.0000.0000.001
setEdgeLabelColorDefault000
setEdgeLabelColorMapping000
setEdgeLabelDefault000
setEdgeLabelMapping000
setEdgeLabelOpacityBypass000
setEdgeLabelOpacityDefault0.0000.0010.000
setEdgeLabelOpacityMapping000
setEdgeLineStyleBypass000
setEdgeLineStyleDefault000
setEdgeLineStyleMapping000
setEdgeLineWidthBypass0.0010.0000.000
setEdgeLineWidthDefault0.0000.0010.000
setEdgeLineWidthMapping000
setEdgeOpacityBypass0.0000.0000.001
setEdgeOpacityDefault0.0000.0000.001
setEdgeOpacityMapping000
setEdgePropertyBypass000
setEdgeSelectionColorDefault0.0010.0000.000
setEdgeSourceArrowColorBypass0.0000.0000.001
setEdgeSourceArrowColorDefault0.0000.0000.001
setEdgeSourceArrowColorMapping0.0000.0000.001
setEdgeSourceArrowMapping0.0010.0000.000
setEdgeSourceArrowShapeBypass000
setEdgeSourceArrowShapeDefault000
setEdgeSourceArrowShapeMapping0.0000.0010.000
setEdgeTargetArrowColorBypass000
setEdgeTargetArrowColorDefault0.0000.0000.001
setEdgeTargetArrowColorMapping000
setEdgeTargetArrowMapping0.0000.0000.001
setEdgeTargetArrowShapeBypass0.0000.0000.001
setEdgeTargetArrowShapeDefault0.0000.0010.001
setEdgeTargetArrowShapeMapping0.0000.0000.001
setEdgeTooltipBypass0.0000.0000.001
setEdgeTooltipDefault000
setEdgeTooltipMapping0.0000.0000.001
setLayoutProperties000
setModelPropagationSecs0.0010.0000.001
setNetworkCenterBypass0.0000.0000.001
setNetworkPropertyBypass000
setNetworkZoomBypass000
setNodeBorderColorBypass000
setNodeBorderColorDefault000
setNodeBorderColorMapping0.0010.0000.000
setNodeBorderOpacityBypass0.0000.0000.001
setNodeBorderOpacityDefault0.0000.0000.001
setNodeBorderOpacityMapping000
setNodeBorderWidthBypass0.0000.0000.001
setNodeBorderWidthDefault0.0000.0010.000
setNodeBorderWidthMapping0.0010.0000.000
setNodeColorBypass000
setNodeColorDefault000
setNodeColorMapping000
setNodeComboOpacityMapping000
setNodeCustomBarChart000
setNodeCustomBoxChart000
setNodeCustomHeatMapChart0.0000.0000.001
setNodeCustomLineChart000
setNodeCustomLinearGradient0.0010.0000.000
setNodeCustomPieChart000
setNodeCustomPosition0.0000.0010.000
setNodeCustomRadialGradient000
setNodeCustomRingChart000
setNodeFillOpacityBypass000
setNodeFillOpacityDefault000
setNodeFillOpacityMapping000
setNodeFontFaceBypass000
setNodeFontFaceDefault0.0000.0000.001
setNodeFontFaceMapping0.0000.0000.001
setNodeFontSizeBypass0.0000.0000.001
setNodeFontSizeDefault000
setNodeFontSizeMapping000
setNodeHeightBypass000
setNodeHeightDefault000
setNodeHeightMapping000
setNodeLabelBypass000
setNodeLabelColorBypass000
setNodeLabelColorDefault000
setNodeLabelColorMapping000
setNodeLabelDefault000
setNodeLabelMapping000
setNodeLabelOpacityBypass000
setNodeLabelOpacityDefault000
setNodeLabelOpacityMapping000
setNodeLabelPositionBypass000
setNodeLabelPositionDefault000
setNodeOpacityBypass000
setNodePositionBypass0.0000.0010.000
setNodePropertyBypass000
setNodeSelectionColorDefault000
setNodeShapeBypass0.0010.0000.000
setNodeShapeDefault000
setNodeShapeMapping000
setNodeSizeBypass000
setNodeSizeDefault000
setNodeSizeMapping0.0010.0000.000
setNodeTooltipBypass000
setNodeTooltipDefault000
setNodeTooltipMapping000
setNodeWidthBypass000
setNodeWidthDefault000
setNodeWidthMapping000
setNotebookIsRunning000
setSandboxReinitialize0.0000.0000.001
setStyleDependencies0.0000.0000.001
setVisualPropertyDefault000
setVisualStyle0.0010.0000.000
syncNodeCustomGraphicsSize000
toggleGraphicsDetails000
ungroupAnnotation000
unhideAll000
unhideEdges000
unhideNodes000
uninstallApp000
updateAnnotationImage000
updateAnnotationShape000
updateAnnotationText000
updateApp000
updateGroupAnnotation000
updateNetworkInNDEx0.0000.0000.001
updateStyleDefaults0.0000.0000.001
updateStyleMapping000