Back to Multiple platform build/check report for BioC 3.23:   simplified   long
ABCDEFGHIJKLMNOPQ[R]STUVWXYZ

This page was generated on 2025-11-21 11:38 -0500 (Fri, 21 Nov 2025).

HostnameOSArch (*)R versionInstalled pkgs
nebbiolo1Linux (Ubuntu 24.04.3 LTS)x86_64R Under development (unstable) (2025-10-20 r88955) -- "Unsuffered Consequences" 4829
lconwaymacOS 12.7.6 Montereyx86_64R Under development (unstable) (2025-10-21 r88958) -- "Unsuffered Consequences" 4602
kjohnson3macOS 13.7.7 Venturaarm64R Under development (unstable) (2025-11-04 r88984) -- "Unsuffered Consequences" 4566
Click on any hostname to see more info about the system (e.g. compilers)      (*) as reported by 'uname -p', except on Windows and Mac OS X

Package 1717/2327HostnameOS / ArchINSTALLBUILDCHECKBUILD BIN
RCy3 2.31.0  (landing page)
Alex Pico
Snapshot Date: 2025-11-20 13:40 -0500 (Thu, 20 Nov 2025)
git_url: https://git.bioconductor.org/packages/RCy3
git_branch: devel
git_last_commit: f7dcce5
git_last_commit_date: 2025-10-29 10:28:27 -0500 (Wed, 29 Oct 2025)
nebbiolo1Linux (Ubuntu 24.04.3 LTS) / x86_64  OK    OK    OK  UNNEEDED, same version is already published
lconwaymacOS 12.7.6 Monterey / x86_64  OK    OK    OK    OK  UNNEEDED, same version is already published
kjohnson3macOS 13.7.7 Ventura / arm64  OK    OK    OK    OK  UNNEEDED, same version is already published


CHECK results for RCy3 on nebbiolo1

To the developers/maintainers of the RCy3 package:
- Allow up to 24 hours (and sometimes 48 hours) for your latest push to git@git.bioconductor.org:packages/RCy3.git to reflect on this report. See Troubleshooting Build Report for more information.
- Use the following Renviron settings to reproduce errors and warnings.
- If 'R CMD check' started to fail recently on the Linux builder(s) over a missing dependency, add the missing dependency to 'Suggests:' in your DESCRIPTION file. See Renviron.bioc for more information.

raw results


Summary

Package: RCy3
Version: 2.31.0
Command: /home/biocbuild/bbs-3.23-bioc/R/bin/R CMD check --install=check:RCy3.install-out.txt --library=/home/biocbuild/bbs-3.23-bioc/R/site-library --timings RCy3_2.31.0.tar.gz
StartedAt: 2025-11-21 03:04:23 -0500 (Fri, 21 Nov 2025)
EndedAt: 2025-11-21 03:06:01 -0500 (Fri, 21 Nov 2025)
EllapsedTime: 98.3 seconds
RetCode: 0
Status:   OK  
CheckDir: RCy3.Rcheck
Warnings: 0

Command output

##############################################################################
##############################################################################
###
### Running command:
###
###   /home/biocbuild/bbs-3.23-bioc/R/bin/R CMD check --install=check:RCy3.install-out.txt --library=/home/biocbuild/bbs-3.23-bioc/R/site-library --timings RCy3_2.31.0.tar.gz
###
##############################################################################
##############################################################################


* using log directory ‘/home/biocbuild/bbs-3.23-bioc/meat/RCy3.Rcheck’
* using R Under development (unstable) (2025-10-20 r88955)
* using platform: x86_64-pc-linux-gnu
* R was compiled by
    gcc (Ubuntu 13.3.0-6ubuntu2~24.04) 13.3.0
    GNU Fortran (Ubuntu 13.3.0-6ubuntu2~24.04) 13.3.0
* running under: Ubuntu 24.04.3 LTS
* using session charset: UTF-8
* checking for file ‘RCy3/DESCRIPTION’ ... OK
* checking extension type ... Package
* this is package ‘RCy3’ version ‘2.31.0’
* package encoding: UTF-8
* checking package namespace information ... OK
* checking package dependencies ... OK
* checking if this is a source package ... OK
* checking if there is a namespace ... OK
* checking for hidden files and directories ... NOTE
Found the following hidden files and directories:
  .travis.yml
These were most likely included in error. See section ‘Package
structure’ in the ‘Writing R Extensions’ manual.
* checking for portable file names ... OK
* checking for sufficient/correct file permissions ... OK
* checking whether package ‘RCy3’ can be installed ... OK
* checking installed package size ... OK
* checking package directory ... OK
* checking ‘build’ directory ... OK
* checking DESCRIPTION meta-information ... NOTE
License stub is invalid DCF.
* checking top-level files ... OK
* checking for left-over files ... OK
* checking index information ... OK
* checking package subdirectories ... OK
* checking code files for non-ASCII characters ... OK
* checking R files for syntax errors ... OK
* checking whether the package can be loaded ... OK
* checking whether the package can be loaded with stated dependencies ... OK
* checking whether the package can be unloaded cleanly ... OK
* checking whether the namespace can be loaded with stated dependencies ... OK
* checking whether the namespace can be unloaded cleanly ... OK
* checking loading without being on the library search path ... OK
* checking dependencies in R code ... OK
* checking S3 generic/method consistency ... OK
* checking replacement functions ... OK
* checking foreign function calls ... OK
* checking R code for possible problems ... NOTE
.checkHexColor: no visible global function definition for ‘colors’
.edgeNameToEdgeSUID: no visible binding for global variable ‘SUID’
.nodeNameToNodeSUID: no visible binding for global variable ‘SUID’
createNetworkFromDataFrames: no visible binding for global variable
  ‘SUID’
Undefined global functions or variables:
  SUID colors
Consider adding
  importFrom("grDevices", "colors")
to your NAMESPACE file.
* checking Rd files ... NOTE
checkRd: (-1) importFileFromUrl.Rd:24: Lost braces; missing escapes or markup?
    24 | dict: {'filePath': <new file's absolute path in Cytoscape workstation>, 'fileByteCount': number of bytes read}
       |       ^
checkRd: (-1) sandboxGetFileInfo.Rd:17: Lost braces; missing escapes or markup?
    17 | dict: {'filePath': <full path on Cytoscape workstation>, 'modifiedTime': <last changed time, '' if file doesn't exist>, 'isFile': <True if file, False if directory>}
       |       ^
checkRd: (-1) sandboxRemove.Rd:15: Lost braces; missing escapes or markup?
    15 | dict: {'sandboxPath': <directory on Cytoscape workstation>, 'existed': <True if sandbox existed>}
       |       ^
checkRd: (-1) sandboxRemoveFile.Rd:17: Lost braces; missing escapes or markup?
    17 | dict: {'filePath': <file's absolute path in Cytoscape workstation>, 'existed': True if file existed before being deleted}
       |       ^
checkRd: (-1) sandboxUrlTo.Rd:27: Lost braces; missing escapes or markup?
    27 | dict: {'filePath': <new file's absolute path in Cytoscape workstation>, 'fileByteCount': number of bytes read}
       |       ^
* checking Rd metadata ... OK
* checking Rd cross-references ... OK
* checking for missing documentation entries ... OK
* checking for code/documentation mismatches ... OK
* checking Rd \usage sections ... OK
* checking Rd contents ... OK
* checking for unstated dependencies in examples ... OK
* checking files in ‘vignettes’ ... OK
* checking examples ... OK
* checking for unstated dependencies in ‘tests’ ... OK
* checking tests ...
  Running ‘runTests.R’
 OK
* checking for unstated dependencies in vignettes ... OK
* checking package vignettes ... OK
* checking re-building of vignette outputs ... OK
* checking PDF version of manual ... OK
* DONE

Status: 4 NOTEs
See
  ‘/home/biocbuild/bbs-3.23-bioc/meat/RCy3.Rcheck/00check.log’
for details.


Installation output

RCy3.Rcheck/00install.out

##############################################################################
##############################################################################
###
### Running command:
###
###   /home/biocbuild/bbs-3.23-bioc/R/bin/R CMD INSTALL RCy3
###
##############################################################################
##############################################################################


* installing to library ‘/home/biocbuild/bbs-3.23-bioc/R/site-library’
* installing *source* package ‘RCy3’ ...
** this is package ‘RCy3’ version ‘2.31.0’
** using staged installation
** R
** inst
** byte-compile and prepare package for lazy loading
** help
*** installing help indices
** building package indices
** installing vignettes
** testing if installed package can be loaded from temporary location
** testing if installed package can be loaded from final location
** testing if installed package keeps a record of temporary installation path
* DONE (RCy3)

Tests output

RCy3.Rcheck/tests/runTests.Rout


R Under development (unstable) (2025-10-20 r88955) -- "Unsuffered Consequences"
Copyright (C) 2025 The R Foundation for Statistical Computing
Platform: x86_64-pc-linux-gnu

R is free software and comes with ABSOLUTELY NO WARRANTY.
You are welcome to redistribute it under certain conditions.
Type 'license()' or 'licence()' for distribution details.

R is a collaborative project with many contributors.
Type 'contributors()' for more information and
'citation()' on how to cite R or R packages in publications.

Type 'demo()' for some demos, 'help()' for on-line help, or
'help.start()' for an HTML browser interface to help.
Type 'q()' to quit R.

> # tests disabled as the Bioconductor build system no longer supports interactive sessions
> #require(RCy3) || stop("unable to load RCy3")
> #BiocGenerics:::testPackage('RCy3')
> 
> proc.time()
   user  system elapsed 
  0.152   0.037   0.176 

Example timings

RCy3.Rcheck/RCy3-Ex.timings

nameusersystemelapsed
AddToGroup000
RemoveFromGroup000
UpdateAnnotationBoundedText000
addAnnotationBoundedText000
addAnnotationImage000
addAnnotationShape0.0000.0010.000
addAnnotationText000
addCyEdges000
addCyNodes000
analyzeNetwork000
applyFilter0.0000.0000.001
bundleEdges000
checkNotebookIsRunning000
checkRunningRemote000
clearEdgeBends000
clearEdgePropertyBypass000
clearNetworkCenterBypass000
clearNetworkPropertyBypass0.0000.0010.000
clearNetworkZoomBypass000
clearNodeOpacityBypass000
clearNodePropertyBypass000
clearSelection0.0000.0000.001
cloneNetwork000
closeSession000
collapseGroup000
commandEcho000
commandOpenDialog000
commandPause000
commandQuit000
commandRunFile000
commandSleep000
commandsAPI000
commandsGET0.0000.0000.001
commandsHelp000
commandsPOST000
commandsRun000
copyVisualStyle000
createColumnFilter000
createCompositeFilter000
createCytoscapejsFromNetwork0.0000.0010.000
createDegreeFilter000
createGraphFromNetwork000
createGroup000
createGroupByColumn000
createIgraphFromNetwork000
createNetworkFromCytoscapejs000
createNetworkFromDataFrames000
createNetworkFromGraph000
createNetworkFromIgraph0.0000.0000.001
createSubnetwork000
createView000
createVisualStyle000
cybrowserClose000
cybrowserDialog000
cybrowserHide000
cybrowserList000
cybrowserSend000
cybrowserShow0.0000.0000.001
cybrowserVersion000
cyrestAPI000
cyrestDELETE000
cyrestGET000
cyrestPOST000
cyrestPUT000
cytoscapeApiVersions000
cytoscapeFreeMemory000
cytoscapeMemoryStatus000
cytoscapeNumberOfCores000
cytoscapePing000
cytoscapeVersionInfo0.0000.0000.001
deleteAllNetworks000
deleteAllVisualStyle0.0010.0000.000
deleteAnnotation000
deleteDuplicateEdges000
deleteGroup000
deleteNetwork000
deleteSelectedEdges000
deleteSelectedNodes000
deleteSelfLoops0.0000.0000.001
deleteStyleMapping000
deleteTableColumn000
deleteVisualStyle000
diffusionAdvanced000
diffusionBasic000
disableApp000
doInitializeSandbox000
doRequestRemote000
doSetSandbox0.0000.0000.001
dockPanel000
dot-exportShowImage000
dot-getDefaultSandbox000
dot-getRequester000
enableApp000
expandGroup000
exportFilters0.0000.0000.001
exportImage000
exportJPG000
exportNetwork000
exportNetworkToNDEx000
exportPDF000
exportPNG000
exportPS000
exportSVG000
exportVisualStyles0.0010.0000.001
findRemoteCytoscape000
fitContent000
floatPanel000
getAbsSandboxPath000
getAllEdges000
getAllNodes000
getAllStyleMappings0.0000.0000.001
getAnnotationList000
getAppInformation0.0010.0000.000
getAppStatus000
getAppUpdates000
getArrowShapes000
getAvailableApps000
getBackgroundColorDefault000
getBrowserClientChannel000
getBrowserClientJs0.0000.0000.001
getCollectionList000
getCollectionName000
getCollectionNetworks000
getCollectionSuid000
getCurrentSandbox0.0000.0010.000
getCurrentSandboxName000
getCurrentSandboxPath0.0000.0000.001
getCurrentStyle000
getDefaultSandbox0.0010.0000.001
getDefaultSandboxPath000
getDisabledApps000
getEdgeColor000
getEdgeCount000
getEdgeInfo000
getEdgeLineStyle000
getEdgeLineWidth0.0000.0000.001
getEdgeProperty000
getEdgeSelectionColorDefault000
getEdgeTargetArrowShape000
getFilterList000
getFirstNeighbors000
getGroupInfo000
getInstalledApps0.0000.0000.001
getJupyterBridgeURL000
getLayoutNameMapping000
getLayoutNames000
getLayoutPropertyNames000
getLayoutPropertyType000
getLayoutPropertyValue000
getLineStyles0.0010.0000.000
getNetworkCenter000
getNetworkCount000
getNetworkList000
getNetworkNDExId000
getNetworkName000
getNetworkProperty000
getNetworkSuid0.0010.0000.001
getNetworkViewSuid000
getNetworkViews000
getNetworkZoom000
getNodeColor000
getNodeCount000
getNodeHeight000
getNodeLabelPosition0.0000.0000.001
getNodeLabelPositionDefault000
getNodePosition000
getNodeProperty000
getNodeSelectionColorDefault000
getNodeShapes0.0000.0010.000
getNodeSize000
getNodeWidth0.0000.0000.001
getNotebookIsRunning000
getSandboxReinitialize000
getSelectedEdgeCount000
getSelectedEdges000
getSelectedNodeCount000
getSelectedNodes000
getStyleDependencies000
getStyleMapping000
getTableColumnNames000
getTableColumnTypes000
getTableColumns000
getTableValue000
getUninstalledApps000
getVisualPropertyDefault000
getVisualPropertyNames000
getVisualStyleJSON0.0010.0000.000
getVisualStyleNames000
groupAnnotation000
hideAllPanels000
hideEdges000
hideNodes000
hidePanel000
hideSelectedEdges0.0010.0000.001
hideSelectedNodes000
importFileFromUrl000
importFilters000
importNetworkFromFile000
importNetworkFromNDEx0.0000.0000.001
importVisualStyles000
installApp000
invertEdgeSelection000
invertNodeSelection000
layoutCopycat0.0000.0010.000
layoutNetwork000
listGroups0.0000.0000.001
lockNodeDimensions000
makeSimpleGraph0.0540.0010.054
makeSimpleIgraph0.1070.0010.108
mapTableColumn000
mapVisualProperty000
matchArrowColorToEdge0.0010.0000.001
mergeNetworks000
notebookExportShowImage000
notebookShowImage000
openAppStore000
openSession0.0000.0000.001
paletteColorBrewerAccent0.0040.0010.004
paletteColorBrewerBlues000
paletteColorBrewerBrBG000
paletteColorBrewerBuGn0.0010.0010.001
paletteColorBrewerBuPu000
paletteColorBrewerDark2000
paletteColorBrewerGnBu000
paletteColorBrewerGreens0.0000.0010.001
paletteColorBrewerGreys000
paletteColorBrewerOrRd000
paletteColorBrewerOranges0.0010.0000.001
paletteColorBrewerPRGn000
paletteColorBrewerPaired000
paletteColorBrewerPastel1000
paletteColorBrewerPastel20.0010.0010.001
paletteColorBrewerPiYG000
paletteColorBrewerPuBu000
paletteColorBrewerPuBuGn0.0010.0000.000
paletteColorBrewerPuOr0.0000.0000.001
paletteColorBrewerPuRd000
paletteColorBrewerPurples000
paletteColorBrewerRdBu0.0000.0000.001
paletteColorBrewerRdPu0.0000.0010.000
paletteColorBrewerRdYlBu000
paletteColorBrewerReds000
paletteColorBrewerSet10.0000.0010.001
paletteColorBrewerSet2000
paletteColorBrewerSet3000
paletteColorBrewerYlGn0.0000.0000.001
paletteColorBrewerYlGnBu0.0000.0010.000
paletteColorBrewerYlOrBr000
paletteColorBrewerYlOrRd000
paletteColorRandom0.0010.0000.001
paletteColorVirdis0.0000.0000.001
removeNodeCustomGraphics000
renameNetwork000
renameTableColumn000
resetDefaultSandbox000
rotateLayout000
runningRemoteCheck000
sandboxGetFileInfo0.0000.0000.001
sandboxGetFrom000
sandboxInitializer000
sandboxRemove000
sandboxRemoveFile000
sandboxSendTo0.0000.0000.001
sandboxSet000
sandboxUrlTo000
saveSession000
scaleLayout000
selectAll0.0010.0010.000
selectAllEdges000
selectAllNodes0.0010.0000.000
selectEdges000
selectEdgesAdjacentToNodes000
selectEdgesAdjacentToSelectedNodes000
selectEdgesConnectingSelectedNodes000
selectFirstNeighbors0.0000.0000.001
selectNodes000
selectNodesConnectedBySelectedEdges000
setBackgroundColorDefault000
setCatchupFilterSecs000
setCatchupNetworkSecs000
setCollectionName000
setCurrentNetwork000
setCurrentSandbox0.0000.0000.001
setCurrentView000
setDefaultSandbox000
setDefaultSandboxPath000
setEdgeColorBypass0.0000.0000.001
setEdgeColorDefault000
setEdgeColorMapping000
setEdgeFontFaceBypass0.0000.0000.001
setEdgeFontFaceDefault000
setEdgeFontFaceMapping000
setEdgeFontSizeBypass0.0000.0010.000
setEdgeFontSizeDefault000
setEdgeFontSizeMapping0.0000.0000.001
setEdgeLabelBypass000
setEdgeLabelColorBypass000
setEdgeLabelColorDefault000
setEdgeLabelColorMapping000
setEdgeLabelDefault0.0010.0000.001
setEdgeLabelMapping000
setEdgeLabelOpacityBypass000
setEdgeLabelOpacityDefault000
setEdgeLabelOpacityMapping000
setEdgeLineStyleBypass0.0000.0000.001
setEdgeLineStyleDefault000
setEdgeLineStyleMapping000
setEdgeLineWidthBypass000
setEdgeLineWidthDefault000
setEdgeLineWidthMapping0.0000.0000.001
setEdgeOpacityBypass000
setEdgeOpacityDefault000
setEdgeOpacityMapping000
setEdgePropertyBypass000
setEdgeSelectionColorDefault0.0000.0000.001
setEdgeSourceArrowColorBypass000
setEdgeSourceArrowColorDefault000
setEdgeSourceArrowColorMapping000
setEdgeSourceArrowMapping000
setEdgeSourceArrowShapeBypass0.0000.0000.001
setEdgeSourceArrowShapeDefault000
setEdgeSourceArrowShapeMapping000
setEdgeTargetArrowColorBypass000
setEdgeTargetArrowColorDefault000
setEdgeTargetArrowColorMapping0.0000.0000.001
setEdgeTargetArrowMapping000
setEdgeTargetArrowShapeBypass000
setEdgeTargetArrowShapeDefault000
setEdgeTargetArrowShapeMapping000
setEdgeTooltipBypass0.0000.0000.001
setEdgeTooltipDefault000
setEdgeTooltipMapping000
setLayoutProperties000
setModelPropagationSecs000
setNetworkCenterBypass000
setNetworkPropertyBypass000
setNetworkZoomBypass000
setNodeBorderColorBypass0.0010.0000.001
setNodeBorderColorDefault000
setNodeBorderColorMapping000
setNodeBorderOpacityBypass000
setNodeBorderOpacityDefault000
setNodeBorderOpacityMapping0.0000.0000.001
setNodeBorderWidthBypass000
setNodeBorderWidthDefault000
setNodeBorderWidthMapping000
setNodeColorBypass000
setNodeColorDefault0.0000.0000.001
setNodeColorMapping000
setNodeComboOpacityMapping000
setNodeCustomBarChart000
setNodeCustomBoxChart000
setNodeCustomHeatMapChart000
setNodeCustomLineChart000
setNodeCustomLinearGradient000
setNodeCustomPieChart000
setNodeCustomPosition000
setNodeCustomRadialGradient0.0010.0000.000
setNodeCustomRingChart000
setNodeFillOpacityBypass0.0010.0000.000
setNodeFillOpacityDefault000
setNodeFillOpacityMapping000
setNodeFontFaceBypass000
setNodeFontFaceDefault000
setNodeFontFaceMapping0.0010.0000.000
setNodeFontSizeBypass000
setNodeFontSizeDefault000
setNodeFontSizeMapping000
setNodeHeightBypass000
setNodeHeightDefault0.0000.0000.001
setNodeHeightMapping000
setNodeLabelBypass000
setNodeLabelColorBypass000
setNodeLabelColorDefault000
setNodeLabelColorMapping0.0000.0000.001
setNodeLabelDefault000
setNodeLabelMapping000
setNodeLabelOpacityBypass000
setNodeLabelOpacityDefault000
setNodeLabelOpacityMapping0.0000.0010.000
setNodeLabelPositionBypass000
setNodeLabelPositionDefault0.0010.0000.001
setNodeOpacityBypass000
setNodePositionBypass000
setNodePropertyBypass000
setNodeSelectionColorDefault000
setNodeShapeBypass0.0000.0000.001
setNodeShapeDefault000
setNodeShapeMapping000
setNodeSizeBypass0.0000.0010.000
setNodeSizeDefault000
setNodeSizeMapping000
setNodeTooltipBypass000
setNodeTooltipDefault0.0010.0000.001
setNodeTooltipMapping000
setNodeWidthBypass000
setNodeWidthDefault000
setNodeWidthMapping000
setNotebookIsRunning0.0000.0000.001
setSandboxReinitialize000
setStyleDependencies000
setVisualPropertyDefault000
setVisualStyle000
syncNodeCustomGraphicsSize000
toggleGraphicsDetails000
ungroupAnnotation0.0010.0000.001
unhideAll000
unhideEdges000
unhideNodes000
uninstallApp000
updateAnnotationImage0.0000.0000.001
updateAnnotationShape000
updateAnnotationText000
updateApp000
updateGroupAnnotation000
updateNetworkInNDEx000
updateStyleDefaults000
updateStyleMapping000