| Back to Multiple platform build/check report for BioC 3.23: simplified long |
|
This page was generated on 2025-11-21 11:37 -0500 (Fri, 21 Nov 2025).
| Hostname | OS | Arch (*) | R version | Installed pkgs |
|---|---|---|---|---|
| nebbiolo1 | Linux (Ubuntu 24.04.3 LTS) | x86_64 | R Under development (unstable) (2025-10-20 r88955) -- "Unsuffered Consequences" | 4829 |
| lconway | macOS 12.7.6 Monterey | x86_64 | R Under development (unstable) (2025-10-21 r88958) -- "Unsuffered Consequences" | 4602 |
| kjohnson3 | macOS 13.7.7 Ventura | arm64 | R Under development (unstable) (2025-11-04 r88984) -- "Unsuffered Consequences" | 4566 |
| Click on any hostname to see more info about the system (e.g. compilers) (*) as reported by 'uname -p', except on Windows and Mac OS X | ||||
| Package 1487/2327 | Hostname | OS / Arch | INSTALL | BUILD | CHECK | BUILD BIN | ||||||||
| OmnipathR 3.19.2 (landing page) Denes Turei
| nebbiolo1 | Linux (Ubuntu 24.04.3 LTS) / x86_64 | OK | OK | OK | |||||||||
| lconway | macOS 12.7.6 Monterey / x86_64 | OK | OK | OK | OK | |||||||||
| kjohnson3 | macOS 13.7.7 Ventura / arm64 | OK | OK | OK | OK | |||||||||
|
To the developers/maintainers of the OmnipathR package: - Allow up to 24 hours (and sometimes 48 hours) for your latest push to git@git.bioconductor.org:packages/OmnipathR.git to reflect on this report. See Troubleshooting Build Report for more information. - Use the following Renviron settings to reproduce errors and warnings. - If 'R CMD check' started to fail recently on the Linux builder(s) over a missing dependency, add the missing dependency to 'Suggests:' in your DESCRIPTION file. See Renviron.bioc for more information. |
| Package: OmnipathR |
| Version: 3.19.2 |
| Command: /home/biocbuild/bbs-3.23-bioc/R/bin/R CMD check --install=check:OmnipathR.install-out.txt --library=/home/biocbuild/bbs-3.23-bioc/R/site-library --timings OmnipathR_3.19.2.tar.gz |
| StartedAt: 2025-11-21 02:13:37 -0500 (Fri, 21 Nov 2025) |
| EndedAt: 2025-11-21 02:51:20 -0500 (Fri, 21 Nov 2025) |
| EllapsedTime: 2263.3 seconds |
| RetCode: 0 |
| Status: OK |
| CheckDir: OmnipathR.Rcheck |
| Warnings: 0 |
##############################################################################
##############################################################################
###
### Running command:
###
### /home/biocbuild/bbs-3.23-bioc/R/bin/R CMD check --install=check:OmnipathR.install-out.txt --library=/home/biocbuild/bbs-3.23-bioc/R/site-library --timings OmnipathR_3.19.2.tar.gz
###
##############################################################################
##############################################################################
* using log directory ‘/home/biocbuild/bbs-3.23-bioc/meat/OmnipathR.Rcheck’
* using R Under development (unstable) (2025-10-20 r88955)
* using platform: x86_64-pc-linux-gnu
* R was compiled by
gcc (Ubuntu 13.3.0-6ubuntu2~24.04) 13.3.0
GNU Fortran (Ubuntu 13.3.0-6ubuntu2~24.04) 13.3.0
* running under: Ubuntu 24.04.3 LTS
* using session charset: UTF-8
* checking for file ‘OmnipathR/DESCRIPTION’ ... OK
* checking extension type ... Package
* this is package ‘OmnipathR’ version ‘3.19.2’
* package encoding: UTF-8
* checking package namespace information ... OK
* checking package dependencies ... INFO
Imports includes 35 non-default packages.
Importing from so many packages makes the package vulnerable to any of
them becoming unavailable. Move as many as possible to Suggests and
use conditionally.
* checking if this is a source package ... OK
* checking if there is a namespace ... OK
* checking for hidden files and directories ... OK
* checking for portable file names ... OK
* checking for sufficient/correct file permissions ... OK
* checking whether package ‘OmnipathR’ can be installed ... OK
* checking installed package size ... OK
* checking package directory ... OK
* checking DESCRIPTION meta-information ... OK
* checking top-level files ... OK
* checking for left-over files ... OK
* checking index information ... OK
* checking package subdirectories ... OK
* checking code files for non-ASCII characters ... OK
* checking R files for syntax errors ... OK
* checking whether the package can be loaded ... OK
* checking whether the package can be loaded with stated dependencies ... OK
* checking whether the package can be unloaded cleanly ... OK
* checking whether the namespace can be loaded with stated dependencies ... OK
* checking whether the namespace can be unloaded cleanly ... OK
* checking loading without being on the library search path ... OK
* checking whether startup messages can be suppressed ... NOTE
[2025-11-21 02:14:22] [TRACE] [OmnipathR] Reading JSON from `/home/biocbuild/.cache/OmnipathR/cache.json` (encoding: UTF-8).
[2025-11-21 02:14:22] [TRACE] [OmnipathR] JSON validation successful: TRUE
[2025-11-21 02:14:22] [INFO] [OmnipathR] Initialized cache: `/home/biocbuild/.cache/OmnipathR`.
[2025-11-21 02:14:22] [INFO] [OmnipathR] Package `OmnipathR` packaged: NA
[2025-11-21 02:14:22] [INFO] [OmnipathR] Package `OmnipathR` date/publication: 2025-11-20
[2025-11-21 02:14:22] [INFO] [OmnipathR] Package `OmnipathR` built: R 4.6.0; ; 2025-11-20 20:08:19 UTC; unix
[2025-11-21 02:14:22] [INFO] [OmnipathR] Package `OmnipathR` version: 3.19.2
[2025-11-21 02:14:22] [INFO] [OmnipathR] Package `OmnipathR` repository: Bioconductor 3.23
[2025-11-21 02:14:22] [INFO] [OmnipathR] Session info: [version=R Under development (unstable) (2025-10-20 r88955); os=Ubuntu 24.04.3 LTS; system=x86_64, linux-gnu; ui=X11; language=(EN); collate=C; ctype=en_US.UTF-8; tz=America/New_York; date=2025-11-21; pandoc=2.7.3 @ /usr/bin/ (via rmarkdown); quarto=1.8.25 @ /usr/local/bin/quarto]
[2025-11-21 02:14:22] [INFO] [OmnipathR] External libraries: [cairo=1.18.0; cairoFT=; pango=1.52.1; png=1.6.43; jpeg=8.0; tiff=LIBTIFF, Version 4.5.1; tcl=8.6; curl=8.5.0; zlib=1.3; bzlib=1.0.8, 13-Jul-2019; xz=5.4.5; deflate=1.19; zstd=1.5.5; PCRE=10.42 2022-12-11; ICU=74.2; TRE=TRE 0.8.0 R_fixes (BSD); iconv=glibc 2.39; readline=8.2; BLAS=/home/biocbuild/bbs-3.23-bioc/R/lib/libRblas.so; lapack=/usr/lib/x86_64-linux-gnu/lapack/liblapack.so.3.12.0; lapack_version=3.12.0]
[2025-11-21 02:14:23] [INFO] [OmnipathR] Loaded packages: backports 1.5.0(2024-05-23); bit 4.6.0(2025-03-06); bit64 4.6.0-1(2025-01-16); blob 1.2.4(2023-03-17); cachem 1.1.0(2024-05-16); cellranger 1.1.0(2016-07-27); checkmate 2.3.3(2025-08-18); chromote 0.5.1(2025-04-24); cli 3.6.5(2025-04-23); crayon 1.5.3(2024-06-20); curl 7.0.0(2025-08-19); DBI 1.2.3(2024-06-02); digest 0.6.39(2025-11-19); dplyr 1.1.4(2023-11-17); evaluate 1.0.5(2025-08-27); fastmap 1.2.0(2024-05-15); fs 1.6.6(2025-04-12); generics 0.1.4(2025-05-09); glue 1.8.0(2024-09-30); hms 1.1.4(2025-10-17); htmltools 0.5.8.1(2024-04-04); httr 1.4.7(2023-08-15); httr2 1.2.1(2025-07-22); igraph 2.2.1(2025-10-27); jsonlite 2.0.0(2025-03-27); knitr 1.50(2025-03-16); later 1.4.4(2025-08-27); lifecycle 1.0.4(2023-11-07); logger 0.4.1(2025-09-11); lubridate 1.9.4(2024-12-08); magrittr 2.0.4(2025-09-12); memoise 2.0.1(2021-11-26); OmnipathR 3.19.2(2025-11-20); otel 0.2.0(2025-08-29); pillar 1.11.1(2025-09-17); pkgconfig 2.0.3(2019-09-22); prettyunits 1.2.0(2023-09-24); processx 3.8.6(2025-02-21); progress 1.2.3(2023-12-06); promises 1.5.0(2025-11-01); ps 1.9.1(2025-04-12); purrr 1.2.0(2025-11-04); R.methodsS3 1.8.2(2022-06-13); R.oo 1.27.1(2025-05-02); R.utils 2.13.0(2025-02-24); R6 2.6.1(2025-02-15); rappdirs 0.3.3(2021-01-31); Rcpp 1.1.0(2025-07-02); readr 2.1.6(2025-11-14); readxl 1.4.5(2025-03-07); rlang 1.1.6(2025-04-11); rmarkdown 2.30(2025-09-28); RSQLite 2.4.4(2025-11-10); rvest 1.0.5(2025-08-29); sessioninfo 1.2.3(2025-02-05); stringi 1.8.7(2025-03-27); stringr 1.6.0(2025-11-04); tibble 3.3.0(2025-06-08); tidyr 1.3.1(2024-01-24); tidyselect 1.2.1(2024-03-11); timechange 0.3.0(2024-01-18); tzdb 0.5.0(2025-03-15); vctrs 0.6.5(2023-12-01); websocket 1.4.4(2025-04-10); withr 3.0.2(2024-10-28); xfun 0.54(2025-10-30); XML 3.99-0.20(2025-11-08); xml2 1.5.0(2025-11-17); yaml 2.3.10(2024-07-26); zip 2.3.3(2025-05-13)
[2025-11-21 02:14:23] [INFO] [OmnipathR] CURL: version: 8.5.0; headers: 8.5.0; ssl_version: OpenSSL/3.0.13; libz_version: 1.3; libssh_version: libssh/0.10.6/openssl/zlib; libidn_version: 2.3.7; host: x86_64-pc-linux-gnu; protocols: dict, file, ftp, ftps, gopher, gophers, http, https, imap, imaps, ldap, ldaps, mqtt, pop3, pop3s, rtmp, rtmpe, rtmps, rtmpt, rtmpte, rtmpts, rtsp, scp, sftp, smb, smbs, smtp, smtps, telnet, tftp; ipv6: TRUE; http2: TRUE; idn: TRUE; url_parser: TRUE
[2025-11-21 02:14:23] [TRACE] [OmnipathR] Running on a build server, wiping cache.
[2025-11-21 02:14:23] [TRACE] [OmnipathR] Cache is at `/home/biocbuild/.cache/OmnipathR`.
[2025-11-21 02:14:23] [TRACE] [OmnipathR] Contains 1 files.
[2025-11-21 02:14:23] [TRACE] [OmnipathR] Cache is locked: FALSE.
[2025-11-21 02:14:23] [TRACE] [OmnipathR] Reading JSON from `/home/biocbuild/.cache/OmnipathR/cache.json` (encoding: UTF-8).
[2025-11-21 02:14:23] [TRACE] [OmnipathR] JSON validation successful: TRUE
[2025-11-21 02:14:23] [SUCCESS] [OmnipathR] Removing all cache contents from `/home/biocbuild/.cache/OmnipathR`.
[2025-11-21 02:14:23] [TRACE] [OmnipathR] Pandoc version: `2.7.3`.
[2025-11-21 02:14:23] [TRACE] [OmnipathR] Reading JSON from `/home/biocbuild/bbs-3.23-bioc/R/site-library/OmnipathR/db/db_def.json` (encoding: UTF-8).
[2025-11-21 02:14:23] [TRACE] [OmnipathR] JSON validation successful: TRUE
[2025-11-21 02:14:23] [TRACE] [OmnipathR] Reading JSON from `/home/biocbuild/bbs-3.23-bioc/R/site-library/OmnipathR/internal/magic_bytes.json` (encoding: UTF-8).
[2025-11-21 02:14:23] [TRACE] [OmnipathR] JSON validation successful: TRUE
[2025-11-21 02:14:23] [TRACE] [OmnipathR] Reading JSON from `/home/biocbuild/bbs-3.23-bioc/R/site-library/OmnipathR/internal/urls.json` (encoding: UTF-8).
[2025-11-21 02:14:23] [TRACE] [OmnipathR] JSON validation successful: TRUE
[2025-11-21 02:14:23] [TRACE] [OmnipathR] Reading JSON from `/home/biocbuild/bbs-3.23-bioc/R/site-library/OmnipathR/internal/id_types.json` (encoding: UTF-8).
[2025-11-21 02:14:23] [TRACE] [OmnipathR] JSON validation successful: TRUE
[2025-11-21 02:14:23] [TRACE] [OmnipathR] Cache locked: FALSE
It looks like this package (or a package it requires) has a startup
message which cannot be suppressed: see ?packageStartupMessage.
* checking dependencies in R code ... OK
* checking S3 generic/method consistency ... OK
* checking replacement functions ... OK
* checking foreign function calls ... OK
* checking R code for possible problems ... NOTE
[2025-11-21 02:14:42] [TRACE] [OmnipathR] Reading JSON from `/home/biocbuild/.cache/OmnipathR/cache.json` (encoding: UTF-8).
[2025-11-21 02:14:42] [TRACE] [OmnipathR] JSON validation successful: TRUE
[2025-11-21 02:14:42] [INFO] [OmnipathR] Initialized cache: `/home/biocbuild/.cache/OmnipathR`.
[2025-11-21 02:14:42] [INFO] [OmnipathR] Package `OmnipathR` packaged: NA
[2025-11-21 02:14:42] [INFO] [OmnipathR] Package `OmnipathR` date/publication: 2025-11-20
[2025-11-21 02:14:42] [INFO] [OmnipathR] Package `OmnipathR` built: R 4.6.0; ; 2025-11-20 20:08:19 UTC; unix
[2025-11-21 02:14:42] [INFO] [OmnipathR] Package `OmnipathR` version: 3.19.2
[2025-11-21 02:14:42] [INFO] [OmnipathR] Package `OmnipathR` repository: Bioconductor 3.23
[2025-11-21 02:14:45] [INFO] [OmnipathR] Session info: [version=R Under development (unstable) (2025-10-20 r88955); os=Ubuntu 24.04.3 LTS; system=x86_64, linux-gnu; ui=X11; language=(EN); collate=C; ctype=en_US.UTF-8; tz=America/New_York; date=2025-11-21; pandoc=2.7.3 @ /usr/bin/ (via rmarkdown); quarto=1.8.25 @ /usr/local/bin/quarto]
[2025-11-21 02:14:45] [INFO] [OmnipathR] External libraries: [cairo=1.18.0; cairoFT=; pango=1.52.1; png=1.6.43; jpeg=8.0; tiff=LIBTIFF, Version 4.5.1; tcl=8.6; curl=8.5.0; zlib=1.3; bzlib=1.0.8, 13-Jul-2019; xz=5.4.5; deflate=1.19; zstd=1.5.5; PCRE=10.42 2022-12-11; ICU=74.2; TRE=TRE 0.8.0 R_fixes (BSD); iconv=glibc 2.39; readline=8.2; BLAS=/home/biocbuild/bbs-3.23-bioc/R/lib/libRblas.so; lapack=/usr/lib/x86_64-linux-gnu/lapack/liblapack.so.3.12.0; lapack_version=3.12.0]
[2025-11-21 02:14:45] [INFO] [OmnipathR] Loaded packages: backports 1.5.0(2024-05-23); bit 4.6.0(2025-03-06); bit64 4.6.0-1(2025-01-16); blob 1.2.4(2023-03-17); cachem 1.1.0(2024-05-16); cellranger 1.1.0(2016-07-27); checkmate 2.3.3(2025-08-18); chromote 0.5.1(2025-04-24); cli 3.6.5(2025-04-23); crayon 1.5.3(2024-06-20); curl 7.0.0(2025-08-19); DBI 1.2.3(2024-06-02); digest 0.6.39(2025-11-19); dplyr 1.1.4(2023-11-17); evaluate 1.0.5(2025-08-27); fastmap 1.2.0(2024-05-15); fs 1.6.6(2025-04-12); generics 0.1.4(2025-05-09); glue 1.8.0(2024-09-30); hms 1.1.4(2025-10-17); htmltools 0.5.8.1(2024-04-04); httr 1.4.7(2023-08-15); httr2 1.2.1(2025-07-22); igraph 2.2.1(2025-10-27); jsonlite 2.0.0(2025-03-27); knitr 1.50(2025-03-16); later 1.4.4(2025-08-27); lifecycle 1.0.4(2023-11-07); logger 0.4.1(2025-09-11); lubridate 1.9.4(2024-12-08); magrittr 2.0.4(2025-09-12); memoise 2.0.1(2021-11-26); OmnipathR 3.19.2(2025-11-20); otel 0.2.0(2025-08-29); pillar 1.11.1(2025-09-17); pkgconfig 2.0.3(2019-09-22); prettyunits 1.2.0(2023-09-24); processx 3.8.6(2025-02-21); progress 1.2.3(2023-12-06); promises 1.5.0(2025-11-01); ps 1.9.1(2025-04-12); purrr 1.2.0(2025-11-04); R.methodsS3 1.8.2(2022-06-13); R.oo 1.27.1(2025-05-02); R.utils 2.13.0(2025-02-24); R6 2.6.1(2025-02-15); rappdirs 0.3.3(2021-01-31); Rcpp 1.1.0(2025-07-02); readr 2.1.6(2025-11-14); readxl 1.4.5(2025-03-07); rlang 1.1.6(2025-04-11); rmarkdown 2.30(2025-09-28); RSQLite 2.4.4(2025-11-10); rvest 1.0.5(2025-08-29); sessioninfo 1.2.3(2025-02-05); stringi 1.8.7(2025-03-27); stringr 1.6.0(2025-11-04); tibble 3.3.0(2025-06-08); tidyr 1.3.1(2024-01-24); tidyselect 1.2.1(2024-03-11); timechange 0.3.0(2024-01-18); tzdb 0.5.0(2025-03-15); vctrs 0.6.5(2023-12-01); websocket 1.4.4(2025-04-10); withr 3.0.2(2024-10-28); xfun 0.54(2025-10-30); XML 3.99-0.20(2025-11-08); xml2 1.5.0(2025-11-17); yaml 2.3.10(2024-07-26); zip 2.3.3(2025-05-13)
[2025-11-21 02:14:45] [INFO] [OmnipathR] CURL: version: 8.5.0; headers: 8.5.0; ssl_version: OpenSSL/3.0.13; libz_version: 1.3; libssh_version: libssh/0.10.6/openssl/zlib; libidn_version: 2.3.7; host: x86_64-pc-linux-gnu; protocols: dict, file, ftp, ftps, gopher, gophers, http, https, imap, imaps, ldap, ldaps, mqtt, pop3, pop3s, rtmp, rtmpe, rtmps, rtmpt, rtmpte, rtmpts, rtsp, scp, sftp, smb, smbs, smtp, smtps, telnet, tftp; ipv6: TRUE; http2: TRUE; idn: TRUE; url_parser: TRUE
[2025-11-21 02:14:45] [TRACE] [OmnipathR] Running on a build server, wiping cache.
[2025-11-21 02:14:45] [TRACE] [OmnipathR] Cache is at `/home/biocbuild/.cache/OmnipathR`.
[2025-11-21 02:14:45] [TRACE] [OmnipathR] Contains 1 files.
[2025-11-21 02:14:45] [TRACE] [OmnipathR] Cache is locked: FALSE.
[2025-11-21 02:14:45] [TRACE] [OmnipathR] Reading JSON from `/home/biocbuild/.cache/OmnipathR/cache.json` (encoding: UTF-8).
[2025-11-21 02:14:45] [TRACE] [OmnipathR] JSON validation successful: TRUE
[2025-11-21 02:14:45] [SUCCESS] [OmnipathR] Removing all cache contents from `/home/biocbuild/.cache/OmnipathR`.
[2025-11-21 02:14:45] [TRACE] [OmnipathR] Pandoc version: `2.7.3`.
[2025-11-21 02:14:45] [TRACE] [OmnipathR] Reading JSON from `/home/biocbuild/bbs-3.23-bioc/R/site-library/OmnipathR/db/db_def.json` (encoding: UTF-8).
[2025-11-21 02:14:45] [TRACE] [OmnipathR] JSON validation successful: TRUE
[2025-11-21 02:14:45] [TRACE] [OmnipathR] Reading JSON from `/home/biocbuild/bbs-3.23-bioc/R/site-library/OmnipathR/internal/magic_bytes.json` (encoding: UTF-8).
[2025-11-21 02:14:45] [TRACE] [OmnipathR] JSON validation successful: TRUE
[2025-11-21 02:14:45] [TRACE] [OmnipathR] Reading JSON from `/home/biocbuild/bbs-3.23-bioc/R/site-library/OmnipathR/internal/urls.json` (encoding: UTF-8).
[2025-11-21 02:14:45] [TRACE] [OmnipathR] JSON validation successful: TRUE
[2025-11-21 02:14:45] [TRACE] [OmnipathR] Reading JSON from `/home/biocbuild/bbs-3.23-bioc/R/site-library/OmnipathR/internal/id_types.json` (encoding: UTF-8).
[2025-11-21 02:14:45] [TRACE] [OmnipathR] JSON validation successful: TRUE
[2025-11-21 02:14:45] [TRACE] [OmnipathR] Cache locked: FALSE
cosmos_ksn: no visible binding for global variable ‘enzyme_genesymbol’
Undefined global functions or variables:
enzyme_genesymbol
* checking Rd files ... OK
* checking Rd metadata ... OK
* checking Rd cross-references ... OK
* checking for missing documentation entries ... OK
* checking for code/documentation mismatches ... OK
* checking Rd \usage sections ... OK
* checking Rd contents ... OK
* checking for unstated dependencies in examples ... OK
* checking R/sysdata.rda ... OK
* checking files in ‘vignettes’ ... OK
* checking examples ... OK
Examples with CPU (user + system) or elapsed time > 5s
user system elapsed
annotation_categories 79.388 0.053 81.042
filter_extra_attrs 47.276 7.388 65.865
curated_ligrec_stats 42.241 2.650 119.620
omnipath-interactions 33.412 1.651 64.287
nichenet_gr_network_omnipath 29.527 1.447 46.087
all_uniprots 23.285 1.295 38.998
uniprot_organisms 19.750 0.965 24.337
go_annot_download 18.733 1.203 23.069
nichenet_signaling_network_omnipath 17.502 0.807 24.663
filter_by_resource 16.825 0.555 28.302
pivot_annotations 14.847 0.984 25.162
has_extra_attrs 13.634 1.652 18.612
extra_attrs_to_cols 13.311 1.433 14.760
with_extra_attrs 12.664 1.431 17.156
omnipath_for_cosmos 13.183 0.419 33.500
extra_attr_values 12.095 1.421 16.152
filter_intercell 12.281 0.749 20.207
print_interactions 10.424 0.508 15.941
giant_component 10.085 0.710 13.709
find_all_paths 8.696 0.202 9.988
extra_attrs 7.385 1.325 8.736
translate_ids_multi 8.227 0.335 25.642
curated_ligand_receptor_interactions 6.961 0.704 17.501
pubmed_open 6.661 0.160 7.514
resources_in 6.025 0.220 7.140
static_table 5.696 0.271 6.592
signed_ptms 5.110 0.121 5.845
kegg_conv 4.413 0.301 16.233
print_path_vs 3.884 0.224 7.482
intercell_consensus_filter 2.709 0.189 6.269
kegg_picture 2.701 0.121 9.820
ensembl_id_mapping_table 2.412 0.262 18.521
metalinksdb_sqlite 2.088 0.300 13.757
enzsub_graph 2.212 0.144 5.054
kinasephos 1.943 0.245 19.508
resources_colname 1.902 0.046 5.018
kegg_rm_prefix 1.825 0.106 8.326
translate_ids 1.211 0.037 10.717
kegg_link 1.090 0.059 7.151
uniprot_full_id_mapping_table 0.914 0.054 12.264
* checking for unstated dependencies in ‘tests’ ... OK
* checking tests ...
Running ‘testthat.R’
OK
* checking for unstated dependencies in vignettes ... OK
* checking package vignettes ... OK
* checking re-building of vignette outputs ... OK
* checking PDF version of manual ... OK
* DONE
Status: 2 NOTEs
See
‘/home/biocbuild/bbs-3.23-bioc/meat/OmnipathR.Rcheck/00check.log’
for details.
OmnipathR.Rcheck/00install.out
############################################################################## ############################################################################## ### ### Running command: ### ### /home/biocbuild/bbs-3.23-bioc/R/bin/R CMD INSTALL OmnipathR ### ############################################################################## ############################################################################## * installing to library ‘/home/biocbuild/bbs-3.23-bioc/R/site-library’ * installing *source* package ‘OmnipathR’ ... ** this is package ‘OmnipathR’ version ‘3.19.2’ ** using staged installation ** R ** inst ** byte-compile and prepare package for lazy loading ** help *** installing help indices *** copying figures ** building package indices ** installing vignettes ** testing if installed package can be loaded from temporary location [2025-11-20 15:08:33] [TRACE] [OmnipathR] Reading JSON from `/home/biocbuild/.cache/OmnipathR/cache.json` (encoding: UTF-8). [2025-11-20 15:08:33] [TRACE] [OmnipathR] JSON validation successful: TRUE [2025-11-20 15:08:33] [INFO] [OmnipathR] Initialized cache: `/home/biocbuild/.cache/OmnipathR`. [2025-11-20 15:08:33] [INFO] [OmnipathR] Package `OmnipathR` packaged: NA [2025-11-20 15:08:33] [INFO] [OmnipathR] Package `OmnipathR` date/publication: 2025-11-20 [2025-11-20 15:08:33] [INFO] [OmnipathR] Package `OmnipathR` built: R 4.6.0; ; 2025-11-20 20:08:19 UTC; unix [2025-11-20 15:08:33] [INFO] [OmnipathR] Package `OmnipathR` version: 3.19.2 [2025-11-20 15:08:33] [INFO] [OmnipathR] Package `OmnipathR` repository: Bioconductor 3.23 [2025-11-20 15:08:33] [INFO] [OmnipathR] Session info: [version=R Under development (unstable) (2025-10-20 r88955); os=Ubuntu 24.04.3 LTS; system=x86_64, linux-gnu; ui=X11; language=(EN); collate=C; ctype=en_US.UTF-8; tz=America/New_York; date=2025-11-20; pandoc=2.7.3 @ /usr/bin/ (via rmarkdown); quarto=1.8.25 @ /usr/local/bin/quarto] [2025-11-20 15:08:33] [INFO] [OmnipathR] External libraries: [cairo=1.18.0; cairoFT=; pango=1.52.1; png=1.6.43; jpeg=8.0; tiff=LIBTIFF, Version 4.5.1; tcl=8.6; curl=8.5.0; zlib=1.3; bzlib=1.0.8, 13-Jul-2019; xz=5.4.5; deflate=1.19; zstd=1.5.5; PCRE=10.42 2022-12-11; ICU=74.2; TRE=TRE 0.8.0 R_fixes (BSD); iconv=glibc 2.39; readline=8.2; BLAS=/home/biocbuild/bbs-3.23-bioc/R/lib/libRblas.so; lapack=/usr/lib/x86_64-linux-gnu/lapack/liblapack.so.3.12.0; lapack_version=3.12.0] [2025-11-20 15:08:33] [INFO] [OmnipathR] Loaded packages: backports 1.5.0(2024-05-23); bit 4.6.0(2025-03-06); bit64 4.6.0-1(2025-01-16); blob 1.2.4(2023-03-17); cachem 1.1.0(2024-05-16); cellranger 1.1.0(2016-07-27); checkmate 2.3.3(2025-08-18); chromote 0.5.1(2025-04-24); cli 3.6.5(2025-04-23); crayon 1.5.3(2024-06-20); curl 7.0.0(2025-08-19); DBI 1.2.3(2024-06-02); digest 0.6.39(2025-11-19); dplyr 1.1.4(2023-11-17); evaluate 1.0.5(2025-08-27); fastmap 1.2.0(2024-05-15); fs 1.6.6(2025-04-12); generics 0.1.4(2025-05-09); glue 1.8.0(2024-09-30); hms 1.1.4(2025-10-17); htmltools 0.5.8.1(2024-04-04); httr 1.4.7(2023-08-15); httr2 1.2.1(2025-07-22); igraph 2.2.1(2025-10-27); jsonlite 2.0.0(2025-03-27); knitr 1.50(2025-03-16); later 1.4.4(2025-08-27); lifecycle 1.0.4(2023-11-07); logger 0.4.1(2025-09-11); lubridate 1.9.4(2024-12-08); magrittr 2.0.4(2025-09-12); memoise 2.0.1(2021-11-26); OmnipathR 3.19.2(2025-11-20); otel 0.2.0(2025-08-29); pillar 1.11.1(2025-09-17); pkgconfig 2.0.3(2019-09-22); prettyunits 1.2.0(2023-09-24); processx 3.8.6(2025-02-21); progress 1.2.3(2023-12-06); promises 1.5.0(2025-11-01); ps 1.9.1(2025-04-12); purrr 1.2.0(2025-11-04); R.methodsS3 1.8.2(2022-06-13); R.oo 1.27.1(2025-05-02); R.utils 2.13.0(2025-02-24); R6 2.6.1(2025-02-15); rappdirs 0.3.3(2021-01-31); Rcpp 1.1.0(2025-07-02); readr 2.1.6(2025-11-14); readxl 1.4.5(2025-03-07); rlang 1.1.6(2025-04-11); rmarkdown 2.30(2025-09-28); RSQLite 2.4.4(2025-11-10); rvest 1.0.5(2025-08-29); sessioninfo 1.2.3(2025-02-05); stringi 1.8.7(2025-03-27); stringr 1.6.0(2025-11-04); tibble 3.3.0(2025-06-08); tidyr 1.3.1(2024-01-24); tidyselect 1.2.1(2024-03-11); timechange 0.3.0(2024-01-18); tzdb 0.5.0(2025-03-15); vctrs 0.6.5(2023-12-01); websocket 1.4.4(2025-04-10); withr 3.0.2(2024-10-28); xfun 0.54(2025-10-30); XML 3.99-0.20(2025-11-08); xml2 1.5.0(2025-11-17); yaml 2.3.10(2024-07-26); zip 2.3.3(2025-05-13) [2025-11-20 15:08:33] [INFO] [OmnipathR] CURL: version: 8.5.0; headers: 8.5.0; ssl_version: OpenSSL/3.0.13; libz_version: 1.3; libssh_version: libssh/0.10.6/openssl/zlib; libidn_version: 2.3.7; host: x86_64-pc-linux-gnu; protocols: dict, file, ftp, ftps, gopher, gophers, http, https, imap, imaps, ldap, ldaps, mqtt, pop3, pop3s, rtmp, rtmpe, rtmps, rtmpt, rtmpte, rtmpts, rtsp, scp, sftp, smb, smbs, smtp, smtps, telnet, tftp; ipv6: TRUE; http2: TRUE; idn: TRUE; url_parser: TRUE [2025-11-20 15:08:33] [TRACE] [OmnipathR] Running on a build server, wiping cache. [2025-11-20 15:08:33] [TRACE] [OmnipathR] Cache is at `/home/biocbuild/.cache/OmnipathR`. [2025-11-20 15:08:33] [TRACE] [OmnipathR] Contains 7 files. [2025-11-20 15:08:33] [TRACE] [OmnipathR] Cache is locked: FALSE. [2025-11-20 15:08:33] [TRACE] [OmnipathR] Reading JSON from `/home/biocbuild/.cache/OmnipathR/cache.json` (encoding: UTF-8). [2025-11-20 15:08:33] [TRACE] [OmnipathR] JSON validation successful: TRUE [2025-11-20 15:08:33] [SUCCESS] [OmnipathR] Removing all cache contents from `/home/biocbuild/.cache/OmnipathR`. [2025-11-20 15:08:33] [TRACE] [OmnipathR] Pandoc version: `2.7.3`. [2025-11-20 15:08:33] [TRACE] [OmnipathR] Reading JSON from `/home/biocbuild/bbs-3.23-bioc/R/site-library/00LOCK-OmnipathR/00new/OmnipathR/db/db_def.json` (encoding: UTF-8). [2025-11-20 15:08:33] [TRACE] [OmnipathR] JSON validation successful: TRUE [2025-11-20 15:08:34] [TRACE] [OmnipathR] Reading JSON from `/home/biocbuild/bbs-3.23-bioc/R/site-library/00LOCK-OmnipathR/00new/OmnipathR/internal/magic_bytes.json` (encoding: UTF-8). [2025-11-20 15:08:34] [TRACE] [OmnipathR] JSON validation successful: TRUE [2025-11-20 15:08:34] [TRACE] [OmnipathR] Reading JSON from `/home/biocbuild/bbs-3.23-bioc/R/site-library/00LOCK-OmnipathR/00new/OmnipathR/internal/urls.json` (encoding: UTF-8). [2025-11-20 15:08:34] [TRACE] [OmnipathR] JSON validation successful: TRUE [2025-11-20 15:08:34] [TRACE] [OmnipathR] Reading JSON from `/home/biocbuild/bbs-3.23-bioc/R/site-library/00LOCK-OmnipathR/00new/OmnipathR/internal/id_types.json` (encoding: UTF-8). [2025-11-20 15:08:34] [TRACE] [OmnipathR] JSON validation successful: TRUE [2025-11-20 15:08:34] [TRACE] [OmnipathR] Cache locked: FALSE ** testing if installed package can be loaded from final location [2025-11-20 15:08:36] [TRACE] [OmnipathR] Reading JSON from `/home/biocbuild/.cache/OmnipathR/cache.json` (encoding: UTF-8). [2025-11-20 15:08:36] [TRACE] [OmnipathR] JSON validation successful: TRUE [2025-11-20 15:08:36] [INFO] [OmnipathR] Initialized cache: `/home/biocbuild/.cache/OmnipathR`. [2025-11-20 15:08:36] [INFO] [OmnipathR] Package `OmnipathR` packaged: NA [2025-11-20 15:08:36] [INFO] [OmnipathR] Package `OmnipathR` date/publication: 2025-11-20 [2025-11-20 15:08:36] [INFO] [OmnipathR] Package `OmnipathR` built: R 4.6.0; ; 2025-11-20 20:08:19 UTC; unix [2025-11-20 15:08:36] [INFO] [OmnipathR] Package `OmnipathR` version: 3.19.2 [2025-11-20 15:08:36] [INFO] [OmnipathR] Package `OmnipathR` repository: Bioconductor 3.23 [2025-11-20 15:08:36] [INFO] [OmnipathR] Session info: [version=R Under development (unstable) (2025-10-20 r88955); os=Ubuntu 24.04.3 LTS; system=x86_64, linux-gnu; ui=X11; language=(EN); collate=C; ctype=en_US.UTF-8; tz=America/New_York; date=2025-11-20; pandoc=2.7.3 @ /usr/bin/ (via rmarkdown); quarto=1.8.25 @ /usr/local/bin/quarto] [2025-11-20 15:08:36] [INFO] [OmnipathR] External libraries: [cairo=1.18.0; cairoFT=; pango=1.52.1; png=1.6.43; jpeg=8.0; tiff=LIBTIFF, Version 4.5.1; tcl=8.6; curl=8.5.0; zlib=1.3; bzlib=1.0.8, 13-Jul-2019; xz=5.4.5; deflate=1.19; zstd=1.5.5; PCRE=10.42 2022-12-11; ICU=74.2; TRE=TRE 0.8.0 R_fixes (BSD); iconv=glibc 2.39; readline=8.2; BLAS=/home/biocbuild/bbs-3.23-bioc/R/lib/libRblas.so; lapack=/usr/lib/x86_64-linux-gnu/lapack/liblapack.so.3.12.0; lapack_version=3.12.0] [2025-11-20 15:08:36] [INFO] [OmnipathR] Loaded packages: backports 1.5.0(2024-05-23); bit 4.6.0(2025-03-06); bit64 4.6.0-1(2025-01-16); blob 1.2.4(2023-03-17); cachem 1.1.0(2024-05-16); cellranger 1.1.0(2016-07-27); checkmate 2.3.3(2025-08-18); chromote 0.5.1(2025-04-24); cli 3.6.5(2025-04-23); crayon 1.5.3(2024-06-20); curl 7.0.0(2025-08-19); DBI 1.2.3(2024-06-02); digest 0.6.39(2025-11-19); dplyr 1.1.4(2023-11-17); evaluate 1.0.5(2025-08-27); fastmap 1.2.0(2024-05-15); fs 1.6.6(2025-04-12); generics 0.1.4(2025-05-09); glue 1.8.0(2024-09-30); hms 1.1.4(2025-10-17); htmltools 0.5.8.1(2024-04-04); httr 1.4.7(2023-08-15); httr2 1.2.1(2025-07-22); igraph 2.2.1(2025-10-27); jsonlite 2.0.0(2025-03-27); knitr 1.50(2025-03-16); later 1.4.4(2025-08-27); lifecycle 1.0.4(2023-11-07); logger 0.4.1(2025-09-11); lubridate 1.9.4(2024-12-08); magrittr 2.0.4(2025-09-12); memoise 2.0.1(2021-11-26); OmnipathR 3.19.2(2025-11-20); otel 0.2.0(2025-08-29); pillar 1.11.1(2025-09-17); pkgconfig 2.0.3(2019-09-22); prettyunits 1.2.0(2023-09-24); processx 3.8.6(2025-02-21); progress 1.2.3(2023-12-06); promises 1.5.0(2025-11-01); ps 1.9.1(2025-04-12); purrr 1.2.0(2025-11-04); R.methodsS3 1.8.2(2022-06-13); R.oo 1.27.1(2025-05-02); R.utils 2.13.0(2025-02-24); R6 2.6.1(2025-02-15); rappdirs 0.3.3(2021-01-31); Rcpp 1.1.0(2025-07-02); readr 2.1.6(2025-11-14); readxl 1.4.5(2025-03-07); rlang 1.1.6(2025-04-11); rmarkdown 2.30(2025-09-28); RSQLite 2.4.4(2025-11-10); rvest 1.0.5(2025-08-29); sessioninfo 1.2.3(2025-02-05); stringi 1.8.7(2025-03-27); stringr 1.6.0(2025-11-04); tibble 3.3.0(2025-06-08); tidyr 1.3.1(2024-01-24); tidyselect 1.2.1(2024-03-11); timechange 0.3.0(2024-01-18); tzdb 0.5.0(2025-03-15); vctrs 0.6.5(2023-12-01); websocket 1.4.4(2025-04-10); withr 3.0.2(2024-10-28); xfun 0.54(2025-10-30); XML 3.99-0.20(2025-11-08); xml2 1.5.0(2025-11-17); yaml 2.3.10(2024-07-26); zip 2.3.3(2025-05-13) [2025-11-20 15:08:36] [INFO] [OmnipathR] CURL: version: 8.5.0; headers: 8.5.0; ssl_version: OpenSSL/3.0.13; libz_version: 1.3; libssh_version: libssh/0.10.6/openssl/zlib; libidn_version: 2.3.7; host: x86_64-pc-linux-gnu; protocols: dict, file, ftp, ftps, gopher, gophers, http, https, imap, imaps, ldap, ldaps, mqtt, pop3, pop3s, rtmp, rtmpe, rtmps, rtmpt, rtmpte, rtmpts, rtsp, scp, sftp, smb, smbs, smtp, smtps, telnet, tftp; ipv6: TRUE; http2: TRUE; idn: TRUE; url_parser: TRUE [2025-11-20 15:08:36] [TRACE] [OmnipathR] Running on a build server, wiping cache. [2025-11-20 15:08:36] [TRACE] [OmnipathR] Cache is at `/home/biocbuild/.cache/OmnipathR`. [2025-11-20 15:08:36] [TRACE] [OmnipathR] Contains 1 files. [2025-11-20 15:08:36] [TRACE] [OmnipathR] Cache is locked: FALSE. [2025-11-20 15:08:36] [TRACE] [OmnipathR] Reading JSON from `/home/biocbuild/.cache/OmnipathR/cache.json` (encoding: UTF-8). [2025-11-20 15:08:36] [TRACE] [OmnipathR] JSON validation successful: TRUE [2025-11-20 15:08:36] [SUCCESS] [OmnipathR] Removing all cache contents from `/home/biocbuild/.cache/OmnipathR`. [2025-11-20 15:08:36] [TRACE] [OmnipathR] Pandoc version: `2.7.3`. [2025-11-20 15:08:36] [TRACE] [OmnipathR] Reading JSON from `/home/biocbuild/bbs-3.23-bioc/R/site-library/OmnipathR/db/db_def.json` (encoding: UTF-8). [2025-11-20 15:08:36] [TRACE] [OmnipathR] JSON validation successful: TRUE [2025-11-20 15:08:36] [TRACE] [OmnipathR] Reading JSON from `/home/biocbuild/bbs-3.23-bioc/R/site-library/OmnipathR/internal/magic_bytes.json` (encoding: UTF-8). [2025-11-20 15:08:36] [TRACE] [OmnipathR] JSON validation successful: TRUE [2025-11-20 15:08:36] [TRACE] [OmnipathR] Reading JSON from `/home/biocbuild/bbs-3.23-bioc/R/site-library/OmnipathR/internal/urls.json` (encoding: UTF-8). [2025-11-20 15:08:36] [TRACE] [OmnipathR] JSON validation successful: TRUE [2025-11-20 15:08:36] [TRACE] [OmnipathR] Reading JSON from `/home/biocbuild/bbs-3.23-bioc/R/site-library/OmnipathR/internal/id_types.json` (encoding: UTF-8). [2025-11-20 15:08:36] [TRACE] [OmnipathR] JSON validation successful: TRUE [2025-11-20 15:08:36] [TRACE] [OmnipathR] Cache locked: FALSE ** testing if installed package keeps a record of temporary installation path * DONE (OmnipathR)
OmnipathR.Rcheck/tests/testthat.Rout
R Under development (unstable) (2025-10-20 r88955) -- "Unsuffered Consequences"
Copyright (C) 2025 The R Foundation for Statistical Computing
Platform: x86_64-pc-linux-gnu
R is free software and comes with ABSOLUTELY NO WARRANTY.
You are welcome to redistribute it under certain conditions.
Type 'license()' or 'licence()' for distribution details.
R is a collaborative project with many contributors.
Type 'contributors()' for more information and
'citation()' on how to cite R or R packages in publications.
Type 'demo()' for some demos, 'help()' for on-line help, or
'help.start()' for an HTML browser interface to help.
Type 'q()' to quit R.
> #!/usr/bin/env Rscript
>
> #
> # This file is part of the `OmnipathR` R package
> #
> # Copyright
> # 2018-2024
> # Saez Lab, Uniklinik RWTH Aachen, Heidelberg University
> #
> # File author(s): Alberto Valdeolivas
> # Dénes Türei (turei.denes@gmail.com)
> # Attila Gábor
> #
> # Distributed under the MIT (Expat) License.
> # See accompanying file `LICENSE` or find a copy at
> # https://directory.fsf.org/wiki/License:Expat
> #
> # Website: https://r.omnipathdb.org/
> # Git repo: https://github.com/saezlab/OmnipathR
> #
>
>
> library(testthat)
> library(OmnipathR)
[2025-11-21 02:32:16] [TRACE] [OmnipathR] Reading JSON from `/home/biocbuild/.cache/OmnipathR/cache.json` (encoding: UTF-8).
[2025-11-21 02:32:16] [TRACE] [OmnipathR] JSON validation successful: TRUE
[2025-11-21 02:32:16] [INFO] [OmnipathR] Initialized cache: `/home/biocbuild/.cache/OmnipathR`.
[2025-11-21 02:32:16] [INFO] [OmnipathR] Package `OmnipathR` packaged: NA
[2025-11-21 02:32:16] [INFO] [OmnipathR] Package `OmnipathR` date/publication: 2025-11-20
[2025-11-21 02:32:16] [INFO] [OmnipathR] Package `OmnipathR` built: R 4.6.0; ; 2025-11-20 20:08:19 UTC; unix
[2025-11-21 02:32:16] [INFO] [OmnipathR] Package `OmnipathR` version: 3.19.2
[2025-11-21 02:32:16] [INFO] [OmnipathR] Package `OmnipathR` repository: Bioconductor 3.23
[2025-11-21 02:32:17] [INFO] [OmnipathR] Session info: [version=R Under development (unstable) (2025-10-20 r88955); os=Ubuntu 24.04.3 LTS; system=x86_64, linux-gnu; ui=X11; language=C; collate=C; ctype=en_US.UTF-8; tz=America/New_York; date=2025-11-21; pandoc=2.7.3 @ /usr/bin/ (via rmarkdown); quarto=1.8.25 @ /usr/local/bin/quarto]
[2025-11-21 02:32:17] [INFO] [OmnipathR] External libraries: [cairo=1.18.0; cairoFT=; pango=1.52.1; png=1.6.43; jpeg=8.0; tiff=LIBTIFF, Version 4.5.1; tcl=8.6; curl=8.5.0; zlib=1.3; bzlib=1.0.8, 13-Jul-2019; xz=5.4.5; deflate=1.19; zstd=1.5.5; PCRE=10.42 2022-12-11; ICU=74.2; TRE=TRE 0.8.0 R_fixes (BSD); iconv=glibc 2.39; readline=8.2; BLAS=/home/biocbuild/bbs-3.23-bioc/R/lib/libRblas.so; lapack=/usr/lib/x86_64-linux-gnu/lapack/liblapack.so.3.12.0; lapack_version=3.12.0]
[2025-11-21 02:32:17] [INFO] [OmnipathR] Loaded packages: backports 1.5.0(2024-05-23); bit 4.6.0(2025-03-06); bit64 4.6.0-1(2025-01-16); blob 1.2.4(2023-03-17); brio 1.1.5(2024-04-24); cachem 1.1.0(2024-05-16); cellranger 1.1.0(2016-07-27); checkmate 2.3.3(2025-08-18); cli 3.6.5(2025-04-23); crayon 1.5.3(2024-06-20); curl 7.0.0(2025-08-19); DBI 1.2.3(2024-06-02); digest 0.6.39(2025-11-19); dplyr 1.1.4(2023-11-17); evaluate 1.0.5(2025-08-27); fastmap 1.2.0(2024-05-15); fs 1.6.6(2025-04-12); generics 0.1.4(2025-05-09); glue 1.8.0(2024-09-30); hms 1.1.4(2025-10-17); htmltools 0.5.8.1(2024-04-04); httr 1.4.7(2023-08-15); httr2 1.2.1(2025-07-22); igraph 2.2.1(2025-10-27); jsonlite 2.0.0(2025-03-27); knitr 1.50(2025-03-16); later 1.4.4(2025-08-27); lifecycle 1.0.4(2023-11-07); logger 0.4.1(2025-09-11); lubridate 1.9.4(2024-12-08); magrittr 2.0.4(2025-09-12); memoise 2.0.1(2021-11-26); OmnipathR 3.19.2(2025-11-20); pillar 1.11.1(2025-09-17); pkgconfig 2.0.3(2019-09-22); prettyunits 1.2.0(2023-09-24); progress 1.2.3(2023-12-06); purrr 1.2.0(2025-11-04); R.methodsS3 1.8.2(2022-06-13); R.oo 1.27.1(2025-05-02); R.utils 2.13.0(2025-02-24); R6 2.6.1(2025-02-15); rappdirs 0.3.3(2021-01-31); Rcpp 1.1.0(2025-07-02); readr 2.1.6(2025-11-14); readxl 1.4.5(2025-03-07); rlang 1.1.6(2025-04-11); rmarkdown 2.30(2025-09-28); RSQLite 2.4.4(2025-11-10); rvest 1.0.5(2025-08-29); sessioninfo 1.2.3(2025-02-05); stringi 1.8.7(2025-03-27); stringr 1.6.0(2025-11-04); testthat 3.3.0(2025-11-13); tibble 3.3.0(2025-06-08); tidyr 1.3.1(2024-01-24); tidyselect 1.2.1(2024-03-11); timechange 0.3.0(2024-01-18); tzdb 0.5.0(2025-03-15); vctrs 0.6.5(2023-12-01); withr 3.0.2(2024-10-28); xfun 0.54(2025-10-30); XML 3.99-0.20(2025-11-08); xml2 1.5.0(2025-11-17); yaml 2.3.10(2024-07-26); zip 2.3.3(2025-05-13)
[2025-11-21 02:32:17] [INFO] [OmnipathR] CURL: version: 8.5.0; headers: 8.5.0; ssl_version: OpenSSL/3.0.13; libz_version: 1.3; libssh_version: libssh/0.10.6/openssl/zlib; libidn_version: 2.3.7; host: x86_64-pc-linux-gnu; protocols: dict, file, ftp, ftps, gopher, gophers, http, https, imap, imaps, ldap, ldaps, mqtt, pop3, pop3s, rtmp, rtmpe, rtmps, rtmpt, rtmpte, rtmpts, rtsp, scp, sftp, smb, smbs, smtp, smtps, telnet, tftp; ipv6: TRUE; http2: TRUE; idn: TRUE; url_parser: TRUE
[2025-11-21 02:32:17] [TRACE] [OmnipathR] Running on a build server, wiping cache.
[2025-11-21 02:32:17] [TRACE] [OmnipathR] Cache is at `/home/biocbuild/.cache/OmnipathR`.
[2025-11-21 02:32:17] [TRACE] [OmnipathR] Contains 22 files.
[2025-11-21 02:32:17] [TRACE] [OmnipathR] Cache is locked: FALSE.
[2025-11-21 02:32:17] [TRACE] [OmnipathR] Reading JSON from `/home/biocbuild/.cache/OmnipathR/cache.json` (encoding: UTF-8).
[2025-11-21 02:32:17] [TRACE] [OmnipathR] JSON validation successful: TRUE
[2025-11-21 02:32:17] [SUCCESS] [OmnipathR] Removing all cache contents from `/home/biocbuild/.cache/OmnipathR`.
[2025-11-21 02:32:17] [TRACE] [OmnipathR] Pandoc version: `2.7.3`.
[2025-11-21 02:32:17] [TRACE] [OmnipathR] Reading JSON from `/home/biocbuild/bbs-3.23-bioc/R/site-library/OmnipathR/db/db_def.json` (encoding: UTF-8).
[2025-11-21 02:32:17] [TRACE] [OmnipathR] JSON validation successful: TRUE
[2025-11-21 02:32:17] [TRACE] [OmnipathR] Reading JSON from `/home/biocbuild/bbs-3.23-bioc/R/site-library/OmnipathR/internal/magic_bytes.json` (encoding: UTF-8).
[2025-11-21 02:32:17] [TRACE] [OmnipathR] JSON validation successful: TRUE
[2025-11-21 02:32:17] [TRACE] [OmnipathR] Reading JSON from `/home/biocbuild/bbs-3.23-bioc/R/site-library/OmnipathR/internal/urls.json` (encoding: UTF-8).
[2025-11-21 02:32:17] [TRACE] [OmnipathR] JSON validation successful: TRUE
[2025-11-21 02:32:17] [TRACE] [OmnipathR] Reading JSON from `/home/biocbuild/bbs-3.23-bioc/R/site-library/OmnipathR/internal/id_types.json` (encoding: UTF-8).
[2025-11-21 02:32:17] [TRACE] [OmnipathR] JSON validation successful: TRUE
[2025-11-21 02:32:17] [TRACE] [OmnipathR] Cache locked: FALSE
>
> test_check('OmnipathR')
[ FAIL 0 | WARN 12 | SKIP 0 | PASS 38 ]
[ FAIL 0 | WARN 12 | SKIP 0 | PASS 38 ]
>
> proc.time()
user system elapsed
45.814 2.804 81.445
OmnipathR.Rcheck/OmnipathR-Ex.timings
| name | user | system | elapsed | |
| OmnipathR | 0.001 | 0.000 | 0.001 | |
| all_uniprot_acs | 0.017 | 0.002 | 0.019 | |
| all_uniprots | 23.285 | 1.295 | 38.998 | |
| ancestors | 0.008 | 0.000 | 0.009 | |
| annotated_network | 1.451 | 0.164 | 4.849 | |
| annotation_categories | 79.388 | 0.053 | 81.042 | |
| annotation_resources | 0.121 | 0.007 | 0.693 | |
| annotations | 0.626 | 0.045 | 1.671 | |
| biomart_query | 1.209 | 0.095 | 4.116 | |
| bioplex1 | 0.009 | 0.000 | 0.008 | |
| bioplex2 | 0.006 | 0.002 | 0.008 | |
| bioplex3 | 0.007 | 0.001 | 0.008 | |
| bioplex_all | 0.007 | 0.002 | 0.008 | |
| bioplex_hct116_1 | 0.008 | 0.000 | 0.008 | |
| bma_motif_es | 0.732 | 0.075 | 1.718 | |
| bma_motif_vs | 0.324 | 0.012 | 0.938 | |
| chalmers_gem | 0.01 | 0.00 | 0.01 | |
| chalmers_gem_id_mapping_table | 0.008 | 0.002 | 0.009 | |
| chalmers_gem_id_type | 0.002 | 0.000 | 0.002 | |
| chalmers_gem_metabolites | 0.008 | 0.000 | 0.008 | |
| chalmers_gem_network | 0.006 | 0.002 | 0.008 | |
| chalmers_gem_raw | 0.007 | 0.001 | 0.008 | |
| chalmers_gem_reactions | 0.008 | 0.000 | 0.008 | |
| common_name | 0.125 | 0.005 | 0.129 | |
| complex_genes | 0.842 | 0.035 | 2.699 | |
| complex_resources | 0.178 | 0.006 | 0.860 | |
| complexes | 0.336 | 0.008 | 1.014 | |
| consensuspathdb_download | 0.000 | 0.000 | 0.001 | |
| consensuspathdb_raw_table | 0.008 | 0.001 | 0.009 | |
| cosmos_pkn | 0 | 0 | 0 | |
| curated_ligand_receptor_interactions | 6.961 | 0.704 | 17.501 | |
| curated_ligrec_stats | 42.241 | 2.650 | 119.620 | |
| database_summary | 1.442 | 0.068 | 2.929 | |
| descendants | 0.009 | 0.000 | 0.009 | |
| ensembl_dataset | 0.048 | 0.000 | 0.048 | |
| ensembl_id_mapping_table | 2.412 | 0.262 | 18.521 | |
| ensembl_id_type | 0.001 | 0.001 | 0.002 | |
| ensembl_name | 0.303 | 0.005 | 0.308 | |
| ensembl_organisms | 0.106 | 0.009 | 0.116 | |
| ensembl_organisms_raw | 0.096 | 0.010 | 0.107 | |
| ensembl_orthology | 0.000 | 0.000 | 0.001 | |
| enzsub_graph | 2.212 | 0.144 | 5.054 | |
| enzsub_resources | 0.109 | 0.007 | 0.900 | |
| enzyme_substrate | 1.104 | 0.029 | 1.882 | |
| evex_download | 0.007 | 0.001 | 0.009 | |
| evidences | 0 | 0 | 0 | |
| extra_attr_values | 12.095 | 1.421 | 16.152 | |
| extra_attrs | 7.385 | 1.325 | 8.736 | |
| extra_attrs_to_cols | 13.311 | 1.433 | 14.760 | |
| filter_by_resource | 16.825 | 0.555 | 28.302 | |
| filter_extra_attrs | 47.276 | 7.388 | 65.865 | |
| filter_intercell | 12.281 | 0.749 | 20.207 | |
| filter_intercell_network | 0.037 | 0.000 | 0.036 | |
| find_all_paths | 8.696 | 0.202 | 9.988 | |
| from_evidences | 0 | 0 | 0 | |
| get_db | 0.000 | 0.001 | 0.000 | |
| get_ontology_db | 0.01 | 0.00 | 0.01 | |
| giant_component | 10.085 | 0.710 | 13.709 | |
| go_annot_download | 18.733 | 1.203 | 23.069 | |
| go_annot_slim | 0.000 | 0.000 | 0.001 | |
| go_ontology_download | 0.020 | 0.001 | 0.022 | |
| guide2pharma_download | 0.019 | 0.001 | 0.021 | |
| harmonizome_download | 0.022 | 0.003 | 0.040 | |
| has_extra_attrs | 13.634 | 1.652 | 18.612 | |
| hmdb_id_mapping_table | 0.011 | 0.000 | 0.011 | |
| hmdb_id_type | 0.002 | 0.001 | 0.003 | |
| hmdb_metabolite_fields | 0.000 | 0.001 | 0.001 | |
| hmdb_protein_fields | 0 | 0 | 0 | |
| hmdb_table | 0.01 | 0.00 | 0.01 | |
| homologene_download | 0.009 | 0.001 | 0.010 | |
| homologene_raw | 0.065 | 0.005 | 0.070 | |
| homologene_uniprot_orthology | 0.009 | 0.002 | 0.011 | |
| hpo_download | 3.084 | 0.261 | 3.927 | |
| htridb_download | 0.009 | 0.000 | 0.009 | |
| id_translation_resources | 0.000 | 0.001 | 0.000 | |
| id_types | 0.039 | 0.003 | 0.041 | |
| inbiomap_download | 0 | 0 | 0 | |
| inbiomap_raw | 0 | 0 | 0 | |
| interaction_datasets | 0.708 | 0.020 | 1.119 | |
| interaction_graph | 0.536 | 0.012 | 1.231 | |
| interaction_resources | 0.155 | 0.007 | 0.831 | |
| interaction_types | 0.086 | 0.005 | 0.091 | |
| intercell | 1.669 | 0.182 | 4.292 | |
| intercell_categories | 1.326 | 0.155 | 2.216 | |
| intercell_consensus_filter | 2.709 | 0.189 | 6.269 | |
| intercell_generic_categories | 0.170 | 0.010 | 0.317 | |
| intercell_network | 0.018 | 0.004 | 0.025 | |
| intercell_resources | 0.193 | 0.010 | 1.057 | |
| intercell_summary | 0.190 | 0.034 | 0.474 | |
| is_ontology_id | 0.000 | 0.001 | 0.000 | |
| is_swissprot | 0.136 | 0.008 | 0.284 | |
| is_trembl | 0.251 | 0.009 | 0.519 | |
| is_uniprot | 0.026 | 0.003 | 0.055 | |
| kegg_api_templates | 0.005 | 0.002 | 0.013 | |
| kegg_conv | 4.413 | 0.301 | 16.233 | |
| kegg_databases | 0.000 | 0.001 | 0.001 | |
| kegg_ddi | 1.797 | 0.103 | 3.134 | |
| kegg_find | 0.747 | 0.088 | 2.257 | |
| kegg_info | 0.008 | 0.001 | 0.009 | |
| kegg_link | 1.090 | 0.059 | 7.151 | |
| kegg_list | 1.364 | 0.068 | 2.907 | |
| kegg_open | 0.015 | 0.002 | 0.017 | |
| kegg_operations | 0.000 | 0.000 | 0.001 | |
| kegg_organism_codes | 0.021 | 0.113 | 0.133 | |
| kegg_organisms | 0.035 | 0.007 | 0.042 | |
| kegg_pathway_annotations | 0.000 | 0.000 | 0.001 | |
| kegg_pathway_download | 0.014 | 0.003 | 0.018 | |
| kegg_pathway_list | 0.015 | 0.001 | 0.016 | |
| kegg_pathways_download | 0 | 0 | 0 | |
| kegg_picture | 2.701 | 0.121 | 9.820 | |
| kegg_process | 0.050 | 0.003 | 0.106 | |
| kegg_query | 0.020 | 0.002 | 0.042 | |
| kegg_request | 0.165 | 0.009 | 0.347 | |
| kegg_rm_prefix | 1.825 | 0.106 | 8.326 | |
| kinasephos | 1.943 | 0.245 | 19.508 | |
| latin_name | 0.324 | 0.013 | 0.336 | |
| load_db | 0.131 | 0.018 | 0.149 | |
| metalinksdb_sqlite | 2.088 | 0.300 | 13.757 | |
| metalinksdb_table | 0.383 | 0.040 | 0.502 | |
| metalinksdb_tables | 0.030 | 0.005 | 0.034 | |
| ncbi_taxid | 0.468 | 0.025 | 0.690 | |
| nichenet_build_model | 0.001 | 0.000 | 0.000 | |
| nichenet_expression_data | 0.020 | 0.002 | 0.026 | |
| nichenet_gr_network | 0.053 | 0.005 | 0.077 | |
| nichenet_gr_network_evex | 0.015 | 0.002 | 0.016 | |
| nichenet_gr_network_harmonizome | 0.016 | 0.001 | 0.018 | |
| nichenet_gr_network_htridb | 0.020 | 0.001 | 0.042 | |
| nichenet_gr_network_omnipath | 29.527 | 1.447 | 46.087 | |
| nichenet_gr_network_pathwaycommons | 0.018 | 0.002 | 0.019 | |
| nichenet_gr_network_regnetwork | 0.014 | 0.004 | 0.018 | |
| nichenet_gr_network_remap | 0.017 | 0.002 | 0.019 | |
| nichenet_gr_network_trrust | 0.019 | 0.000 | 0.019 | |
| nichenet_ligand_activities | 0.000 | 0.001 | 0.001 | |
| nichenet_ligand_target_links | 0.000 | 0.001 | 0.001 | |
| nichenet_ligand_target_matrix | 0.001 | 0.000 | 0.001 | |
| nichenet_lr_network | 0.050 | 0.004 | 0.054 | |
| nichenet_lr_network_guide2pharma | 0.013 | 0.004 | 0.018 | |
| nichenet_lr_network_omnipath | 0.050 | 0.004 | 0.054 | |
| nichenet_lr_network_ramilowski | 0.018 | 0.001 | 0.018 | |
| nichenet_main | 0.000 | 0.001 | 0.001 | |
| nichenet_networks | 0.206 | 0.007 | 0.213 | |
| nichenet_optimization | 0 | 0 | 0 | |
| nichenet_remove_orphan_ligands | 0.044 | 0.004 | 0.047 | |
| nichenet_results_dir | 0.000 | 0.000 | 0.001 | |
| nichenet_signaling_network | 0.040 | 0.007 | 0.047 | |
| nichenet_signaling_network_cpdb | 0.016 | 0.000 | 0.015 | |
| nichenet_signaling_network_evex | 0.012 | 0.002 | 0.015 | |
| nichenet_signaling_network_harmonizome | 0.017 | 0.001 | 0.017 | |
| nichenet_signaling_network_inbiomap | 0.000 | 0.000 | 0.001 | |
| nichenet_signaling_network_omnipath | 17.502 | 0.807 | 24.663 | |
| nichenet_signaling_network_pathwaycommons | 0.010 | 0.001 | 0.010 | |
| nichenet_signaling_network_vinayagam | 0.007 | 0.001 | 0.009 | |
| nichenet_test | 0.001 | 0.000 | 0.001 | |
| nichenet_workarounds | 0.000 | 0.000 | 0.001 | |
| obo_parser | 0.231 | 0.030 | 0.569 | |
| oma_code | 0.170 | 0.004 | 0.174 | |
| oma_organisms | 0.132 | 0.010 | 0.143 | |
| oma_pairwise | 0.015 | 0.001 | 0.016 | |
| oma_pairwise_genesymbols | 0.015 | 0.002 | 0.017 | |
| oma_pairwise_translated | 0.015 | 0.002 | 0.017 | |
| omnipath-interactions | 33.412 | 1.651 | 64.287 | |
| omnipath_cache_autoclean | 0 | 0 | 0 | |
| omnipath_cache_clean | 0.005 | 0.001 | 0.008 | |
| omnipath_cache_clean_db | 0.082 | 0.015 | 0.097 | |
| omnipath_cache_download_ready | 0.523 | 0.056 | 0.616 | |
| omnipath_cache_filter_versions | 0.124 | 0.011 | 0.151 | |
| omnipath_cache_get | 0.069 | 0.004 | 0.074 | |
| omnipath_cache_key | 0.001 | 0.000 | 0.001 | |
| omnipath_cache_latest_or_new | 0.046 | 0.007 | 0.052 | |
| omnipath_cache_load | 0.734 | 0.021 | 3.696 | |
| omnipath_cache_move_in | 0.140 | 0.020 | 0.175 | |
| omnipath_cache_remove | 0.125 | 0.008 | 0.148 | |
| omnipath_cache_save | 0.176 | 0.017 | 0.332 | |
| omnipath_cache_search | 0.000 | 0.000 | 0.001 | |
| omnipath_cache_set_ext | 0.062 | 0.018 | 0.094 | |
| omnipath_cache_update_status | 0.074 | 0.008 | 0.082 | |
| omnipath_cache_wipe | 0.000 | 0.000 | 0.001 | |
| omnipath_config_path | 0.000 | 0.000 | 0.001 | |
| omnipath_for_cosmos | 13.183 | 0.419 | 33.500 | |
| omnipath_load_config | 0.000 | 0.000 | 0.001 | |
| omnipath_log | 0 | 0 | 0 | |
| omnipath_logfile | 0.002 | 0.000 | 0.002 | |
| omnipath_msg | 0.005 | 0.000 | 0.006 | |
| omnipath_query | 3.840 | 0.071 | 3.907 | |
| omnipath_reset_config | 0 | 0 | 0 | |
| omnipath_save_config | 0 | 0 | 0 | |
| omnipath_set_cachedir | 0.017 | 0.006 | 0.023 | |
| omnipath_set_console_loglevel | 0.004 | 0.001 | 0.004 | |
| omnipath_set_logfile_loglevel | 0.004 | 0.000 | 0.004 | |
| omnipath_set_loglevel | 0.002 | 0.001 | 0.002 | |
| omnipath_show_db | 0.059 | 0.006 | 0.065 | |
| omnipath_unlock_cache_db | 0.000 | 0.000 | 0.001 | |
| only_from | 0.001 | 0.000 | 0.001 | |
| ontology_ensure_id | 0.001 | 0.000 | 0.001 | |
| ontology_ensure_name | 0.001 | 0.000 | 0.001 | |
| ontology_name_id | 0.001 | 0.001 | 0.001 | |
| organism_for | 0.177 | 0.003 | 0.179 | |
| pathwaycommons_download | 0.001 | 0.000 | 0.001 | |
| pivot_annotations | 14.847 | 0.984 | 25.162 | |
| preppi_download | 0.001 | 0.001 | 0.001 | |
| preppi_filter | 0.001 | 0.000 | 0.001 | |
| print_bma_motif_es | 0.633 | 0.091 | 1.595 | |
| print_bma_motif_vs | 0.213 | 0.006 | 0.867 | |
| print_interactions | 10.424 | 0.508 | 15.941 | |
| print_path_es | 2.286 | 0.202 | 4.238 | |
| print_path_vs | 3.884 | 0.224 | 7.482 | |
| pubmed_open | 6.661 | 0.160 | 7.514 | |
| query_info | 0.543 | 0.013 | 0.786 | |
| ramilowski_download | 0.000 | 0.001 | 0.001 | |
| ramp_id_mapping_table | 0.001 | 0.000 | 0.001 | |
| ramp_id_type | 0.002 | 0.000 | 0.002 | |
| ramp_sqlite | 0.000 | 0.001 | 0.001 | |
| ramp_table | 0.001 | 0.000 | 0.001 | |
| ramp_tables | 0.000 | 0.001 | 0.001 | |
| recon3d | 0.000 | 0.002 | 0.002 | |
| recon3d_raw | 0.000 | 0.000 | 0.001 | |
| recon3d_raw_vmh | 0.001 | 0.000 | 0.000 | |
| regnetwork_directions | 0.000 | 0.001 | 0.001 | |
| regnetwork_download | 0.001 | 0.000 | 0.000 | |
| relations_list_to_table | 0.152 | 0.027 | 0.711 | |
| relations_table_to_graph | 0.000 | 0.000 | 0.001 | |
| relations_table_to_list | 0.059 | 0.010 | 0.119 | |
| remap_dorothea_download | 0.001 | 0.000 | 0.000 | |
| remap_filtered | 0 | 0 | 0 | |
| remap_tf_target_download | 0.000 | 0.001 | 0.000 | |
| resource_info | 0.697 | 0.090 | 0.988 | |
| resources | 0.158 | 0.007 | 1.024 | |
| resources_colname | 1.902 | 0.046 | 5.018 | |
| resources_in | 6.025 | 0.220 | 7.140 | |
| show_network | 0.001 | 0.000 | 0.000 | |
| signed_ptms | 5.110 | 0.121 | 5.845 | |
| simplify_intercell_network | 0.002 | 0.000 | 0.002 | |
| static_table | 5.696 | 0.271 | 6.592 | |
| static_tables | 0.045 | 0.002 | 0.056 | |
| stitch_actions | 0.000 | 0.001 | 0.001 | |
| stitch_links | 0.000 | 0.001 | 0.000 | |
| stitch_network | 0 | 0 | 0 | |
| stitch_remove_prefixes | 0.005 | 0.002 | 0.007 | |
| swap_relations | 0.075 | 0.016 | 0.138 | |
| swissprots_only | 0.133 | 0.003 | 0.136 | |
| tfcensus_download | 0.635 | 0.019 | 0.815 | |
| translate_ids | 1.211 | 0.037 | 10.717 | |
| translate_ids_multi | 8.227 | 0.335 | 25.642 | |
| trembls_only | 0.133 | 0.003 | 0.136 | |
| trrust_download | 0.001 | 0.000 | 0.001 | |
| uniprot_full_id_mapping_table | 0.914 | 0.054 | 12.264 | |
| uniprot_genesymbol_cleanup | 0 | 0 | 0 | |
| uniprot_id_mapping_table | 0.001 | 0.000 | 0.001 | |
| uniprot_id_type | 0.002 | 0.000 | 0.002 | |
| uniprot_idmapping_id_types | 0.471 | 0.022 | 1.085 | |
| uniprot_organisms | 19.750 | 0.965 | 24.337 | |
| unique_intercell_network | 0.000 | 0.001 | 0.001 | |
| unnest_evidences | 0.000 | 0.001 | 0.000 | |
| uploadlists_id_type | 0.002 | 0.000 | 0.002 | |
| vinayagam_download | 0.000 | 0.000 | 0.001 | |
| walk_ontology_tree | 0.000 | 0.001 | 0.002 | |
| with_extra_attrs | 12.664 | 1.431 | 17.156 | |
| with_references | 0.948 | 0.061 | 2.763 | |
| zenodo_download | 0.002 | 0.000 | 0.001 | |