| Back to Multiple platform build/check report for BioC 3.23: simplified long |
|
This page was generated on 2025-11-21 11:39 -0500 (Fri, 21 Nov 2025).
| Hostname | OS | Arch (*) | R version | Installed pkgs |
|---|---|---|---|---|
| nebbiolo1 | Linux (Ubuntu 24.04.3 LTS) | x86_64 | R Under development (unstable) (2025-10-20 r88955) -- "Unsuffered Consequences" | 4829 |
| lconway | macOS 12.7.6 Monterey | x86_64 | R Under development (unstable) (2025-10-21 r88958) -- "Unsuffered Consequences" | 4602 |
| kjohnson3 | macOS 13.7.7 Ventura | arm64 | R Under development (unstable) (2025-11-04 r88984) -- "Unsuffered Consequences" | 4566 |
| Click on any hostname to see more info about the system (e.g. compilers) (*) as reported by 'uname -p', except on Windows and Mac OS X | ||||
| Package 1487/2327 | Hostname | OS / Arch | INSTALL | BUILD | CHECK | BUILD BIN | ||||||||
| OmnipathR 3.19.2 (landing page) Denes Turei
| nebbiolo1 | Linux (Ubuntu 24.04.3 LTS) / x86_64 | OK | OK | OK | |||||||||
| lconway | macOS 12.7.6 Monterey / x86_64 | OK | OK | OK | OK | |||||||||
| kjohnson3 | macOS 13.7.7 Ventura / arm64 | OK | OK | OK | OK | |||||||||
|
To the developers/maintainers of the OmnipathR package: - Allow up to 24 hours (and sometimes 48 hours) for your latest push to git@git.bioconductor.org:packages/OmnipathR.git to reflect on this report. See Troubleshooting Build Report for more information. - Use the following Renviron settings to reproduce errors and warnings. - If 'R CMD check' started to fail recently on the Linux builder(s) over a missing dependency, add the missing dependency to 'Suggests:' in your DESCRIPTION file. See Renviron.bioc for more information. |
| Package: OmnipathR |
| Version: 3.19.2 |
| Command: /Library/Frameworks/R.framework/Resources/bin/R CMD check --install=check:OmnipathR.install-out.txt --library=/Library/Frameworks/R.framework/Resources/library --no-vignettes --timings OmnipathR_3.19.2.tar.gz |
| StartedAt: 2025-11-20 21:27:39 -0500 (Thu, 20 Nov 2025) |
| EndedAt: 2025-11-20 21:42:18 -0500 (Thu, 20 Nov 2025) |
| EllapsedTime: 879.5 seconds |
| RetCode: 0 |
| Status: OK |
| CheckDir: OmnipathR.Rcheck |
| Warnings: 0 |
##############################################################################
##############################################################################
###
### Running command:
###
### /Library/Frameworks/R.framework/Resources/bin/R CMD check --install=check:OmnipathR.install-out.txt --library=/Library/Frameworks/R.framework/Resources/library --no-vignettes --timings OmnipathR_3.19.2.tar.gz
###
##############################################################################
##############################################################################
* using log directory ‘/Users/biocbuild/bbs-3.23-bioc/meat/OmnipathR.Rcheck’
* using R Under development (unstable) (2025-11-04 r88984)
* using platform: aarch64-apple-darwin20
* R was compiled by
Apple clang version 16.0.0 (clang-1600.0.26.6)
GNU Fortran (GCC) 14.2.0
* running under: macOS Ventura 13.7.8
* using session charset: UTF-8
* using option ‘--no-vignettes’
* checking for file ‘OmnipathR/DESCRIPTION’ ... OK
* checking extension type ... Package
* this is package ‘OmnipathR’ version ‘3.19.2’
* package encoding: UTF-8
* checking package namespace information ... OK
* checking package dependencies ... INFO
Imports includes 35 non-default packages.
Importing from so many packages makes the package vulnerable to any of
them becoming unavailable. Move as many as possible to Suggests and
use conditionally.
* checking if this is a source package ... OK
* checking if there is a namespace ... OK
* checking for hidden files and directories ... OK
* checking for portable file names ... OK
* checking for sufficient/correct file permissions ... OK
* checking whether package ‘OmnipathR’ can be installed ... OK
* checking installed package size ... OK
* checking package directory ... OK
* checking DESCRIPTION meta-information ... OK
* checking top-level files ... OK
* checking for left-over files ... OK
* checking index information ... OK
* checking package subdirectories ... OK
* checking code files for non-ASCII characters ... OK
* checking R files for syntax errors ... OK
* checking whether the package can be loaded ... OK
* checking whether the package can be loaded with stated dependencies ... OK
* checking whether the package can be unloaded cleanly ... OK
* checking whether the namespace can be loaded with stated dependencies ... OK
* checking whether the namespace can be unloaded cleanly ... OK
* checking whether startup messages can be suppressed ... NOTE
[2025-11-20 21:27:56] [TRACE] [OmnipathR] Reading JSON from `/Users/biocbuild/Library/Caches/OmnipathR/cache.json` (encoding: UTF-8).
[2025-11-20 21:27:56] [TRACE] [OmnipathR] JSON validation successful: TRUE
[2025-11-20 21:27:56] [INFO] [OmnipathR] Initialized cache: `/Users/biocbuild/Library/Caches/OmnipathR`.
[2025-11-20 21:27:56] [INFO] [OmnipathR] Package `OmnipathR` packaged: NA
[2025-11-20 21:27:56] [INFO] [OmnipathR] Package `OmnipathR` date/publication: 2025-11-20
[2025-11-20 21:27:56] [INFO] [OmnipathR] Package `OmnipathR` built: R 4.6.0; ; 2025-11-20 20:05:04 UTC; unix
[2025-11-20 21:27:56] [INFO] [OmnipathR] Package `OmnipathR` version: 3.19.2
[2025-11-20 21:27:56] [INFO] [OmnipathR] Package `OmnipathR` repository: Bioconductor 3.23
[2025-11-20 21:27:56] [INFO] [OmnipathR] Session info: [version=R Under development (unstable) (2025-11-04 r88984); os=macOS Ventura 13.7.8; system=aarch64, darwin20; ui=X11; language=(EN); collate=C; ctype=en_US.UTF-8; tz=America/New_York; date=2025-11-20; pandoc=3.1.12.3 @ /opt/homebrew/bin/ (via rmarkdown); quarto=1.7.32 @ /usr/local/bin/quarto]
[2025-11-20 21:27:56] [INFO] [OmnipathR] External libraries: [cairo=1.17.6; cairoFT=; pango=1.50.14; png=1.6.44; jpeg=9.5; tiff=LIBTIFF, Version 4.5.0; tcl=8.6; curl=8.7.1; zlib=1.2.11; bzlib=1.0.8, 13-Jul-2019; xz=5.6.3; deflate=1.23; zstd=1.5.5; PCRE=10.44 2024-06-07; ICU=70.2; TRE=TRE 0.8.0 R_fixes (BSD); iconv=Apple or GNU libiconv 1.11 /Library/Frameworks/R.framework/Versions/4.6-arm64/Resources/lib/libR.dylib; readline=5.2; BLAS=/System/Library/Frameworks/Accelerate.framework/Versions/A/Frameworks/vecLib.framework/Versions/A/libBLAS.dylib; lapack=/Library/Frameworks/R.framework/Versions/4.6-arm64/Resources/lib/libRlapack.dylib; lapack_version=3.12.1]
[2025-11-20 21:27:56] [INFO] [OmnipathR] Loaded packages: backports 1.5.0(2024-05-23); bit 4.6.0(2025-03-06); bit64 4.6.0-1(2025-01-16); blob 1.2.4(2023-03-17); cachem 1.1.0(2024-05-16); cellranger 1.1.0(2016-07-27); checkmate 2.3.3(2025-08-18); chromote 0.5.1(2025-04-24); cli 3.6.5(2025-04-23); crayon 1.5.3(2024-06-20); curl 7.0.0(2025-08-19); DBI 1.2.3(2024-06-02); digest 0.6.39(2025-11-19); dplyr 1.1.4(2023-11-17); evaluate 1.0.5(2025-08-27); fastmap 1.2.0(2024-05-15); fs 1.6.6(2025-04-12); generics 0.1.4(2025-05-09); glue 1.8.0(2024-09-30); hms 1.1.4(2025-10-17); htmltools 0.5.8.1(2024-04-04); httr 1.4.7(2023-08-15); httr2 1.2.1(2025-07-22); igraph 2.2.1(2025-10-27); jsonlite 2.0.0(2025-03-27); knitr 1.50(2025-03-16); later 1.4.4(2025-08-27); lifecycle 1.0.4(2023-11-07); logger 0.4.1(2025-09-11); lubridate 1.9.4(2024-12-08); magrittr 2.0.4(2025-09-12); memoise 2.0.1(2021-11-26); OmnipathR 3.19.2(2025-11-20); otel 0.2.0(2025-08-29); pillar 1.11.1(2025-09-17); pkgconfig 2.0.3(2019-09-22); prettyunits 1.2.0(2023-09-24); processx 3.8.6(2025-02-21); progress 1.2.3(2023-12-06); promises 1.5.0(2025-11-01); ps 1.9.1(2025-04-12); purrr 1.2.0(2025-11-04); R.methodsS3 1.8.2(2022-06-13); R.oo 1.27.1(2025-05-02); R.utils 2.13.0(2025-02-24); R6 2.6.1(2025-02-15); rappdirs 0.3.3(2021-01-31); Rcpp 1.1.0(2025-07-02); readr 2.1.6(2025-11-14); readxl 1.4.5(2025-03-07); rlang 1.1.6(2025-04-11); rmarkdown 2.30(2025-09-28); RSQLite 2.4.4(2025-11-10); rvest 1.0.5(2025-08-29); sessioninfo 1.2.3(2025-02-05); stringi 1.8.7(2025-03-27); stringr 1.6.0(2025-11-04); tibble 3.3.0(2025-06-08); tidyr 1.3.1(2024-01-24); tidyselect 1.2.1(2024-03-11); timechange 0.3.0(2024-01-18); tzdb 0.5.0(2025-03-15); vctrs 0.6.5(2023-12-01); websocket 1.4.4(2025-04-10); withr 3.0.2(2024-10-28); xfun 0.54(2025-10-30); XML 3.99-0.20(2025-11-08); xml2 1.5.0(2025-11-17); yaml 2.3.10(2024-07-26); zip 2.3.3(2025-05-13)
[2025-11-20 21:27:56] [INFO] [OmnipathR] CURL: version: 8.14.1; headers: 8.14.1; ssl_version: LibreSSL/3.3.6 (SecureTransport); libz_version: 1.2.11; libssh_version: NA; libidn_version: NA; host: aarch64-apple-darwin23.6.0; protocols: dict, file, ftp, ftps, gopher, gophers, http, https, imap, imaps, ldap, ldaps, mqtt, pop3, pop3s, rtsp, smb, smbs, smtp, smtps, telnet, tftp, ws, wss; ipv6: TRUE; http2: TRUE; idn: FALSE; url_parser: TRUE
[2025-11-20 21:27:56] [TRACE] [OmnipathR] Running on a build server, wiping cache.
[2025-11-20 21:27:56] [TRACE] [OmnipathR] Cache is at `/Users/biocbuild/Library/Caches/OmnipathR`.
[2025-11-20 21:27:56] [TRACE] [OmnipathR] Contains 1 files.
[2025-11-20 21:27:56] [TRACE] [OmnipathR] Cache is locked: FALSE.
[2025-11-20 21:27:56] [TRACE] [OmnipathR] Reading JSON from `/Users/biocbuild/Library/Caches/OmnipathR/cache.json` (encoding: UTF-8).
[2025-11-20 21:27:56] [TRACE] [OmnipathR] JSON validation successful: TRUE
[2025-11-20 21:27:56] [SUCCESS] [OmnipathR] Removing all cache contents from `/Users/biocbuild/Library/Caches/OmnipathR`.
[2025-11-20 21:27:56] [TRACE] [OmnipathR] Pandoc version: `3.1.12.3`.
[2025-11-20 21:27:56] [TRACE] [OmnipathR] Reading JSON from `/Library/Frameworks/R.framework/Versions/4.6-arm64/Resources/library/OmnipathR/db/db_def.json` (encoding: UTF-8).
[2025-11-20 21:27:56] [TRACE] [OmnipathR] JSON validation successful: TRUE
[2025-11-20 21:27:56] [TRACE] [OmnipathR] Reading JSON from `/Library/Frameworks/R.framework/Versions/4.6-arm64/Resources/library/OmnipathR/internal/magic_bytes.json` (encoding: UTF-8).
[2025-11-20 21:27:56] [TRACE] [OmnipathR] JSON validation successful: TRUE
[2025-11-20 21:27:56] [TRACE] [OmnipathR] Reading JSON from `/Library/Frameworks/R.framework/Versions/4.6-arm64/Resources/library/OmnipathR/internal/urls.json` (encoding: UTF-8).
[2025-11-20 21:27:56] [TRACE] [OmnipathR] JSON validation successful: TRUE
[2025-11-20 21:27:56] [TRACE] [OmnipathR] Reading JSON from `/Library/Frameworks/R.framework/Versions/4.6-arm64/Resources/library/OmnipathR/internal/id_types.json` (encoding: UTF-8).
[2025-11-20 21:27:56] [TRACE] [OmnipathR] JSON validation successful: TRUE
[2025-11-20 21:27:56] [TRACE] [OmnipathR] Cache locked: FALSE
It looks like this package (or a package it requires) has a startup
message which cannot be suppressed: see ?packageStartupMessage.
* checking dependencies in R code ... OK
* checking S3 generic/method consistency ... OK
* checking replacement functions ... OK
* checking foreign function calls ... OK
* checking R code for possible problems ... NOTE
[2025-11-20 21:28:09] [TRACE] [OmnipathR] Reading JSON from `/Users/biocbuild/Library/Caches/OmnipathR/cache.json` (encoding: UTF-8).
[2025-11-20 21:28:09] [TRACE] [OmnipathR] JSON validation successful: TRUE
[2025-11-20 21:28:09] [INFO] [OmnipathR] Initialized cache: `/Users/biocbuild/Library/Caches/OmnipathR`.
[2025-11-20 21:28:09] [INFO] [OmnipathR] Package `OmnipathR` packaged: NA
[2025-11-20 21:28:09] [INFO] [OmnipathR] Package `OmnipathR` date/publication: 2025-11-20
[2025-11-20 21:28:09] [INFO] [OmnipathR] Package `OmnipathR` built: R 4.6.0; ; 2025-11-20 20:05:04 UTC; unix
[2025-11-20 21:28:09] [INFO] [OmnipathR] Package `OmnipathR` version: 3.19.2
[2025-11-20 21:28:09] [INFO] [OmnipathR] Package `OmnipathR` repository: Bioconductor 3.23
[2025-11-20 21:28:09] [INFO] [OmnipathR] Session info: [version=R Under development (unstable) (2025-11-04 r88984); os=macOS Ventura 13.7.8; system=aarch64, darwin20; ui=X11; language=(EN); collate=C; ctype=en_US.UTF-8; tz=America/New_York; date=2025-11-20; pandoc=3.1.12.3 @ /opt/homebrew/bin/ (via rmarkdown); quarto=1.7.32 @ /usr/local/bin/quarto]
[2025-11-20 21:28:09] [INFO] [OmnipathR] External libraries: [cairo=1.17.6; cairoFT=; pango=1.50.14; png=1.6.44; jpeg=9.5; tiff=LIBTIFF, Version 4.5.0; tcl=8.6; curl=8.7.1; zlib=1.2.11; bzlib=1.0.8, 13-Jul-2019; xz=5.6.3; deflate=1.23; zstd=1.5.5; PCRE=10.44 2024-06-07; ICU=70.2; TRE=TRE 0.8.0 R_fixes (BSD); iconv=Apple or GNU libiconv 1.11 /Library/Frameworks/R.framework/Versions/4.6-arm64/Resources/lib/libR.dylib; readline=5.2; BLAS=/System/Library/Frameworks/Accelerate.framework/Versions/A/Frameworks/vecLib.framework/Versions/A/libBLAS.dylib; lapack=/Library/Frameworks/R.framework/Versions/4.6-arm64/Resources/lib/libRlapack.dylib; lapack_version=3.12.1]
[2025-11-20 21:28:10] [INFO] [OmnipathR] Loaded packages: backports 1.5.0(2024-05-23); bit 4.6.0(2025-03-06); bit64 4.6.0-1(2025-01-16); blob 1.2.4(2023-03-17); cachem 1.1.0(2024-05-16); cellranger 1.1.0(2016-07-27); checkmate 2.3.3(2025-08-18); chromote 0.5.1(2025-04-24); cli 3.6.5(2025-04-23); crayon 1.5.3(2024-06-20); curl 7.0.0(2025-08-19); DBI 1.2.3(2024-06-02); digest 0.6.39(2025-11-19); dplyr 1.1.4(2023-11-17); evaluate 1.0.5(2025-08-27); fastmap 1.2.0(2024-05-15); fs 1.6.6(2025-04-12); generics 0.1.4(2025-05-09); glue 1.8.0(2024-09-30); hms 1.1.4(2025-10-17); htmltools 0.5.8.1(2024-04-04); httr 1.4.7(2023-08-15); httr2 1.2.1(2025-07-22); igraph 2.2.1(2025-10-27); jsonlite 2.0.0(2025-03-27); knitr 1.50(2025-03-16); later 1.4.4(2025-08-27); lifecycle 1.0.4(2023-11-07); logger 0.4.1(2025-09-11); lubridate 1.9.4(2024-12-08); magrittr 2.0.4(2025-09-12); memoise 2.0.1(2021-11-26); OmnipathR 3.19.2(2025-11-20); otel 0.2.0(2025-08-29); pillar 1.11.1(2025-09-17); pkgconfig 2.0.3(2019-09-22); prettyunits 1.2.0(2023-09-24); processx 3.8.6(2025-02-21); progress 1.2.3(2023-12-06); promises 1.5.0(2025-11-01); ps 1.9.1(2025-04-12); purrr 1.2.0(2025-11-04); R.methodsS3 1.8.2(2022-06-13); R.oo 1.27.1(2025-05-02); R.utils 2.13.0(2025-02-24); R6 2.6.1(2025-02-15); rappdirs 0.3.3(2021-01-31); Rcpp 1.1.0(2025-07-02); readr 2.1.6(2025-11-14); readxl 1.4.5(2025-03-07); rlang 1.1.6(2025-04-11); rmarkdown 2.30(2025-09-28); RSQLite 2.4.4(2025-11-10); rvest 1.0.5(2025-08-29); sessioninfo 1.2.3(2025-02-05); stringi 1.8.7(2025-03-27); stringr 1.6.0(2025-11-04); tibble 3.3.0(2025-06-08); tidyr 1.3.1(2024-01-24); tidyselect 1.2.1(2024-03-11); timechange 0.3.0(2024-01-18); tzdb 0.5.0(2025-03-15); vctrs 0.6.5(2023-12-01); websocket 1.4.4(2025-04-10); withr 3.0.2(2024-10-28); xfun 0.54(2025-10-30); XML 3.99-0.20(2025-11-08); xml2 1.5.0(2025-11-17); yaml 2.3.10(2024-07-26); zip 2.3.3(2025-05-13)
[2025-11-20 21:28:10] [INFO] [OmnipathR] CURL: version: 8.14.1; headers: 8.14.1; ssl_version: LibreSSL/3.3.6 (SecureTransport); libz_version: 1.2.11; libssh_version: NA; libidn_version: NA; host: aarch64-apple-darwin23.6.0; protocols: dict, file, ftp, ftps, gopher, gophers, http, https, imap, imaps, ldap, ldaps, mqtt, pop3, pop3s, rtsp, smb, smbs, smtp, smtps, telnet, tftp, ws, wss; ipv6: TRUE; http2: TRUE; idn: FALSE; url_parser: TRUE
[2025-11-20 21:28:10] [TRACE] [OmnipathR] Running on a build server, wiping cache.
[2025-11-20 21:28:10] [TRACE] [OmnipathR] Cache is at `/Users/biocbuild/Library/Caches/OmnipathR`.
[2025-11-20 21:28:10] [TRACE] [OmnipathR] Contains 1 files.
[2025-11-20 21:28:10] [TRACE] [OmnipathR] Cache is locked: FALSE.
[2025-11-20 21:28:10] [TRACE] [OmnipathR] Reading JSON from `/Users/biocbuild/Library/Caches/OmnipathR/cache.json` (encoding: UTF-8).
[2025-11-20 21:28:10] [TRACE] [OmnipathR] JSON validation successful: TRUE
[2025-11-20 21:28:10] [SUCCESS] [OmnipathR] Removing all cache contents from `/Users/biocbuild/Library/Caches/OmnipathR`.
[2025-11-20 21:28:10] [TRACE] [OmnipathR] Pandoc version: `3.1.12.3`.
[2025-11-20 21:28:10] [TRACE] [OmnipathR] Reading JSON from `/Library/Frameworks/R.framework/Versions/4.6-arm64/Resources/library/OmnipathR/db/db_def.json` (encoding: UTF-8).
[2025-11-20 21:28:10] [TRACE] [OmnipathR] JSON validation successful: TRUE
[2025-11-20 21:28:10] [TRACE] [OmnipathR] Reading JSON from `/Library/Frameworks/R.framework/Versions/4.6-arm64/Resources/library/OmnipathR/internal/magic_bytes.json` (encoding: UTF-8).
[2025-11-20 21:28:10] [TRACE] [OmnipathR] JSON validation successful: TRUE
[2025-11-20 21:28:10] [TRACE] [OmnipathR] Reading JSON from `/Library/Frameworks/R.framework/Versions/4.6-arm64/Resources/library/OmnipathR/internal/urls.json` (encoding: UTF-8).
[2025-11-20 21:28:10] [TRACE] [OmnipathR] JSON validation successful: TRUE
[2025-11-20 21:28:10] [TRACE] [OmnipathR] Reading JSON from `/Library/Frameworks/R.framework/Versions/4.6-arm64/Resources/library/OmnipathR/internal/id_types.json` (encoding: UTF-8).
[2025-11-20 21:28:10] [TRACE] [OmnipathR] JSON validation successful: TRUE
[2025-11-20 21:28:10] [TRACE] [OmnipathR] Cache locked: FALSE
cosmos_ksn: no visible binding for global variable ‘enzyme_genesymbol’
Undefined global functions or variables:
enzyme_genesymbol
* checking Rd files ... OK
* checking Rd metadata ... OK
* checking Rd cross-references ... OK
* checking for missing documentation entries ... OK
* checking for code/documentation mismatches ... OK
* checking Rd \usage sections ... OK
* checking Rd contents ... OK
* checking for unstated dependencies in examples ... OK
* checking R/sysdata.rda ... OK
* checking files in ‘vignettes’ ... OK
* checking examples ... OK
Examples with CPU (user + system) or elapsed time > 5s
user system elapsed
annotation_categories 40.666 0.070 43.741
curated_ligrec_stats 17.660 2.689 111.611
filter_extra_attrs 11.161 4.957 41.210
omnipath-interactions 13.907 1.342 57.633
all_uniprots 8.345 1.095 35.591
extra_attrs_to_cols 6.804 1.765 19.359
nichenet_gr_network_omnipath 7.195 0.737 12.427
uniprot_organisms 6.530 0.970 17.013
go_annot_download 6.578 0.525 8.658
extra_attr_values 5.124 1.661 19.654
with_extra_attrs 5.122 1.177 13.141
pivot_annotations 5.786 0.486 23.115
giant_component 5.769 0.454 12.617
filter_by_resource 5.713 0.491 16.073
extra_attrs 4.167 1.527 8.085
nichenet_signaling_network_omnipath 4.972 0.536 11.858
omnipath_for_cosmos 4.497 0.425 26.292
translate_ids_multi 3.925 0.347 23.089
has_extra_attrs 2.779 0.916 8.231
filter_intercell 3.293 0.240 9.508
curated_ligand_receptor_interactions 2.724 0.661 17.332
print_interactions 3.033 0.287 10.761
static_table 3.094 0.209 9.964
ensembl_id_mapping_table 1.451 0.155 20.269
metalinksdb_sqlite 0.607 0.163 10.439
kegg_conv 0.654 0.080 10.741
translate_ids 0.589 0.116 10.541
uniprot_full_id_mapping_table 0.523 0.113 12.093
kinasephos 0.495 0.097 21.752
kegg_link 0.330 0.051 6.212
* checking for unstated dependencies in ‘tests’ ... OK
* checking tests ...
Running ‘testthat.R’
OK
* checking for unstated dependencies in vignettes ... OK
* checking package vignettes ... OK
* checking running R code from vignettes ... SKIPPED
* checking re-building of vignette outputs ... SKIPPED
* checking PDF version of manual ... OK
* DONE
Status: 2 NOTEs
See
‘/Users/biocbuild/bbs-3.23-bioc/meat/OmnipathR.Rcheck/00check.log’
for details.
OmnipathR.Rcheck/00install.out
############################################################################## ############################################################################## ### ### Running command: ### ### /Library/Frameworks/R.framework/Resources/bin/R CMD INSTALL OmnipathR ### ############################################################################## ############################################################################## * installing to library ‘/Library/Frameworks/R.framework/Versions/4.6-arm64/Resources/library’ * installing *source* package ‘OmnipathR’ ... ** this is package ‘OmnipathR’ version ‘3.19.2’ ** using staged installation ** R ** inst ** byte-compile and prepare package for lazy loading ** help *** installing help indices *** copying figures ** building package indices ** installing vignettes ** testing if installed package can be loaded from temporary location [2025-11-20 15:05:09] [TRACE] [OmnipathR] Reading JSON from `/Users/biocbuild/Library/Caches/OmnipathR/cache.json` (encoding: UTF-8). [2025-11-20 15:05:09] [TRACE] [OmnipathR] JSON validation successful: TRUE [2025-11-20 15:05:09] [INFO] [OmnipathR] Initialized cache: `/Users/biocbuild/Library/Caches/OmnipathR`. [2025-11-20 15:05:09] [INFO] [OmnipathR] Package `OmnipathR` packaged: NA [2025-11-20 15:05:09] [INFO] [OmnipathR] Package `OmnipathR` date/publication: 2025-11-20 [2025-11-20 15:05:09] [INFO] [OmnipathR] Package `OmnipathR` built: R 4.6.0; ; 2025-11-20 20:05:04 UTC; unix [2025-11-20 15:05:09] [INFO] [OmnipathR] Package `OmnipathR` version: 3.19.2 [2025-11-20 15:05:09] [INFO] [OmnipathR] Package `OmnipathR` repository: Bioconductor 3.23 [2025-11-20 15:05:09] [INFO] [OmnipathR] Session info: [version=R Under development (unstable) (2025-11-04 r88984); os=macOS Ventura 13.7.8; system=aarch64, darwin20; ui=X11; language=(EN); collate=C; ctype=en_US.UTF-8; tz=America/New_York; date=2025-11-20; pandoc=3.1.12.3 @ /opt/homebrew/bin/ (via rmarkdown); quarto=1.7.32 @ /usr/local/bin/quarto] [2025-11-20 15:05:09] [INFO] [OmnipathR] External libraries: [cairo=1.17.6; cairoFT=; pango=1.50.14; png=1.6.44; jpeg=9.5; tiff=LIBTIFF, Version 4.5.0; tcl=8.6; curl=8.7.1; zlib=1.2.11; bzlib=1.0.8, 13-Jul-2019; xz=5.6.3; deflate=1.23; zstd=1.5.5; PCRE=10.44 2024-06-07; ICU=70.2; TRE=TRE 0.8.0 R_fixes (BSD); iconv=Apple or GNU libiconv 1.11 /Library/Frameworks/R.framework/Versions/4.6-arm64/Resources/lib/libR.dylib; readline=5.2; BLAS=/System/Library/Frameworks/Accelerate.framework/Versions/A/Frameworks/vecLib.framework/Versions/A/libBLAS.dylib; lapack=/Library/Frameworks/R.framework/Versions/4.6-arm64/Resources/lib/libRlapack.dylib; lapack_version=3.12.1] [2025-11-20 15:05:10] [INFO] [OmnipathR] Loaded packages: backports 1.5.0(2024-05-23); bit 4.6.0(2025-03-06); bit64 4.6.0-1(2025-01-16); blob 1.2.4(2023-03-17); cachem 1.1.0(2024-05-16); cellranger 1.1.0(2016-07-27); checkmate 2.3.3(2025-08-18); chromote 0.5.1(2025-04-24); cli 3.6.5(2025-04-23); crayon 1.5.3(2024-06-20); curl 7.0.0(2025-08-19); DBI 1.2.3(2024-06-02); digest 0.6.39(2025-11-19); dplyr 1.1.4(2023-11-17); evaluate 1.0.5(2025-08-27); fastmap 1.2.0(2024-05-15); fs 1.6.6(2025-04-12); generics 0.1.4(2025-05-09); glue 1.8.0(2024-09-30); hms 1.1.4(2025-10-17); htmltools 0.5.8.1(2024-04-04); httr 1.4.7(2023-08-15); httr2 1.2.1(2025-07-22); igraph 2.2.1(2025-10-27); jsonlite 2.0.0(2025-03-27); knitr 1.50(2025-03-16); later 1.4.4(2025-08-27); lifecycle 1.0.4(2023-11-07); logger 0.4.1(2025-09-11); lubridate 1.9.4(2024-12-08); magrittr 2.0.4(2025-09-12); memoise 2.0.1(2021-11-26); OmnipathR 3.19.2(2025-11-20); otel 0.2.0(2025-08-29); pillar 1.11.1(2025-09-17); pkgconfig 2.0.3(2019-09-22); prettyunits 1.2.0(2023-09-24); processx 3.8.6(2025-02-21); progress 1.2.3(2023-12-06); promises 1.5.0(2025-11-01); ps 1.9.1(2025-04-12); purrr 1.2.0(2025-11-04); R.methodsS3 1.8.2(2022-06-13); R.oo 1.27.1(2025-05-02); R.utils 2.13.0(2025-02-24); R6 2.6.1(2025-02-15); rappdirs 0.3.3(2021-01-31); Rcpp 1.1.0(2025-07-02); readr 2.1.6(2025-11-14); readxl 1.4.5(2025-03-07); rlang 1.1.6(2025-04-11); rmarkdown 2.30(2025-09-28); RSQLite 2.4.4(2025-11-10); rvest 1.0.5(2025-08-29); sessioninfo 1.2.3(2025-02-05); stringi 1.8.7(2025-03-27); stringr 1.6.0(2025-11-04); tibble 3.3.0(2025-06-08); tidyr 1.3.1(2024-01-24); tidyselect 1.2.1(2024-03-11); timechange 0.3.0(2024-01-18); tzdb 0.5.0(2025-03-15); vctrs 0.6.5(2023-12-01); websocket 1.4.4(2025-04-10); withr 3.0.2(2024-10-28); xfun 0.54(2025-10-30); XML 3.99-0.20(2025-11-08); xml2 1.5.0(2025-11-17); yaml 2.3.10(2024-07-26); zip 2.3.3(2025-05-13) [2025-11-20 15:05:10] [INFO] [OmnipathR] CURL: version: 8.14.1; headers: 8.14.1; ssl_version: LibreSSL/3.3.6 (SecureTransport); libz_version: 1.2.11; libssh_version: NA; libidn_version: NA; host: aarch64-apple-darwin23.6.0; protocols: dict, file, ftp, ftps, gopher, gophers, http, https, imap, imaps, ldap, ldaps, mqtt, pop3, pop3s, rtsp, smb, smbs, smtp, smtps, telnet, tftp, ws, wss; ipv6: TRUE; http2: TRUE; idn: FALSE; url_parser: TRUE [2025-11-20 15:05:10] [TRACE] [OmnipathR] Running on a build server, wiping cache. [2025-11-20 15:05:10] [TRACE] [OmnipathR] Cache is at `/Users/biocbuild/Library/Caches/OmnipathR`. [2025-11-20 15:05:10] [TRACE] [OmnipathR] Contains 1 files. [2025-11-20 15:05:10] [TRACE] [OmnipathR] Cache is locked: FALSE. [2025-11-20 15:05:10] [TRACE] [OmnipathR] Reading JSON from `/Users/biocbuild/Library/Caches/OmnipathR/cache.json` (encoding: UTF-8). [2025-11-20 15:05:10] [TRACE] [OmnipathR] JSON validation successful: TRUE [2025-11-20 15:05:10] [SUCCESS] [OmnipathR] Removing all cache contents from `/Users/biocbuild/Library/Caches/OmnipathR`. [2025-11-20 15:05:10] [TRACE] [OmnipathR] Pandoc version: `3.1.12.3`. [2025-11-20 15:05:10] [TRACE] [OmnipathR] Reading JSON from `/Library/Frameworks/R.framework/Versions/4.6-arm64/Resources/library/00LOCK-OmnipathR/00new/OmnipathR/db/db_def.json` (encoding: UTF-8). [2025-11-20 15:05:10] [TRACE] [OmnipathR] JSON validation successful: TRUE [2025-11-20 15:05:10] [TRACE] [OmnipathR] Reading JSON from `/Library/Frameworks/R.framework/Versions/4.6-arm64/Resources/library/00LOCK-OmnipathR/00new/OmnipathR/internal/magic_bytes.json` (encoding: UTF-8). [2025-11-20 15:05:10] [TRACE] [OmnipathR] JSON validation successful: TRUE [2025-11-20 15:05:10] [TRACE] [OmnipathR] Reading JSON from `/Library/Frameworks/R.framework/Versions/4.6-arm64/Resources/library/00LOCK-OmnipathR/00new/OmnipathR/internal/urls.json` (encoding: UTF-8). [2025-11-20 15:05:10] [TRACE] [OmnipathR] JSON validation successful: TRUE [2025-11-20 15:05:10] [TRACE] [OmnipathR] Reading JSON from `/Library/Frameworks/R.framework/Versions/4.6-arm64/Resources/library/00LOCK-OmnipathR/00new/OmnipathR/internal/id_types.json` (encoding: UTF-8). [2025-11-20 15:05:10] [TRACE] [OmnipathR] JSON validation successful: TRUE [2025-11-20 15:05:10] [TRACE] [OmnipathR] Cache locked: FALSE ** testing if installed package can be loaded from final location [2025-11-20 15:05:10] [TRACE] [OmnipathR] Reading JSON from `/Users/biocbuild/Library/Caches/OmnipathR/cache.json` (encoding: UTF-8). [2025-11-20 15:05:10] [TRACE] [OmnipathR] JSON validation successful: TRUE [2025-11-20 15:05:10] [INFO] [OmnipathR] Initialized cache: `/Users/biocbuild/Library/Caches/OmnipathR`. [2025-11-20 15:05:10] [INFO] [OmnipathR] Package `OmnipathR` packaged: NA [2025-11-20 15:05:10] [INFO] [OmnipathR] Package `OmnipathR` date/publication: 2025-11-20 [2025-11-20 15:05:10] [INFO] [OmnipathR] Package `OmnipathR` built: R 4.6.0; ; 2025-11-20 20:05:04 UTC; unix [2025-11-20 15:05:10] [INFO] [OmnipathR] Package `OmnipathR` version: 3.19.2 [2025-11-20 15:05:10] [INFO] [OmnipathR] Package `OmnipathR` repository: Bioconductor 3.23 [2025-11-20 15:05:11] [INFO] [OmnipathR] Session info: [version=R Under development (unstable) (2025-11-04 r88984); os=macOS Ventura 13.7.8; system=aarch64, darwin20; ui=X11; language=(EN); collate=C; ctype=en_US.UTF-8; tz=America/New_York; date=2025-11-20; pandoc=3.1.12.3 @ /opt/homebrew/bin/ (via rmarkdown); quarto=1.7.32 @ /usr/local/bin/quarto] [2025-11-20 15:05:11] [INFO] [OmnipathR] External libraries: [cairo=1.17.6; cairoFT=; pango=1.50.14; png=1.6.44; jpeg=9.5; tiff=LIBTIFF, Version 4.5.0; tcl=8.6; curl=8.7.1; zlib=1.2.11; bzlib=1.0.8, 13-Jul-2019; xz=5.6.3; deflate=1.23; zstd=1.5.5; PCRE=10.44 2024-06-07; ICU=70.2; TRE=TRE 0.8.0 R_fixes (BSD); iconv=Apple or GNU libiconv 1.11 /Library/Frameworks/R.framework/Versions/4.6-arm64/Resources/lib/libR.dylib; readline=5.2; BLAS=/System/Library/Frameworks/Accelerate.framework/Versions/A/Frameworks/vecLib.framework/Versions/A/libBLAS.dylib; lapack=/Library/Frameworks/R.framework/Versions/4.6-arm64/Resources/lib/libRlapack.dylib; lapack_version=3.12.1] [2025-11-20 15:05:11] [INFO] [OmnipathR] Loaded packages: backports 1.5.0(2024-05-23); bit 4.6.0(2025-03-06); bit64 4.6.0-1(2025-01-16); blob 1.2.4(2023-03-17); cachem 1.1.0(2024-05-16); cellranger 1.1.0(2016-07-27); checkmate 2.3.3(2025-08-18); chromote 0.5.1(2025-04-24); cli 3.6.5(2025-04-23); crayon 1.5.3(2024-06-20); curl 7.0.0(2025-08-19); DBI 1.2.3(2024-06-02); digest 0.6.39(2025-11-19); dplyr 1.1.4(2023-11-17); evaluate 1.0.5(2025-08-27); fastmap 1.2.0(2024-05-15); fs 1.6.6(2025-04-12); generics 0.1.4(2025-05-09); glue 1.8.0(2024-09-30); hms 1.1.4(2025-10-17); htmltools 0.5.8.1(2024-04-04); httr 1.4.7(2023-08-15); httr2 1.2.1(2025-07-22); igraph 2.2.1(2025-10-27); jsonlite 2.0.0(2025-03-27); knitr 1.50(2025-03-16); later 1.4.4(2025-08-27); lifecycle 1.0.4(2023-11-07); logger 0.4.1(2025-09-11); lubridate 1.9.4(2024-12-08); magrittr 2.0.4(2025-09-12); memoise 2.0.1(2021-11-26); OmnipathR 3.19.2(2025-11-20); otel 0.2.0(2025-08-29); pillar 1.11.1(2025-09-17); pkgconfig 2.0.3(2019-09-22); prettyunits 1.2.0(2023-09-24); processx 3.8.6(2025-02-21); progress 1.2.3(2023-12-06); promises 1.5.0(2025-11-01); ps 1.9.1(2025-04-12); purrr 1.2.0(2025-11-04); R.methodsS3 1.8.2(2022-06-13); R.oo 1.27.1(2025-05-02); R.utils 2.13.0(2025-02-24); R6 2.6.1(2025-02-15); rappdirs 0.3.3(2021-01-31); Rcpp 1.1.0(2025-07-02); readr 2.1.6(2025-11-14); readxl 1.4.5(2025-03-07); rlang 1.1.6(2025-04-11); rmarkdown 2.30(2025-09-28); RSQLite 2.4.4(2025-11-10); rvest 1.0.5(2025-08-29); sessioninfo 1.2.3(2025-02-05); stringi 1.8.7(2025-03-27); stringr 1.6.0(2025-11-04); tibble 3.3.0(2025-06-08); tidyr 1.3.1(2024-01-24); tidyselect 1.2.1(2024-03-11); timechange 0.3.0(2024-01-18); tzdb 0.5.0(2025-03-15); vctrs 0.6.5(2023-12-01); websocket 1.4.4(2025-04-10); withr 3.0.2(2024-10-28); xfun 0.54(2025-10-30); XML 3.99-0.20(2025-11-08); xml2 1.5.0(2025-11-17); yaml 2.3.10(2024-07-26); zip 2.3.3(2025-05-13) [2025-11-20 15:05:11] [INFO] [OmnipathR] CURL: version: 8.14.1; headers: 8.14.1; ssl_version: LibreSSL/3.3.6 (SecureTransport); libz_version: 1.2.11; libssh_version: NA; libidn_version: NA; host: aarch64-apple-darwin23.6.0; protocols: dict, file, ftp, ftps, gopher, gophers, http, https, imap, imaps, ldap, ldaps, mqtt, pop3, pop3s, rtsp, smb, smbs, smtp, smtps, telnet, tftp, ws, wss; ipv6: TRUE; http2: TRUE; idn: FALSE; url_parser: TRUE [2025-11-20 15:05:11] [TRACE] [OmnipathR] Running on a build server, wiping cache. [2025-11-20 15:05:11] [TRACE] [OmnipathR] Cache is at `/Users/biocbuild/Library/Caches/OmnipathR`. [2025-11-20 15:05:11] [TRACE] [OmnipathR] Contains 1 files. [2025-11-20 15:05:11] [TRACE] [OmnipathR] Cache is locked: FALSE. [2025-11-20 15:05:11] [TRACE] [OmnipathR] Reading JSON from `/Users/biocbuild/Library/Caches/OmnipathR/cache.json` (encoding: UTF-8). [2025-11-20 15:05:11] [TRACE] [OmnipathR] JSON validation successful: TRUE [2025-11-20 15:05:11] [SUCCESS] [OmnipathR] Removing all cache contents from `/Users/biocbuild/Library/Caches/OmnipathR`. [2025-11-20 15:05:11] [TRACE] [OmnipathR] Pandoc version: `3.1.12.3`. [2025-11-20 15:05:11] [TRACE] [OmnipathR] Reading JSON from `/Library/Frameworks/R.framework/Versions/4.6-arm64/Resources/library/OmnipathR/db/db_def.json` (encoding: UTF-8). [2025-11-20 15:05:11] [TRACE] [OmnipathR] JSON validation successful: TRUE [2025-11-20 15:05:11] [TRACE] [OmnipathR] Reading JSON from `/Library/Frameworks/R.framework/Versions/4.6-arm64/Resources/library/OmnipathR/internal/magic_bytes.json` (encoding: UTF-8). [2025-11-20 15:05:11] [TRACE] [OmnipathR] JSON validation successful: TRUE [2025-11-20 15:05:11] [TRACE] [OmnipathR] Reading JSON from `/Library/Frameworks/R.framework/Versions/4.6-arm64/Resources/library/OmnipathR/internal/urls.json` (encoding: UTF-8). [2025-11-20 15:05:11] [TRACE] [OmnipathR] JSON validation successful: TRUE [2025-11-20 15:05:11] [TRACE] [OmnipathR] Reading JSON from `/Library/Frameworks/R.framework/Versions/4.6-arm64/Resources/library/OmnipathR/internal/id_types.json` (encoding: UTF-8). [2025-11-20 15:05:11] [TRACE] [OmnipathR] JSON validation successful: TRUE [2025-11-20 15:05:11] [TRACE] [OmnipathR] Cache locked: FALSE ** testing if installed package keeps a record of temporary installation path * DONE (OmnipathR)
OmnipathR.Rcheck/tests/testthat.Rout
R Under development (unstable) (2025-11-04 r88984) -- "Unsuffered Consequences"
Copyright (C) 2025 The R Foundation for Statistical Computing
Platform: aarch64-apple-darwin20
R is free software and comes with ABSOLUTELY NO WARRANTY.
You are welcome to redistribute it under certain conditions.
Type 'license()' or 'licence()' for distribution details.
R is a collaborative project with many contributors.
Type 'contributors()' for more information and
'citation()' on how to cite R or R packages in publications.
Type 'demo()' for some demos, 'help()' for on-line help, or
'help.start()' for an HTML browser interface to help.
Type 'q()' to quit R.
> #!/usr/bin/env Rscript
>
> #
> # This file is part of the `OmnipathR` R package
> #
> # Copyright
> # 2018-2024
> # Saez Lab, Uniklinik RWTH Aachen, Heidelberg University
> #
> # File author(s): Alberto Valdeolivas
> # Dénes Türei (turei.denes@gmail.com)
> # Attila Gábor
> #
> # Distributed under the MIT (Expat) License.
> # See accompanying file `LICENSE` or find a copy at
> # https://directory.fsf.org/wiki/License:Expat
> #
> # Website: https://r.omnipathdb.org/
> # Git repo: https://github.com/saezlab/OmnipathR
> #
>
>
> library(testthat)
> library(OmnipathR)
[2025-11-20 21:41:10] [TRACE] [OmnipathR] Reading JSON from `/Users/biocbuild/Library/Caches/OmnipathR/cache.json` (encoding: UTF-8).
[2025-11-20 21:41:10] [TRACE] [OmnipathR] JSON validation successful: TRUE
[2025-11-20 21:41:10] [INFO] [OmnipathR] Initialized cache: `/Users/biocbuild/Library/Caches/OmnipathR`.
[2025-11-20 21:41:10] [INFO] [OmnipathR] Package `OmnipathR` packaged: NA
[2025-11-20 21:41:10] [INFO] [OmnipathR] Package `OmnipathR` date/publication: 2025-11-20
[2025-11-20 21:41:10] [INFO] [OmnipathR] Package `OmnipathR` built: R 4.6.0; ; 2025-11-20 20:05:04 UTC; unix
[2025-11-20 21:41:10] [INFO] [OmnipathR] Package `OmnipathR` version: 3.19.2
[2025-11-20 21:41:10] [INFO] [OmnipathR] Package `OmnipathR` repository: Bioconductor 3.23
[2025-11-20 21:41:10] [INFO] [OmnipathR] Session info: [version=R Under development (unstable) (2025-11-04 r88984); os=macOS Ventura 13.7.8; system=aarch64, darwin20; ui=X11; language=C; collate=C; ctype=en_US.UTF-8; tz=America/New_York; date=2025-11-20; pandoc=3.1.12.3 @ /opt/homebrew/bin/ (via rmarkdown); quarto=1.7.32 @ /usr/local/bin/quarto]
[2025-11-20 21:41:10] [INFO] [OmnipathR] External libraries: [cairo=1.17.6; cairoFT=; pango=1.50.14; png=1.6.44; jpeg=9.5; tiff=LIBTIFF, Version 4.5.0; tcl=8.6; curl=8.7.1; zlib=1.2.11; bzlib=1.0.8, 13-Jul-2019; xz=5.6.3; deflate=1.23; zstd=1.5.5; PCRE=10.44 2024-06-07; ICU=70.2; TRE=TRE 0.8.0 R_fixes (BSD); iconv=Apple or GNU libiconv 1.11 /Library/Frameworks/R.framework/Versions/4.6-arm64/Resources/lib/libR.dylib; readline=5.2; BLAS=/System/Library/Frameworks/Accelerate.framework/Versions/A/Frameworks/vecLib.framework/Versions/A/libBLAS.dylib; lapack=/Library/Frameworks/R.framework/Versions/4.6-arm64/Resources/lib/libRlapack.dylib; lapack_version=3.12.1]
[2025-11-20 21:41:10] [INFO] [OmnipathR] Loaded packages: backports 1.5.0(2024-05-23); bit 4.6.0(2025-03-06); bit64 4.6.0-1(2025-01-16); blob 1.2.4(2023-03-17); brio 1.1.5(2024-04-24); cachem 1.1.0(2024-05-16); cellranger 1.1.0(2016-07-27); checkmate 2.3.3(2025-08-18); chromote 0.5.1(2025-04-24); cli 3.6.5(2025-04-23); crayon 1.5.3(2024-06-20); curl 7.0.0(2025-08-19); DBI 1.2.3(2024-06-02); digest 0.6.39(2025-11-19); dplyr 1.1.4(2023-11-17); evaluate 1.0.5(2025-08-27); fastmap 1.2.0(2024-05-15); fs 1.6.6(2025-04-12); generics 0.1.4(2025-05-09); glue 1.8.0(2024-09-30); hms 1.1.4(2025-10-17); htmltools 0.5.8.1(2024-04-04); httr 1.4.7(2023-08-15); httr2 1.2.1(2025-07-22); igraph 2.2.1(2025-10-27); jsonlite 2.0.0(2025-03-27); knitr 1.50(2025-03-16); later 1.4.4(2025-08-27); lifecycle 1.0.4(2023-11-07); logger 0.4.1(2025-09-11); lubridate 1.9.4(2024-12-08); magrittr 2.0.4(2025-09-12); memoise 2.0.1(2021-11-26); OmnipathR 3.19.2(2025-11-20); otel 0.2.0(2025-08-29); pillar 1.11.1(2025-09-17); pkgconfig 2.0.3(2019-09-22); prettyunits 1.2.0(2023-09-24); processx 3.8.6(2025-02-21); progress 1.2.3(2023-12-06); promises 1.5.0(2025-11-01); ps 1.9.1(2025-04-12); purrr 1.2.0(2025-11-04); R.methodsS3 1.8.2(2022-06-13); R.oo 1.27.1(2025-05-02); R.utils 2.13.0(2025-02-24); R6 2.6.1(2025-02-15); rappdirs 0.3.3(2021-01-31); Rcpp 1.1.0(2025-07-02); readr 2.1.6(2025-11-14); readxl 1.4.5(2025-03-07); rlang 1.1.6(2025-04-11); rmarkdown 2.30(2025-09-28); RSQLite 2.4.4(2025-11-10); rvest 1.0.5(2025-08-29); sessioninfo 1.2.3(2025-02-05); stringi 1.8.7(2025-03-27); stringr 1.6.0(2025-11-04); testthat 3.3.0(2025-11-13); tibble 3.3.0(2025-06-08); tidyr 1.3.1(2024-01-24); tidyselect 1.2.1(2024-03-11); timechange 0.3.0(2024-01-18); tzdb 0.5.0(2025-03-15); vctrs 0.6.5(2023-12-01); websocket 1.4.4(2025-04-10); withr 3.0.2(2024-10-28); xfun 0.54(2025-10-30); XML 3.99-0.20(2025-11-08); xml2 1.5.0(2025-11-17); yaml 2.3.10(2024-07-26); zip 2.3.3(2025-05-13)
[2025-11-20 21:41:10] [INFO] [OmnipathR] CURL: version: 8.14.1; headers: 8.14.1; ssl_version: LibreSSL/3.3.6 (SecureTransport); libz_version: 1.2.11; libssh_version: NA; libidn_version: NA; host: aarch64-apple-darwin23.6.0; protocols: dict, file, ftp, ftps, gopher, gophers, http, https, imap, imaps, ldap, ldaps, mqtt, pop3, pop3s, rtsp, smb, smbs, smtp, smtps, telnet, tftp, ws, wss; ipv6: TRUE; http2: TRUE; idn: FALSE; url_parser: TRUE
[2025-11-20 21:41:10] [TRACE] [OmnipathR] Running on a build server, wiping cache.
[2025-11-20 21:41:10] [TRACE] [OmnipathR] Cache is at `/Users/biocbuild/Library/Caches/OmnipathR`.
[2025-11-20 21:41:10] [TRACE] [OmnipathR] Contains 22 files.
[2025-11-20 21:41:10] [TRACE] [OmnipathR] Cache is locked: FALSE.
[2025-11-20 21:41:10] [TRACE] [OmnipathR] Reading JSON from `/Users/biocbuild/Library/Caches/OmnipathR/cache.json` (encoding: UTF-8).
[2025-11-20 21:41:10] [TRACE] [OmnipathR] JSON validation successful: TRUE
[2025-11-20 21:41:10] [SUCCESS] [OmnipathR] Removing all cache contents from `/Users/biocbuild/Library/Caches/OmnipathR`.
[2025-11-20 21:41:10] [TRACE] [OmnipathR] Pandoc version: `3.1.12.3`.
[2025-11-20 21:41:10] [TRACE] [OmnipathR] Reading JSON from `/Library/Frameworks/R.framework/Versions/4.6-arm64/Resources/library/OmnipathR/db/db_def.json` (encoding: UTF-8).
[2025-11-20 21:41:10] [TRACE] [OmnipathR] JSON validation successful: TRUE
[2025-11-20 21:41:10] [TRACE] [OmnipathR] Reading JSON from `/Library/Frameworks/R.framework/Versions/4.6-arm64/Resources/library/OmnipathR/internal/magic_bytes.json` (encoding: UTF-8).
[2025-11-20 21:41:10] [TRACE] [OmnipathR] JSON validation successful: TRUE
[2025-11-20 21:41:10] [TRACE] [OmnipathR] Reading JSON from `/Library/Frameworks/R.framework/Versions/4.6-arm64/Resources/library/OmnipathR/internal/urls.json` (encoding: UTF-8).
[2025-11-20 21:41:10] [TRACE] [OmnipathR] JSON validation successful: TRUE
[2025-11-20 21:41:10] [TRACE] [OmnipathR] Reading JSON from `/Library/Frameworks/R.framework/Versions/4.6-arm64/Resources/library/OmnipathR/internal/id_types.json` (encoding: UTF-8).
[2025-11-20 21:41:10] [TRACE] [OmnipathR] JSON validation successful: TRUE
[2025-11-20 21:41:10] [TRACE] [OmnipathR] Cache locked: FALSE
>
> test_check('OmnipathR')
[ FAIL 0 | WARN 12 | SKIP 0 | PASS 38 ]
[ FAIL 0 | WARN 12 | SKIP 0 | PASS 38 ]
>
> proc.time()
user system elapsed
17.047 2.413 61.597
OmnipathR.Rcheck/OmnipathR-Ex.timings
| name | user | system | elapsed | |
| OmnipathR | 0.000 | 0.001 | 0.000 | |
| all_uniprot_acs | 0.006 | 0.001 | 0.019 | |
| all_uniprots | 8.345 | 1.095 | 35.591 | |
| ancestors | 0.005 | 0.001 | 0.018 | |
| annotated_network | 0.604 | 0.069 | 4.566 | |
| annotation_categories | 40.666 | 0.070 | 43.741 | |
| annotation_resources | 0.022 | 0.004 | 0.623 | |
| annotations | 0.265 | 0.026 | 1.595 | |
| biomart_query | 0.651 | 0.083 | 4.129 | |
| bioplex1 | 0.007 | 0.002 | 0.009 | |
| bioplex2 | 0.006 | 0.002 | 0.008 | |
| bioplex3 | 0.006 | 0.001 | 0.007 | |
| bioplex_all | 0.008 | 0.002 | 0.009 | |
| bioplex_hct116_1 | 0.010 | 0.002 | 0.012 | |
| bma_motif_es | 0.347 | 0.046 | 1.519 | |
| bma_motif_vs | 0.079 | 0.015 | 0.732 | |
| chalmers_gem | 0.003 | 0.001 | 0.004 | |
| chalmers_gem_id_mapping_table | 0.003 | 0.001 | 0.005 | |
| chalmers_gem_id_type | 0.001 | 0.000 | 0.004 | |
| chalmers_gem_metabolites | 0.003 | 0.000 | 0.008 | |
| chalmers_gem_network | 0.003 | 0.001 | 0.013 | |
| chalmers_gem_raw | 0.003 | 0.000 | 0.006 | |
| chalmers_gem_reactions | 0.003 | 0.001 | 0.005 | |
| common_name | 0.048 | 0.004 | 0.070 | |
| complex_genes | 0.321 | 0.038 | 2.428 | |
| complex_resources | 0.022 | 0.006 | 0.832 | |
| complexes | 0.076 | 0.011 | 0.688 | |
| consensuspathdb_download | 0.000 | 0.001 | 0.000 | |
| consensuspathdb_raw_table | 0.003 | 0.001 | 0.005 | |
| cosmos_pkn | 0 | 0 | 0 | |
| curated_ligand_receptor_interactions | 2.724 | 0.661 | 17.332 | |
| curated_ligrec_stats | 17.660 | 2.689 | 111.611 | |
| database_summary | 0.787 | 0.125 | 3.285 | |
| descendants | 0.003 | 0.000 | 0.003 | |
| ensembl_dataset | 0.021 | 0.002 | 0.024 | |
| ensembl_id_mapping_table | 1.451 | 0.155 | 20.269 | |
| ensembl_id_type | 0.001 | 0.000 | 0.001 | |
| ensembl_name | 0.235 | 0.008 | 0.340 | |
| ensembl_organisms | 0.044 | 0.016 | 0.114 | |
| ensembl_organisms_raw | 0.047 | 0.018 | 0.213 | |
| ensembl_orthology | 0.000 | 0.001 | 0.000 | |
| enzsub_graph | 0.925 | 0.098 | 4.276 | |
| enzsub_resources | 0.024 | 0.004 | 0.651 | |
| enzyme_substrate | 0.416 | 0.028 | 1.196 | |
| evex_download | 0.003 | 0.001 | 0.005 | |
| evidences | 0 | 0 | 0 | |
| extra_attr_values | 5.124 | 1.661 | 19.654 | |
| extra_attrs | 4.167 | 1.527 | 8.085 | |
| extra_attrs_to_cols | 6.804 | 1.765 | 19.359 | |
| filter_by_resource | 5.713 | 0.491 | 16.073 | |
| filter_extra_attrs | 11.161 | 4.957 | 41.210 | |
| filter_intercell | 3.293 | 0.240 | 9.508 | |
| filter_intercell_network | 0.009 | 0.002 | 0.051 | |
| find_all_paths | 2.735 | 0.203 | 3.960 | |
| from_evidences | 0 | 0 | 0 | |
| get_db | 0 | 0 | 0 | |
| get_ontology_db | 0.003 | 0.001 | 0.008 | |
| giant_component | 5.769 | 0.454 | 12.617 | |
| go_annot_download | 6.578 | 0.525 | 8.658 | |
| go_annot_slim | 0 | 0 | 0 | |
| go_ontology_download | 0.003 | 0.001 | 0.005 | |
| guide2pharma_download | 0.004 | 0.001 | 0.015 | |
| harmonizome_download | 0.003 | 0.001 | 0.004 | |
| has_extra_attrs | 2.779 | 0.916 | 8.231 | |
| hmdb_id_mapping_table | 0.003 | 0.000 | 0.010 | |
| hmdb_id_type | 0.001 | 0.000 | 0.002 | |
| hmdb_metabolite_fields | 0.000 | 0.000 | 0.001 | |
| hmdb_protein_fields | 0.001 | 0.000 | 0.008 | |
| hmdb_table | 0.004 | 0.001 | 0.030 | |
| homologene_download | 0.003 | 0.001 | 0.013 | |
| homologene_raw | 0.023 | 0.002 | 0.043 | |
| homologene_uniprot_orthology | 0.004 | 0.001 | 0.021 | |
| hpo_download | 1.445 | 0.151 | 2.225 | |
| htridb_download | 0.007 | 0.002 | 0.007 | |
| id_translation_resources | 0 | 0 | 0 | |
| id_types | 0.031 | 0.008 | 0.039 | |
| inbiomap_download | 0 | 0 | 0 | |
| inbiomap_raw | 0.000 | 0.000 | 0.001 | |
| interaction_datasets | 0.366 | 0.036 | 0.773 | |
| interaction_graph | 0.168 | 0.016 | 0.880 | |
| interaction_resources | 0.024 | 0.005 | 0.711 | |
| interaction_types | 0.029 | 0.004 | 0.084 | |
| intercell | 0.370 | 0.054 | 1.701 | |
| intercell_categories | 0.287 | 0.031 | 0.697 | |
| intercell_consensus_filter | 0.675 | 0.075 | 3.227 | |
| intercell_generic_categories | 0.032 | 0.005 | 0.061 | |
| intercell_network | 0.003 | 0.001 | 0.007 | |
| intercell_resources | 0.022 | 0.005 | 0.678 | |
| intercell_summary | 0.032 | 0.009 | 0.095 | |
| is_ontology_id | 0 | 0 | 0 | |
| is_swissprot | 0.023 | 0.003 | 0.049 | |
| is_trembl | 0.025 | 0.002 | 0.056 | |
| is_uniprot | 0.004 | 0.001 | 0.016 | |
| kegg_api_templates | 0.001 | 0.002 | 0.002 | |
| kegg_conv | 0.654 | 0.080 | 10.741 | |
| kegg_databases | 0.000 | 0.001 | 0.000 | |
| kegg_ddi | 0.311 | 0.040 | 1.868 | |
| kegg_find | 0.285 | 0.032 | 2.074 | |
| kegg_info | 0.005 | 0.001 | 0.012 | |
| kegg_link | 0.330 | 0.051 | 6.212 | |
| kegg_list | 0.285 | 0.041 | 1.521 | |
| kegg_open | 0.003 | 0.000 | 0.014 | |
| kegg_operations | 0 | 0 | 0 | |
| kegg_organism_codes | 0.008 | 0.028 | 0.051 | |
| kegg_organisms | 0.009 | 0.003 | 0.023 | |
| kegg_pathway_annotations | 0 | 0 | 0 | |
| kegg_pathway_download | 0.003 | 0.001 | 0.010 | |
| kegg_pathway_list | 0.004 | 0.001 | 0.016 | |
| kegg_pathways_download | 0 | 0 | 0 | |
| kegg_picture | 0.575 | 0.025 | 4.741 | |
| kegg_process | 0.006 | 0.002 | 0.017 | |
| kegg_query | 0.003 | 0.000 | 0.004 | |
| kegg_request | 0.027 | 0.005 | 0.063 | |
| kegg_rm_prefix | 0.371 | 0.045 | 4.950 | |
| kinasephos | 0.495 | 0.097 | 21.752 | |
| latin_name | 0.103 | 0.006 | 0.153 | |
| load_db | 0.024 | 0.005 | 0.067 | |
| metalinksdb_sqlite | 0.607 | 0.163 | 10.439 | |
| metalinksdb_table | 0.097 | 0.018 | 0.186 | |
| metalinksdb_tables | 0.008 | 0.002 | 0.023 | |
| ncbi_taxid | 0.099 | 0.007 | 0.160 | |
| nichenet_build_model | 0.000 | 0.001 | 0.000 | |
| nichenet_expression_data | 0.004 | 0.001 | 0.009 | |
| nichenet_gr_network | 0.010 | 0.003 | 0.036 | |
| nichenet_gr_network_evex | 0.003 | 0.001 | 0.007 | |
| nichenet_gr_network_harmonizome | 0.003 | 0.001 | 0.008 | |
| nichenet_gr_network_htridb | 0.003 | 0.001 | 0.003 | |
| nichenet_gr_network_omnipath | 7.195 | 0.737 | 12.427 | |
| nichenet_gr_network_pathwaycommons | 0.004 | 0.001 | 0.005 | |
| nichenet_gr_network_regnetwork | 0.004 | 0.002 | 0.025 | |
| nichenet_gr_network_remap | 0.003 | 0.001 | 0.015 | |
| nichenet_gr_network_trrust | 0.003 | 0.001 | 0.007 | |
| nichenet_ligand_activities | 0.000 | 0.000 | 0.001 | |
| nichenet_ligand_target_links | 0.000 | 0.001 | 0.000 | |
| nichenet_ligand_target_matrix | 0.001 | 0.000 | 0.000 | |
| nichenet_lr_network | 0.007 | 0.002 | 0.020 | |
| nichenet_lr_network_guide2pharma | 0.002 | 0.001 | 0.004 | |
| nichenet_lr_network_omnipath | 0.031 | 0.003 | 0.054 | |
| nichenet_lr_network_ramilowski | 0.002 | 0.001 | 0.008 | |
| nichenet_main | 0 | 0 | 0 | |
| nichenet_networks | 0.015 | 0.005 | 0.055 | |
| nichenet_optimization | 0 | 0 | 0 | |
| nichenet_remove_orphan_ligands | 0.010 | 0.003 | 0.032 | |
| nichenet_results_dir | 0 | 0 | 0 | |
| nichenet_signaling_network | 0.010 | 0.003 | 0.060 | |
| nichenet_signaling_network_cpdb | 0.003 | 0.000 | 0.007 | |
| nichenet_signaling_network_evex | 0.003 | 0.001 | 0.012 | |
| nichenet_signaling_network_harmonizome | 0.003 | 0.000 | 0.021 | |
| nichenet_signaling_network_inbiomap | 0 | 0 | 0 | |
| nichenet_signaling_network_omnipath | 4.972 | 0.536 | 11.858 | |
| nichenet_signaling_network_pathwaycommons | 0.003 | 0.001 | 0.004 | |
| nichenet_signaling_network_vinayagam | 0.004 | 0.001 | 0.004 | |
| nichenet_test | 0 | 0 | 0 | |
| nichenet_workarounds | 0 | 0 | 0 | |
| obo_parser | 0.036 | 0.009 | 0.395 | |
| oma_code | 0.055 | 0.005 | 0.082 | |
| oma_organisms | 0.029 | 0.006 | 0.080 | |
| oma_pairwise | 0.003 | 0.000 | 0.008 | |
| oma_pairwise_genesymbols | 0.003 | 0.001 | 0.024 | |
| oma_pairwise_translated | 0.003 | 0.001 | 0.004 | |
| omnipath-interactions | 13.907 | 1.342 | 57.633 | |
| omnipath_cache_autoclean | 0 | 0 | 0 | |
| omnipath_cache_clean | 0.007 | 0.002 | 0.009 | |
| omnipath_cache_clean_db | 0.073 | 0.016 | 0.093 | |
| omnipath_cache_download_ready | 0.353 | 0.086 | 0.517 | |
| omnipath_cache_filter_versions | 0.058 | 0.018 | 0.108 | |
| omnipath_cache_get | 0.051 | 0.013 | 0.066 | |
| omnipath_cache_key | 0.001 | 0.000 | 0.001 | |
| omnipath_cache_latest_or_new | 0.038 | 0.009 | 0.049 | |
| omnipath_cache_load | 0.315 | 0.031 | 2.916 | |
| omnipath_cache_move_in | 0.080 | 0.020 | 0.179 | |
| omnipath_cache_remove | 0.031 | 0.011 | 0.170 | |
| omnipath_cache_save | 0.047 | 0.015 | 0.248 | |
| omnipath_cache_search | 0.001 | 0.000 | 0.000 | |
| omnipath_cache_set_ext | 0.028 | 0.011 | 0.165 | |
| omnipath_cache_update_status | 0.031 | 0.009 | 0.125 | |
| omnipath_cache_wipe | 0 | 0 | 0 | |
| omnipath_config_path | 0.001 | 0.000 | 0.001 | |
| omnipath_for_cosmos | 4.497 | 0.425 | 26.292 | |
| omnipath_load_config | 0.000 | 0.000 | 0.001 | |
| omnipath_log | 0.000 | 0.001 | 0.000 | |
| omnipath_logfile | 0.001 | 0.000 | 0.000 | |
| omnipath_msg | 0.002 | 0.001 | 0.002 | |
| omnipath_query | 1.928 | 0.149 | 2.498 | |
| omnipath_reset_config | 0 | 0 | 0 | |
| omnipath_save_config | 0.000 | 0.001 | 0.000 | |
| omnipath_set_cachedir | 0.035 | 0.003 | 0.054 | |
| omnipath_set_console_loglevel | 0.002 | 0.000 | 0.003 | |
| omnipath_set_logfile_loglevel | 0.001 | 0.000 | 0.001 | |
| omnipath_set_loglevel | 0.001 | 0.001 | 0.003 | |
| omnipath_show_db | 0.027 | 0.009 | 0.148 | |
| omnipath_unlock_cache_db | 0 | 0 | 0 | |
| only_from | 0 | 0 | 0 | |
| ontology_ensure_id | 0.000 | 0.000 | 0.001 | |
| ontology_ensure_name | 0.000 | 0.000 | 0.001 | |
| ontology_name_id | 0.000 | 0.001 | 0.000 | |
| organism_for | 0.071 | 0.004 | 0.087 | |
| pathwaycommons_download | 0 | 0 | 0 | |
| pivot_annotations | 5.786 | 0.486 | 23.115 | |
| preppi_download | 0.001 | 0.000 | 0.001 | |
| preppi_filter | 0.000 | 0.000 | 0.001 | |
| print_bma_motif_es | 0.371 | 0.041 | 1.239 | |
| print_bma_motif_vs | 0.060 | 0.014 | 0.987 | |
| print_interactions | 3.033 | 0.287 | 10.761 | |
| print_path_es | 0.385 | 0.042 | 2.309 | |
| print_path_vs | 1.079 | 0.139 | 4.701 | |
| pubmed_open | 2.356 | 0.124 | 3.000 | |
| query_info | 0.249 | 0.019 | 0.621 | |
| ramilowski_download | 0 | 0 | 0 | |
| ramp_id_mapping_table | 0 | 0 | 0 | |
| ramp_id_type | 0.001 | 0.000 | 0.001 | |
| ramp_sqlite | 0.000 | 0.000 | 0.004 | |
| ramp_table | 0.000 | 0.000 | 0.001 | |
| ramp_tables | 0 | 0 | 0 | |
| recon3d | 0.001 | 0.000 | 0.001 | |
| recon3d_raw | 0 | 0 | 0 | |
| recon3d_raw_vmh | 0.000 | 0.000 | 0.001 | |
| regnetwork_directions | 0 | 0 | 0 | |
| regnetwork_download | 0 | 0 | 0 | |
| relations_list_to_table | 0.028 | 0.011 | 0.436 | |
| relations_table_to_graph | 0 | 0 | 0 | |
| relations_table_to_list | 0.025 | 0.010 | 0.137 | |
| remap_dorothea_download | 0.001 | 0.000 | 0.000 | |
| remap_filtered | 0 | 0 | 0 | |
| remap_tf_target_download | 0 | 0 | 0 | |
| resource_info | 0.243 | 0.045 | 0.748 | |
| resources | 0.018 | 0.006 | 0.646 | |
| resources_colname | 0.621 | 0.042 | 3.764 | |
| resources_in | 1.976 | 0.102 | 2.422 | |
| show_network | 0 | 0 | 0 | |
| signed_ptms | 2.904 | 0.141 | 4.209 | |
| simplify_intercell_network | 0.000 | 0.001 | 0.003 | |
| static_table | 3.094 | 0.209 | 9.964 | |
| static_tables | 0.091 | 0.010 | 0.106 | |
| stitch_actions | 0.000 | 0.000 | 0.001 | |
| stitch_links | 0.001 | 0.000 | 0.001 | |
| stitch_network | 0.000 | 0.001 | 0.001 | |
| stitch_remove_prefixes | 0.005 | 0.001 | 0.008 | |
| swap_relations | 0.051 | 0.018 | 0.128 | |
| swissprots_only | 0.083 | 0.004 | 0.090 | |
| tfcensus_download | 0.373 | 0.034 | 0.606 | |
| translate_ids | 0.589 | 0.116 | 10.541 | |
| translate_ids_multi | 3.925 | 0.347 | 23.089 | |
| trembls_only | 0.057 | 0.004 | 0.099 | |
| trrust_download | 0 | 0 | 0 | |
| uniprot_full_id_mapping_table | 0.523 | 0.113 | 12.093 | |
| uniprot_genesymbol_cleanup | 0 | 0 | 0 | |
| uniprot_id_mapping_table | 0.000 | 0.000 | 0.001 | |
| uniprot_id_type | 0.001 | 0.000 | 0.003 | |
| uniprot_idmapping_id_types | 0.246 | 0.024 | 0.839 | |
| uniprot_organisms | 6.530 | 0.970 | 17.013 | |
| unique_intercell_network | 0.000 | 0.000 | 0.001 | |
| unnest_evidences | 0 | 0 | 0 | |
| uploadlists_id_type | 0.000 | 0.000 | 0.002 | |
| vinayagam_download | 0 | 0 | 0 | |
| walk_ontology_tree | 0.000 | 0.001 | 0.001 | |
| with_extra_attrs | 5.122 | 1.177 | 13.141 | |
| with_references | 0.436 | 0.045 | 2.546 | |
| zenodo_download | 0.000 | 0.001 | 0.002 | |