Back to Multiple platform build/check report for BioC 3.22: simplified long |
|
This page was generated on 2025-10-01 12:04 -0400 (Wed, 01 Oct 2025).
Hostname | OS | Arch (*) | R version | Installed pkgs |
---|---|---|---|---|
nebbiolo2 | Linux (Ubuntu 24.04.3 LTS) | x86_64 | 4.5.1 Patched (2025-08-23 r88802) -- "Great Square Root" | 4843 |
lconway | macOS 12.7.1 Monterey | x86_64 | 4.5.1 Patched (2025-09-10 r88807) -- "Great Square Root" | 4631 |
kjohnson3 | macOS 13.7.7 Ventura | arm64 | 4.5.1 Patched (2025-09-10 r88807) -- "Great Square Root" | 4575 |
taishan | Linux (openEuler 24.03 LTS) | aarch64 | 4.5.0 (2025-04-11) -- "How About a Twenty-Six" | 4576 |
Click on any hostname to see more info about the system (e.g. compilers) (*) as reported by 'uname -p', except on Windows and Mac OS X |
Package 1131/2337 | Hostname | OS / Arch | INSTALL | BUILD | CHECK | BUILD BIN | ||||||||
LinkHD 1.23.0 (landing page) "Laura M Zingaretti"
| nebbiolo2 | Linux (Ubuntu 24.04.3 LTS) / x86_64 | OK | OK | OK | ![]() | ||||||||
lconway | macOS 12.7.1 Monterey / x86_64 | OK | OK | OK | OK | ![]() | ||||||||
kjohnson3 | macOS 13.7.7 Ventura / arm64 | OK | OK | OK | OK | ![]() | ||||||||
taishan | Linux (openEuler 24.03 LTS) / aarch64 | OK | OK | OK | ||||||||||
To the developers/maintainers of the LinkHD package: - Allow up to 24 hours (and sometimes 48 hours) for your latest push to git@git.bioconductor.org:packages/LinkHD.git to reflect on this report. See Troubleshooting Build Report for more information. - Use the following Renviron settings to reproduce errors and warnings. - If 'R CMD check' started to fail recently on the Linux builder(s) over a missing dependency, add the missing dependency to 'Suggests:' in your DESCRIPTION file. See Renviron.bioc for more information. |
Package: LinkHD |
Version: 1.23.0 |
Command: /Library/Frameworks/R.framework/Resources/bin/R CMD check --install=check:LinkHD.install-out.txt --library=/Library/Frameworks/R.framework/Resources/library --no-vignettes --timings LinkHD_1.23.0.tar.gz |
StartedAt: 2025-09-30 22:11:07 -0400 (Tue, 30 Sep 2025) |
EndedAt: 2025-09-30 22:15:28 -0400 (Tue, 30 Sep 2025) |
EllapsedTime: 260.9 seconds |
RetCode: 0 |
Status: OK |
CheckDir: LinkHD.Rcheck |
Warnings: 0 |
############################################################################## ############################################################################## ### ### Running command: ### ### /Library/Frameworks/R.framework/Resources/bin/R CMD check --install=check:LinkHD.install-out.txt --library=/Library/Frameworks/R.framework/Resources/library --no-vignettes --timings LinkHD_1.23.0.tar.gz ### ############################################################################## ############################################################################## * using log directory ‘/Users/biocbuild/bbs-3.22-bioc/meat/LinkHD.Rcheck’ * using R version 4.5.1 Patched (2025-09-10 r88807) * using platform: x86_64-apple-darwin20 * R was compiled by Apple clang version 14.0.0 (clang-1400.0.29.202) GNU Fortran (GCC) 14.2.0 * running under: macOS Monterey 12.7.6 * using session charset: UTF-8 * using option ‘--no-vignettes’ * checking for file ‘LinkHD/DESCRIPTION’ ... OK * checking extension type ... Package * this is package ‘LinkHD’ version ‘1.23.0’ * package encoding: UTF-8 * checking package namespace information ... OK * checking package dependencies ... OK * checking if this is a source package ... OK * checking if there is a namespace ... OK * checking for hidden files and directories ... OK * checking for portable file names ... OK * checking for sufficient/correct file permissions ... OK * checking whether package ‘LinkHD’ can be installed ... OK * checking installed package size ... OK * checking package directory ... OK * checking ‘build’ directory ... OK * checking DESCRIPTION meta-information ... OK * checking top-level files ... OK * checking for left-over files ... OK * checking index information ... OK * checking package subdirectories ... OK * checking code files for non-ASCII characters ... OK * checking R files for syntax errors ... OK * checking whether the package can be loaded ... OK * checking whether the package can be loaded with stated dependencies ... OK * checking whether the package can be unloaded cleanly ... OK * checking whether the namespace can be loaded with stated dependencies ... OK * checking whether the namespace can be unloaded cleanly ... OK * checking dependencies in R code ... OK * checking S3 generic/method consistency ... OK * checking replacement functions ... OK * checking foreign function calls ... OK * checking R code for possible problems ... OK * checking Rd files ... NOTE checkRd: (-1) VarSelection.Rd:40: Lost braces; missing escapes or markup? 40 | a general linear regression into the $X$ matrix (${Y_hat}=X(X'X)^(-1)X'Y$) and the matrix $X(X'X)^(-1)X'$ is the projection matrix | ^ * checking Rd metadata ... OK * checking Rd cross-references ... OK * checking for missing documentation entries ... OK * checking for code/documentation mismatches ... OK * checking Rd \usage sections ... OK * checking Rd contents ... OK * checking for unstated dependencies in examples ... OK * checking contents of ‘data’ directory ... OK * checking data for non-ASCII characters ... OK * checking LazyData ... OK * checking data for ASCII and uncompressed saves ... OK * checking files in ‘vignettes’ ... OK * checking examples ... OK * checking for unstated dependencies in vignettes ... OK * checking package vignettes ... OK * checking running R code from vignettes ... SKIPPED * checking re-building of vignette outputs ... SKIPPED * checking PDF version of manual ... OK * DONE Status: 1 NOTE See ‘/Users/biocbuild/bbs-3.22-bioc/meat/LinkHD.Rcheck/00check.log’ for details.
LinkHD.Rcheck/00install.out
############################################################################## ############################################################################## ### ### Running command: ### ### /Library/Frameworks/R.framework/Resources/bin/R CMD INSTALL LinkHD ### ############################################################################## ############################################################################## * installing to library ‘/Library/Frameworks/R.framework/Versions/4.5-x86_64/Resources/library’ * installing *source* package ‘LinkHD’ ... ** this is package ‘LinkHD’ version ‘1.23.0’ ** using staged installation ** R ** data *** moving datasets to lazyload DB ** byte-compile and prepare package for lazy loading ** help *** installing help indices ** building package indices ** installing vignettes ** testing if installed package can be loaded from temporary location ** testing if installed package can be loaded from final location ** testing if installed package keeps a record of temporary installation path * DONE (LinkHD)
LinkHD.Rcheck/LinkHD-Ex.timings
name | user | system | elapsed | |
Compromise_matrix-methods | 0.604 | 0.126 | 0.734 | |
DataProcessing | 0.642 | 0.005 | 0.650 | |
DistStatis-Class | 0.000 | 0.000 | 0.001 | |
DistStatis-CompromisePlot | 0.681 | 0.025 | 0.710 | |
DistStatis-CorrelationPlot | 1.026 | 0.050 | 1.088 | |
DistStatis-GlobalPlot | 1.080 | 0.034 | 1.123 | |
Euclid_Im-methods | 0.370 | 0.014 | 0.386 | |
Inertia_RV-methods | 0.373 | 0.017 | 0.394 | |
Inertia_comp-methods | 0.373 | 0.017 | 0.395 | |
LinkData-LinkData | 0.380 | 0.010 | 0.392 | |
OTU2Taxa-OTU2Taxa | 3.611 | 0.060 | 3.704 | |
RQO-methods | 0.360 | 0.015 | 0.379 | |
Read_Data | 0 | 0 | 0 | |
Ruminotypes | 0.000 | 0.002 | 0.003 | |
Taraoceans | 0.001 | 0.002 | 0.002 | |
Trajectories-methods | 0.718 | 0.341 | 1.082 | |
VarSelection-Class | 0.000 | 0.001 | 0.001 | |
VarSelection | 2.023 | 0.033 | 2.073 | |
VarTable-methods | 1.976 | 0.025 | 2.018 | |
Var_coordinates-methods | 2.049 | 0.034 | 2.267 | |
Variables-methods | 2.285 | 0.053 | 2.944 | |
compromise_coords-methods | 0.489 | 0.049 | 0.652 | |
correl-methods | 0.437 | 0.014 | 0.515 | |
dAB-dAB | 0.888 | 0.030 | 1.264 | |
sign_values-methods | 2.364 | 0.075 | 3.473 | |