| Back to Build/check report for BioC 3.23: simplified long |
|
This page was generated on 2025-11-01 11:32 -0400 (Sat, 01 Nov 2025).
| Hostname | OS | Arch (*) | R version | Installed pkgs |
|---|---|---|---|---|
| nebbiolo1 | Linux (Ubuntu 24.04.3 LTS) | x86_64 | R Under development (unstable) (2025-10-20 r88955) -- "Unsuffered Consequences" | 4774 |
| Click on any hostname to see more info about the system (e.g. compilers) (*) as reported by 'uname -p', except on Windows and Mac OS X | ||||
| Package 1123/2321 | Hostname | OS / Arch | INSTALL | BUILD | CHECK | BUILD BIN | ||||||||
| LinkHD 1.25.0 (landing page) "Laura M Zingaretti"
| nebbiolo1 | Linux (Ubuntu 24.04.3 LTS) / x86_64 | OK | OK | OK | |||||||||
|
To the developers/maintainers of the LinkHD package: - Allow up to 24 hours (and sometimes 48 hours) for your latest push to git@git.bioconductor.org:packages/LinkHD.git to reflect on this report. See Troubleshooting Build Report for more information. - Use the following Renviron settings to reproduce errors and warnings. - If 'R CMD check' started to fail recently on the Linux builder(s) over a missing dependency, add the missing dependency to 'Suggests:' in your DESCRIPTION file. See Renviron.bioc for more information. |
| Package: LinkHD |
| Version: 1.25.0 |
| Command: /home/biocbuild/bbs-3.23-bioc/R/bin/R CMD check --install=check:LinkHD.install-out.txt --library=/home/biocbuild/bbs-3.23-bioc/R/site-library --timings LinkHD_1.25.0.tar.gz |
| StartedAt: 2025-11-01 00:37:13 -0400 (Sat, 01 Nov 2025) |
| EndedAt: 2025-11-01 00:41:08 -0400 (Sat, 01 Nov 2025) |
| EllapsedTime: 235.5 seconds |
| RetCode: 0 |
| Status: OK |
| CheckDir: LinkHD.Rcheck |
| Warnings: 0 |
##############################################################################
##############################################################################
###
### Running command:
###
### /home/biocbuild/bbs-3.23-bioc/R/bin/R CMD check --install=check:LinkHD.install-out.txt --library=/home/biocbuild/bbs-3.23-bioc/R/site-library --timings LinkHD_1.25.0.tar.gz
###
##############################################################################
##############################################################################
* using log directory ‘/home/biocbuild/bbs-3.23-bioc/meat/LinkHD.Rcheck’
* using R Under development (unstable) (2025-10-20 r88955)
* using platform: x86_64-pc-linux-gnu
* R was compiled by
gcc (Ubuntu 13.3.0-6ubuntu2~24.04) 13.3.0
GNU Fortran (Ubuntu 13.3.0-6ubuntu2~24.04) 13.3.0
* running under: Ubuntu 24.04.3 LTS
* using session charset: UTF-8
* checking for file ‘LinkHD/DESCRIPTION’ ... OK
* checking extension type ... Package
* this is package ‘LinkHD’ version ‘1.25.0’
* package encoding: UTF-8
* checking package namespace information ... OK
* checking package dependencies ... OK
* checking if this is a source package ... OK
* checking if there is a namespace ... OK
* checking for hidden files and directories ... OK
* checking for portable file names ... OK
* checking for sufficient/correct file permissions ... OK
* checking whether package ‘LinkHD’ can be installed ... OK
* checking installed package size ... OK
* checking package directory ... OK
* checking ‘build’ directory ... OK
* checking DESCRIPTION meta-information ... OK
* checking top-level files ... OK
* checking for left-over files ... OK
* checking index information ... OK
* checking package subdirectories ... OK
* checking code files for non-ASCII characters ... OK
* checking R files for syntax errors ... OK
* checking whether the package can be loaded ... OK
* checking whether the package can be loaded with stated dependencies ... OK
* checking whether the package can be unloaded cleanly ... OK
* checking whether the namespace can be loaded with stated dependencies ... OK
* checking whether the namespace can be unloaded cleanly ... OK
* checking loading without being on the library search path ... OK
* checking dependencies in R code ... OK
* checking S3 generic/method consistency ... OK
* checking replacement functions ... OK
* checking foreign function calls ... OK
* checking R code for possible problems ... OK
* checking Rd files ... NOTE
checkRd: (-1) VarSelection.Rd:40: Lost braces; missing escapes or markup?
40 | a general linear regression into the $X$ matrix (${Y_hat}=X(X'X)^(-1)X'Y$) and the matrix $X(X'X)^(-1)X'$ is the projection matrix
| ^
* checking Rd metadata ... OK
* checking Rd cross-references ... OK
* checking for missing documentation entries ... OK
* checking for code/documentation mismatches ... OK
* checking Rd \usage sections ... OK
* checking Rd contents ... OK
* checking for unstated dependencies in examples ... OK
* checking contents of ‘data’ directory ... OK
* checking data for non-ASCII characters ... OK
* checking LazyData ... OK
* checking data for ASCII and uncompressed saves ... OK
* checking files in ‘vignettes’ ... OK
* checking examples ... OK
* checking for unstated dependencies in vignettes ... OK
* checking package vignettes ... OK
* checking re-building of vignette outputs ... OK
* checking PDF version of manual ... OK
* DONE
Status: 1 NOTE
See
‘/home/biocbuild/bbs-3.23-bioc/meat/LinkHD.Rcheck/00check.log’
for details.
LinkHD.Rcheck/00install.out
############################################################################## ############################################################################## ### ### Running command: ### ### /home/biocbuild/bbs-3.23-bioc/R/bin/R CMD INSTALL LinkHD ### ############################################################################## ############################################################################## * installing to library ‘/home/biocbuild/bbs-3.23-bioc/R/site-library’ * installing *source* package ‘LinkHD’ ... ** this is package ‘LinkHD’ version ‘1.25.0’ ** using staged installation ** R ** data *** moving datasets to lazyload DB ** byte-compile and prepare package for lazy loading ** help *** installing help indices ** building package indices ** installing vignettes ** testing if installed package can be loaded from temporary location ** testing if installed package can be loaded from final location ** testing if installed package keeps a record of temporary installation path * DONE (LinkHD)
LinkHD.Rcheck/LinkHD-Ex.timings
| name | user | system | elapsed | |
| Compromise_matrix-methods | 1.113 | 0.161 | 1.275 | |
| DataProcessing | 0.006 | 0.002 | 0.008 | |
| DistStatis-Class | 0.001 | 0.000 | 0.001 | |
| DistStatis-CompromisePlot | 0.578 | 0.001 | 0.579 | |
| DistStatis-CorrelationPlot | 0.842 | 0.080 | 0.921 | |
| DistStatis-GlobalPlot | 0.829 | 0.018 | 0.847 | |
| Euclid_Im-methods | 0.966 | 0.014 | 0.979 | |
| Inertia_RV-methods | 0.306 | 0.013 | 0.318 | |
| Inertia_comp-methods | 0.299 | 0.016 | 0.316 | |
| LinkData-LinkData | 0.289 | 0.002 | 0.291 | |
| OTU2Taxa-OTU2Taxa | 2.447 | 0.116 | 2.564 | |
| RQO-methods | 0.312 | 0.005 | 0.316 | |
| Read_Data | 0 | 0 | 0 | |
| Ruminotypes | 0.000 | 0.000 | 0.001 | |
| Taraoceans | 0 | 0 | 0 | |
| Trajectories-methods | 0.534 | 0.353 | 0.887 | |
| VarSelection-Class | 0.000 | 0.000 | 0.001 | |
| VarSelection | 1.630 | 0.036 | 1.666 | |
| VarTable-methods | 2.344 | 0.093 | 2.437 | |
| Var_coordinates-methods | 1.578 | 0.048 | 1.624 | |
| Variables-methods | 1.688 | 0.011 | 1.703 | |
| compromise_coords-methods | 0.292 | 0.004 | 0.297 | |
| correl-methods | 0.305 | 0.002 | 0.308 | |
| dAB-dAB | 0.579 | 0.002 | 0.582 | |
| sign_values-methods | 1.588 | 0.016 | 1.605 | |