Back to Multiple platform build/check report for BioC 3.22:   simplified   long
ABCDEFGH[I]JKLMNOPQRSTUVWXYZ

This page was generated on 2025-09-30 12:07 -0400 (Tue, 30 Sep 2025).

HostnameOSArch (*)R versionInstalled pkgs
nebbiolo2Linux (Ubuntu 24.04.3 LTS)x86_644.5.1 Patched (2025-08-23 r88802) -- "Great Square Root" 4843
lconwaymacOS 12.7.1 Montereyx86_644.5.1 Patched (2025-09-10 r88807) -- "Great Square Root" 4631
kjohnson3macOS 13.7.7 Venturaarm644.5.1 Patched (2025-09-10 r88807) -- "Great Square Root" 4575
taishanLinux (openEuler 24.03 LTS)aarch644.5.0 (2025-04-11) -- "How About a Twenty-Six" 4576
Click on any hostname to see more info about the system (e.g. compilers)      (*) as reported by 'uname -p', except on Windows and Mac OS X

Package 1071/2337HostnameOS / ArchINSTALLBUILDCHECKBUILD BIN
ISAnalytics 1.19.3  (landing page)
Francesco Gazzo
Snapshot Date: 2025-09-29 13:45 -0400 (Mon, 29 Sep 2025)
git_url: https://git.bioconductor.org/packages/ISAnalytics
git_branch: devel
git_last_commit: 923672f
git_last_commit_date: 2025-07-21 09:31:21 -0400 (Mon, 21 Jul 2025)
nebbiolo2Linux (Ubuntu 24.04.3 LTS) / x86_64  OK    OK    OK  UNNEEDED, same version is already published
lconwaymacOS 12.7.1 Monterey / x86_64  OK    OK    OK    OK  UNNEEDED, same version is already published
kjohnson3macOS 13.7.7 Ventura / arm64  OK    OK    OK    OK  UNNEEDED, same version is already published
taishanLinux (openEuler 24.03 LTS) / aarch64  OK    OK    OK  


CHECK results for ISAnalytics on taishan

To the developers/maintainers of the ISAnalytics package:
- Allow up to 24 hours (and sometimes 48 hours) for your latest push to git@git.bioconductor.org:packages/ISAnalytics.git to reflect on this report. See Troubleshooting Build Report for more information.
- Use the following Renviron settings to reproduce errors and warnings.
- If 'R CMD check' started to fail recently on the Linux builder(s) over a missing dependency, add the missing dependency to 'Suggests:' in your DESCRIPTION file. See Renviron.bioc for more information.
- See Martin Grigorov's blog post for how to debug Linux ARM64 related issues on a x86_64 host.

raw results


Summary

Package: ISAnalytics
Version: 1.19.3
Command: /home/biocbuild/R/R/bin/R CMD check --install=check:ISAnalytics.install-out.txt --library=/home/biocbuild/R/R/site-library --no-vignettes --timings ISAnalytics_1.19.3.tar.gz
StartedAt: 2025-09-30 09:26:50 -0000 (Tue, 30 Sep 2025)
EndedAt: 2025-09-30 09:38:09 -0000 (Tue, 30 Sep 2025)
EllapsedTime: 678.9 seconds
RetCode: 0
Status:   OK  
CheckDir: ISAnalytics.Rcheck
Warnings: 0

Command output

##############################################################################
##############################################################################
###
### Running command:
###
###   /home/biocbuild/R/R/bin/R CMD check --install=check:ISAnalytics.install-out.txt --library=/home/biocbuild/R/R/site-library --no-vignettes --timings ISAnalytics_1.19.3.tar.gz
###
##############################################################################
##############################################################################


* using log directory ‘/home/biocbuild/bbs-3.22-bioc/meat/ISAnalytics.Rcheck’
* using R version 4.5.0 (2025-04-11)
* using platform: aarch64-unknown-linux-gnu
* R was compiled by
    aarch64-unknown-linux-gnu-gcc (GCC) 14.2.0
    GNU Fortran (GCC) 14.2.0
* running under: openEuler 24.03 (LTS)
* using session charset: UTF-8
* using option ‘--no-vignettes’
* checking for file ‘ISAnalytics/DESCRIPTION’ ... OK
* this is package ‘ISAnalytics’ version ‘1.19.3’
* package encoding: UTF-8
* checking package namespace information ... OK
* checking package dependencies ... INFO
Imports includes 22 non-default packages.
Importing from so many packages makes the package vulnerable to any of
them becoming unavailable.  Move as many as possible to Suggests and
use conditionally.
* checking if this is a source package ... OK
* checking if there is a namespace ... OK
* checking for hidden files and directories ... OK
* checking for portable file names ... OK
* checking for sufficient/correct file permissions ... OK
* checking whether package ‘ISAnalytics’ can be installed ... OK
* checking installed package size ... INFO
  installed size is  8.3Mb
  sub-directories of 1Mb or more:
    data   5.8Mb
* checking package directory ... OK
* checking ‘build’ directory ... OK
* checking DESCRIPTION meta-information ... OK
* checking top-level files ... OK
* checking for left-over files ... OK
* checking index information ... OK
* checking package subdirectories ... OK
* checking code files for non-ASCII characters ... OK
* checking R files for syntax errors ... OK
* checking whether the package can be loaded ... OK
* checking whether the package can be loaded with stated dependencies ... OK
* checking whether the package can be unloaded cleanly ... OK
* checking whether the namespace can be loaded with stated dependencies ... OK
* checking whether the namespace can be unloaded cleanly ... OK
* checking loading without being on the library search path ... OK
* checking whether startup messages can be suppressed ... OK
* checking dependencies in R code ... OK
* checking S3 generic/method consistency ... OK
* checking replacement functions ... OK
* checking foreign function calls ... OK
* checking R code for possible problems ... OK
* checking Rd files ... NOTE
checkRd: (-1) refGenes_hg19.Rd:21: Lost braces; missing escapes or markup?
    21 | \item Download from {http://hgdownload.soe.ucsc.edu/goldenPath/hg19/database/}
       |                     ^
* checking Rd metadata ... OK
* checking Rd cross-references ... OK
* checking for missing documentation entries ... OK
* checking for code/documentation mismatches ... OK
* checking Rd \usage sections ... OK
* checking Rd contents ... OK
* checking for unstated dependencies in examples ... OK
* checking contents of ‘data’ directory ... OK
* checking data for non-ASCII characters ... OK
* checking data for ASCII and uncompressed saves ... OK
* checking files in ‘vignettes’ ... OK
* checking examples ... OK
Examples with CPU (user + system) or elapsed time > 5s
                                user system elapsed
sharing_venn                   5.627  0.365  50.187
integration_alluvial_plot      5.440  0.458  11.970
import_parallel_Vispa2Matrices 3.170  0.371  20.406
sharing_heatmap                2.741  0.157  15.318
top_cis_overtime_heatmap       2.203  0.168  11.274
import_Vispa2_stats            1.976  0.257   9.983
CIS_grubbs_overtime            1.981  0.126   9.143
HSC_population_plot            1.776  0.315   6.319
is_sharing                     1.776  0.131  12.284
realign_after_collisions       1.451  0.395   9.279
iss_source                     1.678  0.099  10.579
remove_collisions              1.397  0.354   9.515
compute_near_integrations      1.088  0.098   8.075
HSC_population_size_estimate   1.034  0.035   5.325
* checking for unstated dependencies in ‘tests’ ... OK
* checking tests ...
  Running ‘testthat.R’
 OK
* checking for unstated dependencies in vignettes ... OK
* checking package vignettes ... OK
* checking running R code from vignettes ... SKIPPED
* checking re-building of vignette outputs ... SKIPPED
* checking PDF version of manual ... OK
* DONE

Status: 1 NOTE
See
  ‘/home/biocbuild/bbs-3.22-bioc/meat/ISAnalytics.Rcheck/00check.log’
for details.


Installation output

ISAnalytics.Rcheck/00install.out

##############################################################################
##############################################################################
###
### Running command:
###
###   /home/biocbuild/R/R/bin/R CMD INSTALL ISAnalytics
###
##############################################################################
##############################################################################


* installing to library ‘/home/biocbuild/R/R-4.5.0/site-library’
* installing *source* package ‘ISAnalytics’ ...
** this is package ‘ISAnalytics’ version ‘1.19.3’
** using staged installation
** R
** data
** inst
** byte-compile and prepare package for lazy loading
** help
*** installing help indices
*** copying figures
** building package indices
** installing vignettes
** testing if installed package can be loaded from temporary location
** testing if installed package can be loaded from final location
** testing if installed package keeps a record of temporary installation path
* DONE (ISAnalytics)

Tests output

ISAnalytics.Rcheck/tests/testthat.Rout


R version 4.5.0 (2025-04-11) -- "How About a Twenty-Six"
Copyright (C) 2025 The R Foundation for Statistical Computing
Platform: aarch64-unknown-linux-gnu

R is free software and comes with ABSOLUTELY NO WARRANTY.
You are welcome to redistribute it under certain conditions.
Type 'license()' or 'licence()' for distribution details.

R is a collaborative project with many contributors.
Type 'contributors()' for more information and
'citation()' on how to cite R or R packages in publications.

Type 'demo()' for some demos, 'help()' for on-line help, or
'help.start()' for an HTML browser interface to help.
Type 'q()' to quit R.

> library(testthat)
> library(ISAnalytics)
> 
> test_check("ISAnalytics")
Loading required namespace: plotly
Loading required namespace: rmarkdown
Report correctly saved
i Report saved to: /home/biocbuild/tmp/RtmpaLkMhj/file3df3926d40f37a/2025-09-30_collision_removal_report.html
Report correctly saved
i Report saved to: /home/biocbuild/tmp/RtmpaLkMhj/file3df392413d6f74/2025-09-30_outlier_test_pool_fragments_report.html
[ FAIL 0 | WARN 0 | SKIP 0 | PASS 834 ]
> 
> proc.time()
   user  system elapsed 
137.608   8.730 376.767 

Example timings

ISAnalytics.Rcheck/ISAnalytics-Ex.timings

nameusersystemelapsed
CIS_grubbs1.1710.0271.202
CIS_grubbs_overtime1.9810.1269.143
CIS_volcano_plot2.1870.0762.269
HSC_population_plot1.7760.3156.319
HSC_population_size_estimate1.0340.0355.325
NGSdataExplorer000
aggregate_metadata0.1470.0000.148
aggregate_values_by_key0.090.000.09
annotation_issues0.0360.0000.036
as_sparse_matrix0.0660.0040.069
available_outlier_tests000
available_tags0.030.000.03
blood_lineages_default0.040.000.04
circos_genomic_density000
clinical_relevant_suspicious_genes0.0180.0000.018
comparison_matrix0.040.000.04
compute_abundance0.0470.0000.047
compute_near_integrations1.0880.0988.075
cumulative_count_union0.0000.0000.001
cumulative_is0.2240.0000.225
date_formats0.0010.0000.000
default_af_transform0.0010.0000.001
default_iss_file_prefixes000
default_meta_agg0.0230.0000.023
default_rec_agg_lambdas0.0010.0000.000
default_report_path0.0090.0000.009
default_stats1.3550.0361.395
enable_progress_bars0.0190.0070.026
export_ISA_settings0.0840.0310.116
fisher_scatterplot1.6760.1431.825
gene_frequency_fisher1.2950.0601.360
generate_Vispa2_launch_AF0.2540.0300.282
generate_blank_association_file0.0160.0000.017
generate_default_folder_structure0.4380.1370.574
import_ISA_settings0.0770.0200.098
import_Vispa2_stats1.9760.2579.983
import_association_file0.7450.1730.918
import_parallel_Vispa2Matrices 3.170 0.37120.406
import_single_Vispa2Matrix1.1570.3021.462
inspect_tags0.0220.0000.022
integration_alluvial_plot 5.440 0.45811.970
is_sharing 1.776 0.13112.284
iss_source 1.678 0.09910.579
known_clinical_oncogenes0.0140.0000.014
mandatory_IS_vars0.1180.0190.138
matching_options000
outlier_filter0.1890.0170.205
outliers_by_pool_fragments0.2090.0110.220
pcr_id_column0.0250.0000.024
purity_filter0.4790.0360.517
quantification_types000
realign_after_collisions1.4510.3959.279
reduced_AF_columns0.0640.0000.064
refGene_table_cols000
remove_collisions1.3970.3549.515
reset_mandatory_IS_vars0.0070.0000.007
sample_statistics0.4620.0130.481
separate_quant_matrices0.0190.0000.019
set_mandatory_IS_vars0.1230.0070.133
set_matrix_file_suffixes0.0240.0050.030
sharing_heatmap 2.741 0.15715.318
sharing_venn 5.627 0.36550.187
threshold_filter000
top_abund_tableGrob0.9940.0471.045
top_cis_overtime_heatmap 2.203 0.16811.274
top_integrations0.0440.0000.044
top_targeted_genes0.7550.0440.802
transform_columns0.0310.0000.031