Back to Multiple platform build/check report for BioC 3.22:   simplified   long
ABCDEFGH[I]JKLMNOPQRSTUVWXYZ

This page was generated on 2025-09-30 12:03 -0400 (Tue, 30 Sep 2025).

HostnameOSArch (*)R versionInstalled pkgs
nebbiolo2Linux (Ubuntu 24.04.3 LTS)x86_644.5.1 Patched (2025-08-23 r88802) -- "Great Square Root" 4843
lconwaymacOS 12.7.1 Montereyx86_644.5.1 Patched (2025-09-10 r88807) -- "Great Square Root" 4631
kjohnson3macOS 13.7.7 Venturaarm644.5.1 Patched (2025-09-10 r88807) -- "Great Square Root" 4575
taishanLinux (openEuler 24.03 LTS)aarch644.5.0 (2025-04-11) -- "How About a Twenty-Six" 4576
Click on any hostname to see more info about the system (e.g. compilers)      (*) as reported by 'uname -p', except on Windows and Mac OS X

Package 1071/2337HostnameOS / ArchINSTALLBUILDCHECKBUILD BIN
ISAnalytics 1.19.3  (landing page)
Francesco Gazzo
Snapshot Date: 2025-09-29 13:45 -0400 (Mon, 29 Sep 2025)
git_url: https://git.bioconductor.org/packages/ISAnalytics
git_branch: devel
git_last_commit: 923672f
git_last_commit_date: 2025-07-21 09:31:21 -0400 (Mon, 21 Jul 2025)
nebbiolo2Linux (Ubuntu 24.04.3 LTS) / x86_64  OK    OK    OK  UNNEEDED, same version is already published
lconwaymacOS 12.7.1 Monterey / x86_64  OK    OK    OK    OK  UNNEEDED, same version is already published
kjohnson3macOS 13.7.7 Ventura / arm64  OK    OK    OK    OK  UNNEEDED, same version is already published
taishanLinux (openEuler 24.03 LTS) / aarch64  OK    OK    OK  


CHECK results for ISAnalytics on nebbiolo2

To the developers/maintainers of the ISAnalytics package:
- Allow up to 24 hours (and sometimes 48 hours) for your latest push to git@git.bioconductor.org:packages/ISAnalytics.git to reflect on this report. See Troubleshooting Build Report for more information.
- Use the following Renviron settings to reproduce errors and warnings.
- If 'R CMD check' started to fail recently on the Linux builder(s) over a missing dependency, add the missing dependency to 'Suggests:' in your DESCRIPTION file. See Renviron.bioc for more information.

raw results


Summary

Package: ISAnalytics
Version: 1.19.3
Command: /home/biocbuild/bbs-3.22-bioc/R/bin/R CMD check --install=check:ISAnalytics.install-out.txt --library=/home/biocbuild/bbs-3.22-bioc/R/site-library --timings ISAnalytics_1.19.3.tar.gz
StartedAt: 2025-09-30 01:10:45 -0400 (Tue, 30 Sep 2025)
EndedAt: 2025-09-30 01:21:24 -0400 (Tue, 30 Sep 2025)
EllapsedTime: 638.8 seconds
RetCode: 0
Status:   OK  
CheckDir: ISAnalytics.Rcheck
Warnings: 0

Command output

##############################################################################
##############################################################################
###
### Running command:
###
###   /home/biocbuild/bbs-3.22-bioc/R/bin/R CMD check --install=check:ISAnalytics.install-out.txt --library=/home/biocbuild/bbs-3.22-bioc/R/site-library --timings ISAnalytics_1.19.3.tar.gz
###
##############################################################################
##############################################################################


* using log directory ‘/home/biocbuild/bbs-3.22-bioc/meat/ISAnalytics.Rcheck’
* using R version 4.5.1 Patched (2025-08-23 r88802)
* using platform: x86_64-pc-linux-gnu
* R was compiled by
    gcc (Ubuntu 13.3.0-6ubuntu2~24.04) 13.3.0
    GNU Fortran (Ubuntu 13.3.0-6ubuntu2~24.04) 13.3.0
* running under: Ubuntu 24.04.3 LTS
* using session charset: UTF-8
* checking for file ‘ISAnalytics/DESCRIPTION’ ... OK
* this is package ‘ISAnalytics’ version ‘1.19.3’
* package encoding: UTF-8
* checking package namespace information ... OK
* checking package dependencies ... INFO
Imports includes 22 non-default packages.
Importing from so many packages makes the package vulnerable to any of
them becoming unavailable.  Move as many as possible to Suggests and
use conditionally.
* checking if this is a source package ... OK
* checking if there is a namespace ... OK
* checking for hidden files and directories ... OK
* checking for portable file names ... OK
* checking for sufficient/correct file permissions ... OK
* checking whether package ‘ISAnalytics’ can be installed ... OK
* checking installed package size ... INFO
  installed size is  8.3Mb
  sub-directories of 1Mb or more:
    data   5.8Mb
* checking package directory ... OK
* checking ‘build’ directory ... OK
* checking DESCRIPTION meta-information ... OK
* checking top-level files ... OK
* checking for left-over files ... OK
* checking index information ... OK
* checking package subdirectories ... OK
* checking code files for non-ASCII characters ... OK
* checking R files for syntax errors ... OK
* checking whether the package can be loaded ... OK
* checking whether the package can be loaded with stated dependencies ... OK
* checking whether the package can be unloaded cleanly ... OK
* checking whether the namespace can be loaded with stated dependencies ... OK
* checking whether the namespace can be unloaded cleanly ... OK
* checking loading without being on the library search path ... OK
* checking whether startup messages can be suppressed ... OK
* checking dependencies in R code ... OK
* checking S3 generic/method consistency ... OK
* checking replacement functions ... OK
* checking foreign function calls ... OK
* checking R code for possible problems ... OK
* checking Rd files ... NOTE
checkRd: (-1) refGenes_hg19.Rd:21: Lost braces; missing escapes or markup?
    21 | \item Download from {http://hgdownload.soe.ucsc.edu/goldenPath/hg19/database/}
       |                     ^
* checking Rd metadata ... OK
* checking Rd cross-references ... OK
* checking for missing documentation entries ... OK
* checking for code/documentation mismatches ... OK
* checking Rd \usage sections ... OK
* checking Rd contents ... OK
* checking for unstated dependencies in examples ... OK
* checking contents of ‘data’ directory ... OK
* checking data for non-ASCII characters ... OK
* checking data for ASCII and uncompressed saves ... OK
* checking files in ‘vignettes’ ... OK
* checking examples ... OK
Examples with CPU (user + system) or elapsed time > 5s
                                user system elapsed
sharing_venn                   4.801  0.499  35.234
integration_alluvial_plot      3.830  0.341  11.383
import_parallel_Vispa2Matrices 3.299  0.368  19.905
sharing_heatmap                2.274  0.141  11.476
import_Vispa2_stats            1.973  0.335   8.302
top_cis_overtime_heatmap       2.104  0.142  10.083
CIS_grubbs_overtime            1.754  0.096   7.282
iss_source                     1.713  0.100   8.410
realign_after_collisions       1.547  0.138   8.026
is_sharing                     1.552  0.105   9.321
remove_collisions              1.515  0.051   8.344
HSC_population_plot            1.411  0.027   6.451
compute_near_integrations      1.096  0.207   6.615
HSC_population_size_estimate   0.984  0.061   6.415
* checking for unstated dependencies in ‘tests’ ... OK
* checking tests ...
  Running ‘testthat.R’
 OK
* checking for unstated dependencies in vignettes ... OK
* checking package vignettes ... OK
* checking re-building of vignette outputs ... OK
* checking PDF version of manual ... OK
* DONE

Status: 1 NOTE
See
  ‘/home/biocbuild/bbs-3.22-bioc/meat/ISAnalytics.Rcheck/00check.log’
for details.


Installation output

ISAnalytics.Rcheck/00install.out

##############################################################################
##############################################################################
###
### Running command:
###
###   /home/biocbuild/bbs-3.22-bioc/R/bin/R CMD INSTALL ISAnalytics
###
##############################################################################
##############################################################################


* installing to library ‘/home/biocbuild/bbs-3.22-bioc/R/site-library’
* installing *source* package ‘ISAnalytics’ ...
** this is package ‘ISAnalytics’ version ‘1.19.3’
** using staged installation
** R
** data
** inst
** byte-compile and prepare package for lazy loading
** help
*** installing help indices
*** copying figures
** building package indices
** installing vignettes
** testing if installed package can be loaded from temporary location
** testing if installed package can be loaded from final location
** testing if installed package keeps a record of temporary installation path
* DONE (ISAnalytics)

Tests output

ISAnalytics.Rcheck/tests/testthat.Rout


R version 4.5.1 Patched (2025-08-23 r88802) -- "Great Square Root"
Copyright (C) 2025 The R Foundation for Statistical Computing
Platform: x86_64-pc-linux-gnu

R is free software and comes with ABSOLUTELY NO WARRANTY.
You are welcome to redistribute it under certain conditions.
Type 'license()' or 'licence()' for distribution details.

R is a collaborative project with many contributors.
Type 'contributors()' for more information and
'citation()' on how to cite R or R packages in publications.

Type 'demo()' for some demos, 'help()' for on-line help, or
'help.start()' for an HTML browser interface to help.
Type 'q()' to quit R.

> library(testthat)
> library(ISAnalytics)
> 
> test_check("ISAnalytics")
Loading required namespace: plotly
Loading required namespace: rmarkdown
Report correctly saved
i Report saved to: /tmp/RtmpYNZmgE/file362fdf24f5e8f/2025-09-30_collision_removal_report.html
Report correctly saved
i Report saved to: /tmp/RtmpYNZmgE/file362fdf4a8e2607/2025-09-30_outlier_test_pool_fragments_report.html
[ FAIL 0 | WARN 0 | SKIP 0 | PASS 834 ]
> 
> proc.time()
   user  system elapsed 
106.507   7.094 304.335 

Example timings

ISAnalytics.Rcheck/ISAnalytics-Ex.timings

nameusersystemelapsed
CIS_grubbs0.8030.0330.836
CIS_grubbs_overtime1.7540.0967.282
CIS_volcano_plot1.4690.0841.554
HSC_population_plot1.4110.0276.451
HSC_population_size_estimate0.9840.0616.415
NGSdataExplorer000
aggregate_metadata0.1010.0000.101
aggregate_values_by_key0.0640.0000.065
annotation_issues0.0260.0020.028
as_sparse_matrix0.0510.0000.051
available_outlier_tests000
available_tags0.0210.0000.022
blood_lineages_default0.0280.0000.028
circos_genomic_density000
clinical_relevant_suspicious_genes0.0130.0000.013
comparison_matrix0.0270.0000.027
compute_abundance0.0350.0000.035
compute_near_integrations1.0960.2076.615
cumulative_count_union000
cumulative_is0.2080.0460.254
date_formats0.0010.0010.000
default_af_transform0.0000.0000.001
default_iss_file_prefixes000
default_meta_agg0.020.000.02
default_rec_agg_lambdas0.0000.0000.001
default_report_path0.0060.0010.009
default_stats1.3550.0341.389
enable_progress_bars0.0170.0010.019
export_ISA_settings0.0660.0100.076
fisher_scatterplot1.1880.2231.411
gene_frequency_fisher0.8660.0460.912
generate_Vispa2_launch_AF0.2420.0140.255
generate_blank_association_file0.0110.0010.013
generate_default_folder_structure0.3500.0650.416
import_ISA_settings0.0620.0020.064
import_Vispa2_stats1.9730.3358.302
import_association_file0.5790.1350.714
import_parallel_Vispa2Matrices 3.299 0.36819.905
import_single_Vispa2Matrix0.8400.0970.938
inspect_tags0.0130.0000.013
integration_alluvial_plot 3.830 0.34111.383
is_sharing1.5520.1059.321
iss_source1.7130.1008.410
known_clinical_oncogenes0.0140.0010.014
mandatory_IS_vars0.1020.0020.104
matching_options000
outlier_filter0.1560.0140.170
outliers_by_pool_fragments0.1660.0160.182
pcr_id_column0.0220.0000.022
purity_filter0.3500.0540.405
quantification_types000
realign_after_collisions1.5470.1388.026
reduced_AF_columns0.0490.0000.049
refGene_table_cols000
remove_collisions1.5150.0518.344
reset_mandatory_IS_vars0.0050.0000.005
sample_statistics0.3220.0310.352
separate_quant_matrices0.0180.0010.018
set_mandatory_IS_vars0.0950.0020.097
set_matrix_file_suffixes0.0190.0020.020
sharing_heatmap 2.274 0.14111.476
sharing_venn 4.801 0.49935.234
threshold_filter000
top_abund_tableGrob0.5980.0110.609
top_cis_overtime_heatmap 2.104 0.14210.083
top_integrations0.0310.0020.032
top_targeted_genes0.4750.0310.507
transform_columns0.0220.0010.024