Back to Multiple platform build/check report for BioC 3.22: simplified long |
|
This page was generated on 2025-10-14 12:04 -0400 (Tue, 14 Oct 2025).
Hostname | OS | Arch (*) | R version | Installed pkgs |
---|---|---|---|---|
nebbiolo2 | Linux (Ubuntu 24.04.3 LTS) | x86_64 | 4.5.1 Patched (2025-08-23 r88802) -- "Great Square Root" | 4864 |
lconway | macOS 12.7.1 Monterey | x86_64 | 4.5.1 Patched (2025-09-10 r88807) -- "Great Square Root" | 4652 |
kjohnson3 | macOS 13.7.7 Ventura | arm64 | 4.5.1 Patched (2025-09-10 r88807) -- "Great Square Root" | 4597 |
taishan | Linux (openEuler 24.03 LTS) | aarch64 | 4.5.0 (2025-04-11) -- "How About a Twenty-Six" | 4610 |
Click on any hostname to see more info about the system (e.g. compilers) (*) as reported by 'uname -p', except on Windows and Mac OS X |
Package 971/2346 | Hostname | OS / Arch | INSTALL | BUILD | CHECK | BUILD BIN | ||||||||
HiCBricks 1.27.1 (landing page) Koustav Pal
| nebbiolo2 | Linux (Ubuntu 24.04.3 LTS) / x86_64 | OK | OK | OK | ![]() | ||||||||
lconway | macOS 12.7.1 Monterey / x86_64 | OK | OK | OK | OK | ![]() | ||||||||
kjohnson3 | macOS 13.7.7 Ventura / arm64 | OK | OK | OK | OK | ![]() | ||||||||
taishan | Linux (openEuler 24.03 LTS) / aarch64 | OK | OK | OK | ||||||||||
To the developers/maintainers of the HiCBricks package: - Allow up to 24 hours (and sometimes 48 hours) for your latest push to git@git.bioconductor.org:packages/HiCBricks.git to reflect on this report. See Troubleshooting Build Report for more information. - Use the following Renviron settings to reproduce errors and warnings. - If 'R CMD check' started to fail recently on the Linux builder(s) over a missing dependency, add the missing dependency to 'Suggests:' in your DESCRIPTION file. See Renviron.bioc for more information. |
Package: HiCBricks |
Version: 1.27.1 |
Command: /Library/Frameworks/R.framework/Resources/bin/R CMD check --install=check:HiCBricks.install-out.txt --library=/Library/Frameworks/R.framework/Resources/library --no-vignettes --timings HiCBricks_1.27.1.tar.gz |
StartedAt: 2025-10-13 22:43:16 -0400 (Mon, 13 Oct 2025) |
EndedAt: 2025-10-13 22:46:34 -0400 (Mon, 13 Oct 2025) |
EllapsedTime: 198.3 seconds |
RetCode: 0 |
Status: OK |
CheckDir: HiCBricks.Rcheck |
Warnings: 0 |
############################################################################## ############################################################################## ### ### Running command: ### ### /Library/Frameworks/R.framework/Resources/bin/R CMD check --install=check:HiCBricks.install-out.txt --library=/Library/Frameworks/R.framework/Resources/library --no-vignettes --timings HiCBricks_1.27.1.tar.gz ### ############################################################################## ############################################################################## * using log directory ‘/Users/biocbuild/bbs-3.22-bioc/meat/HiCBricks.Rcheck’ * using R version 4.5.1 Patched (2025-09-10 r88807) * using platform: x86_64-apple-darwin20 * R was compiled by Apple clang version 14.0.0 (clang-1400.0.29.202) GNU Fortran (GCC) 14.2.0 * running under: macOS Monterey 12.7.6 * using session charset: UTF-8 * using option ‘--no-vignettes’ * checking for file ‘HiCBricks/DESCRIPTION’ ... OK * checking extension type ... Package * this is package ‘HiCBricks’ version ‘1.27.1’ * package encoding: UTF-8 * checking package namespace information ... OK * checking package dependencies ... OK * checking if this is a source package ... OK * checking if there is a namespace ... OK * checking for hidden files and directories ... OK * checking for portable file names ... OK * checking for sufficient/correct file permissions ... OK * checking whether package ‘HiCBricks’ can be installed ... OK * checking installed package size ... OK * checking package directory ... OK * checking ‘build’ directory ... OK * checking DESCRIPTION meta-information ... OK * checking top-level files ... OK * checking for left-over files ... OK * checking index information ... OK * checking package subdirectories ... OK * checking code files for non-ASCII characters ... OK * checking R files for syntax errors ... OK * checking whether the package can be loaded ... OK * checking whether the package can be loaded with stated dependencies ... OK * checking whether the package can be unloaded cleanly ... OK * checking whether the namespace can be loaded with stated dependencies ... OK * checking whether the namespace can be unloaded cleanly ... OK * checking dependencies in R code ... OK * checking S3 generic/method consistency ... OK * checking replacement functions ... OK * checking foreign function calls ... OK * checking R code for possible problems ... OK * checking Rd files ... OK * checking Rd metadata ... OK * checking Rd cross-references ... OK * checking for missing documentation entries ... OK * checking for code/documentation mismatches ... OK * checking Rd \usage sections ... OK * checking Rd contents ... OK * checking for unstated dependencies in examples ... OK * checking files in ‘vignettes’ ... OK * checking examples ... OK * checking for unstated dependencies in vignettes ... OK * checking package vignettes ... OK * checking running R code from vignettes ... SKIPPED * checking re-building of vignette outputs ... SKIPPED * checking PDF version of manual ... OK * DONE Status: OK
HiCBricks.Rcheck/00install.out
############################################################################## ############################################################################## ### ### Running command: ### ### /Library/Frameworks/R.framework/Resources/bin/R CMD INSTALL HiCBricks ### ############################################################################## ############################################################################## * installing to library ‘/Library/Frameworks/R.framework/Versions/4.5-x86_64/Resources/library’ * installing *source* package ‘HiCBricks’ ... ** this is package ‘HiCBricks’ version ‘1.27.1’ ** using staged installation ** R ** inst ** byte-compile and prepare package for lazy loading ** help *** installing help indices ** building package indices ** installing vignettes ** testing if installed package can be loaded from temporary location ** testing if installed package can be loaded from final location ** testing if installed package keeps a record of temporary installation path * DONE (HiCBricks)
HiCBricks.Rcheck/HiCBricks-Ex.timings
name | user | system | elapsed | |
BrickContainer_change_experiment_name | 1.259 | 0.139 | 1.455 | |
BrickContainer_change_output_directory | 1.046 | 0.095 | 1.158 | |
BrickContainer_get_path_to_file | 0.884 | 0.086 | 0.976 | |
BrickContainer_list_chromosomes | 0.869 | 0.086 | 0.964 | |
BrickContainer_list_experiment_name | 0.884 | 0.090 | 0.980 | |
BrickContainer_list_files | 0.940 | 0.087 | 1.038 | |
BrickContainer_list_output_directory | 0.906 | 0.095 | 1.018 | |
BrickContainer_list_resolutions | 0.927 | 0.093 | 1.048 | |
BrickContainer_unlink_resolution | 1.953 | 0.199 | 2.189 | |
Brick_add_ranges | 1.994 | 0.135 | 2.143 | |
Brick_call_compartments | 1.518 | 0.274 | 1.826 | |
Brick_export_to_sparse | 2.858 | 0.309 | 3.225 | |
Brick_fetch_range_index | 1.094 | 0.094 | 1.211 | |
Brick_fetch_row_vector | 1.736 | 0.211 | 1.971 | |
Brick_get_bintable | 1.347 | 0.098 | 1.456 | |
Brick_get_chrominfo | 0.926 | 0.101 | 1.054 | |
Brick_get_entire_matrix | 1.400 | 0.259 | 1.687 | |
Brick_get_matrix | 1.102 | 0.337 | 2.105 | |
Brick_get_matrix_mcols | 1.112 | 0.321 | 2.066 | |
Brick_get_matrix_within_coords | 1.914 | 0.287 | 2.250 | |
Brick_get_ranges | 1.022 | 0.107 | 1.159 | |
Brick_get_values_by_distance | 1.469 | 0.285 | 2.070 | |
Brick_get_vector_values | 1.208 | 0.456 | 2.334 | |
Brick_list_matrices | 0.961 | 0.112 | 1.104 | |
Brick_list_matrix_mcols | 0.963 | 0.099 | 1.072 | |
Brick_list_mcool_normalisations | 0 | 0 | 0 | |
Brick_list_mcool_resolutions | 0.000 | 0.001 | 0.001 | |
Brick_list_rangekeys | 0.944 | 0.108 | 1.070 | |
Brick_list_ranges_mcols | 0.959 | 0.101 | 1.071 | |
Brick_load_cis_matrix_till_distance | 1.262 | 0.293 | 1.706 | |
Brick_load_data_from_mcool | 0.000 | 0.001 | 0.000 | |
Brick_load_data_from_sparse | 0 | 0 | 0 | |
Brick_load_matrix | 1.244 | 0.203 | 1.476 | |
Brick_local_score_differentiator | 2.031 | 0.401 | 2.554 | |
Brick_make_ranges | 0.009 | 0.001 | 0.009 | |
Brick_matrix_dimensions | 1.293 | 0.310 | 1.757 | |
Brick_matrix_exists | 1.289 | 0.290 | 1.657 | |
Brick_matrix_filename | 1.193 | 0.185 | 1.406 | |
Brick_matrix_isdone | 1.208 | 0.210 | 1.434 | |
Brick_matrix_issparse | 1.254 | 0.297 | 1.586 | |
Brick_matrix_maxdist | 1.272 | 0.262 | 1.645 | |
Brick_matrix_minmax | 1.319 | 0.273 | 1.673 | |
Brick_mcool_normalisation_exists | 0.000 | 0.000 | 0.001 | |
Brick_rangekey_exists | 0.843 | 0.092 | 0.945 | |
Brick_return_region_position | 1.001 | 0.123 | 1.178 | |
Brick_vizart_plot_heatmap | 2.511 | 0.321 | 2.867 | |
Create_many_Bricks | 0.925 | 0.101 | 1.056 | |
Create_many_Bricks_from_mcool | 0.001 | 0.001 | 0.001 | |
load_BrickContainer | 1.021 | 0.108 | 1.140 | |