| Back to Build/check report for BioC 3.23: simplified long |
|
This page was generated on 2025-11-01 11:32 -0400 (Sat, 01 Nov 2025).
| Hostname | OS | Arch (*) | R version | Installed pkgs |
|---|---|---|---|---|
| nebbiolo1 | Linux (Ubuntu 24.04.3 LTS) | x86_64 | R Under development (unstable) (2025-10-20 r88955) -- "Unsuffered Consequences" | 4774 |
| Click on any hostname to see more info about the system (e.g. compilers) (*) as reported by 'uname -p', except on Windows and Mac OS X | ||||
| Package 964/2321 | Hostname | OS / Arch | INSTALL | BUILD | CHECK | BUILD BIN | ||||||||
| HiCBricks 1.29.0 (landing page) Koustav Pal
| nebbiolo1 | Linux (Ubuntu 24.04.3 LTS) / x86_64 | OK | OK | OK | |||||||||
|
To the developers/maintainers of the HiCBricks package: - Allow up to 24 hours (and sometimes 48 hours) for your latest push to git@git.bioconductor.org:packages/HiCBricks.git to reflect on this report. See Troubleshooting Build Report for more information. - Use the following Renviron settings to reproduce errors and warnings. - If 'R CMD check' started to fail recently on the Linux builder(s) over a missing dependency, add the missing dependency to 'Suggests:' in your DESCRIPTION file. See Renviron.bioc for more information. |
| Package: HiCBricks |
| Version: 1.29.0 |
| Command: /home/biocbuild/bbs-3.23-bioc/R/bin/R CMD check --install=check:HiCBricks.install-out.txt --library=/home/biocbuild/bbs-3.23-bioc/R/site-library --timings HiCBricks_1.29.0.tar.gz |
| StartedAt: 2025-11-01 00:07:17 -0400 (Sat, 01 Nov 2025) |
| EndedAt: 2025-11-01 00:10:25 -0400 (Sat, 01 Nov 2025) |
| EllapsedTime: 188.2 seconds |
| RetCode: 0 |
| Status: OK |
| CheckDir: HiCBricks.Rcheck |
| Warnings: 0 |
##############################################################################
##############################################################################
###
### Running command:
###
### /home/biocbuild/bbs-3.23-bioc/R/bin/R CMD check --install=check:HiCBricks.install-out.txt --library=/home/biocbuild/bbs-3.23-bioc/R/site-library --timings HiCBricks_1.29.0.tar.gz
###
##############################################################################
##############################################################################
* using log directory ‘/home/biocbuild/bbs-3.23-bioc/meat/HiCBricks.Rcheck’
* using R Under development (unstable) (2025-10-20 r88955)
* using platform: x86_64-pc-linux-gnu
* R was compiled by
gcc (Ubuntu 13.3.0-6ubuntu2~24.04) 13.3.0
GNU Fortran (Ubuntu 13.3.0-6ubuntu2~24.04) 13.3.0
* running under: Ubuntu 24.04.3 LTS
* using session charset: UTF-8
* checking for file ‘HiCBricks/DESCRIPTION’ ... OK
* checking extension type ... Package
* this is package ‘HiCBricks’ version ‘1.29.0’
* package encoding: UTF-8
* checking package namespace information ... OK
* checking package dependencies ... OK
* checking if this is a source package ... OK
* checking if there is a namespace ... OK
* checking for hidden files and directories ... OK
* checking for portable file names ... OK
* checking for sufficient/correct file permissions ... OK
* checking whether package ‘HiCBricks’ can be installed ... OK
* checking installed package size ... OK
* checking package directory ... OK
* checking ‘build’ directory ... OK
* checking DESCRIPTION meta-information ... OK
* checking top-level files ... OK
* checking for left-over files ... OK
* checking index information ... OK
* checking package subdirectories ... OK
* checking code files for non-ASCII characters ... OK
* checking R files for syntax errors ... OK
* checking whether the package can be loaded ... OK
* checking whether the package can be loaded with stated dependencies ... OK
* checking whether the package can be unloaded cleanly ... OK
* checking whether the namespace can be loaded with stated dependencies ... OK
* checking whether the namespace can be unloaded cleanly ... OK
* checking loading without being on the library search path ... OK
* checking dependencies in R code ... OK
* checking S3 generic/method consistency ... OK
* checking replacement functions ... OK
* checking foreign function calls ... OK
* checking R code for possible problems ... OK
* checking Rd files ... OK
* checking Rd metadata ... OK
* checking Rd cross-references ... OK
* checking for missing documentation entries ... OK
* checking for code/documentation mismatches ... OK
* checking Rd \usage sections ... OK
* checking Rd contents ... OK
* checking for unstated dependencies in examples ... OK
* checking files in ‘vignettes’ ... OK
* checking examples ... OK
* checking for unstated dependencies in vignettes ... OK
* checking package vignettes ... OK
* checking re-building of vignette outputs ... OK
* checking PDF version of manual ... OK
* DONE
Status: OK
HiCBricks.Rcheck/00install.out
############################################################################## ############################################################################## ### ### Running command: ### ### /home/biocbuild/bbs-3.23-bioc/R/bin/R CMD INSTALL HiCBricks ### ############################################################################## ############################################################################## * installing to library ‘/home/biocbuild/bbs-3.23-bioc/R/site-library’ * installing *source* package ‘HiCBricks’ ... ** this is package ‘HiCBricks’ version ‘1.29.0’ ** using staged installation ** R ** inst ** byte-compile and prepare package for lazy loading ** help *** installing help indices ** building package indices ** installing vignettes ** testing if installed package can be loaded from temporary location ** testing if installed package can be loaded from final location ** testing if installed package keeps a record of temporary installation path * DONE (HiCBricks)
HiCBricks.Rcheck/HiCBricks-Ex.timings
| name | user | system | elapsed | |
| BrickContainer_change_experiment_name | 1.086 | 0.018 | 1.103 | |
| BrickContainer_change_output_directory | 0.758 | 0.011 | 0.769 | |
| BrickContainer_get_path_to_file | 0.716 | 0.007 | 0.723 | |
| BrickContainer_list_chromosomes | 0.714 | 0.009 | 0.723 | |
| BrickContainer_list_experiment_name | 0.701 | 0.008 | 0.709 | |
| BrickContainer_list_files | 0.754 | 0.042 | 0.797 | |
| BrickContainer_list_output_directory | 0.711 | 0.007 | 0.717 | |
| BrickContainer_list_resolutions | 0.711 | 0.009 | 0.720 | |
| BrickContainer_unlink_resolution | 1.539 | 0.045 | 1.584 | |
| Brick_add_ranges | 1.741 | 0.073 | 1.814 | |
| Brick_call_compartments | 1.190 | 0.049 | 1.240 | |
| Brick_export_to_sparse | 2.168 | 0.051 | 2.219 | |
| Brick_fetch_range_index | 0.856 | 0.012 | 0.868 | |
| Brick_fetch_row_vector | 1.633 | 0.039 | 1.672 | |
| Brick_get_bintable | 0.727 | 0.011 | 0.739 | |
| Brick_get_chrominfo | 0.708 | 0.006 | 0.714 | |
| Brick_get_entire_matrix | 1.012 | 0.071 | 1.084 | |
| Brick_get_matrix | 0.993 | 0.016 | 1.008 | |
| Brick_get_matrix_mcols | 0.961 | 0.020 | 0.981 | |
| Brick_get_matrix_within_coords | 1.416 | 0.042 | 1.458 | |
| Brick_get_ranges | 0.745 | 0.012 | 0.757 | |
| Brick_get_values_by_distance | 1.077 | 0.024 | 1.101 | |
| Brick_get_vector_values | 0.996 | 0.020 | 1.017 | |
| Brick_list_matrices | 0.699 | 0.009 | 0.708 | |
| Brick_list_matrix_mcols | 0.692 | 0.007 | 0.699 | |
| Brick_list_mcool_normalisations | 0.000 | 0.000 | 0.001 | |
| Brick_list_mcool_resolutions | 0.000 | 0.000 | 0.001 | |
| Brick_list_rangekeys | 0.685 | 0.010 | 0.696 | |
| Brick_list_ranges_mcols | 0.701 | 0.007 | 0.709 | |
| Brick_load_cis_matrix_till_distance | 0.869 | 0.028 | 0.897 | |
| Brick_load_data_from_mcool | 0.000 | 0.000 | 0.001 | |
| Brick_load_data_from_sparse | 0.000 | 0.001 | 0.001 | |
| Brick_load_matrix | 0.957 | 0.022 | 0.979 | |
| Brick_local_score_differentiator | 1.522 | 0.031 | 1.554 | |
| Brick_make_ranges | 0.007 | 0.000 | 0.007 | |
| Brick_matrix_dimensions | 0.936 | 0.014 | 0.949 | |
| Brick_matrix_exists | 0.945 | 0.028 | 0.973 | |
| Brick_matrix_filename | 0.968 | 0.033 | 1.000 | |
| Brick_matrix_isdone | 0.938 | 0.015 | 0.952 | |
| Brick_matrix_issparse | 0.933 | 0.022 | 0.955 | |
| Brick_matrix_maxdist | 0.962 | 0.020 | 0.982 | |
| Brick_matrix_minmax | 0.965 | 0.016 | 0.981 | |
| Brick_mcool_normalisation_exists | 0 | 0 | 0 | |
| Brick_rangekey_exists | 0.727 | 0.010 | 0.737 | |
| Brick_return_region_position | 0.802 | 0.010 | 0.812 | |
| Brick_vizart_plot_heatmap | 1.974 | 0.022 | 1.996 | |
| Create_many_Bricks | 0.764 | 0.017 | 0.781 | |
| Create_many_Bricks_from_mcool | 0.001 | 0.000 | 0.000 | |
| load_BrickContainer | 0.790 | 0.007 | 0.796 | |