Back to Multiple platform build/check report for BioC 3.23:   simplified   long
ABCDEF[G]HIJKLMNOPQRSTUVWXYZ

This page was generated on 2025-11-21 11:38 -0500 (Fri, 21 Nov 2025).

HostnameOSArch (*)R versionInstalled pkgs
nebbiolo1Linux (Ubuntu 24.04.3 LTS)x86_64R Under development (unstable) (2025-10-20 r88955) -- "Unsuffered Consequences" 4829
lconwaymacOS 12.7.6 Montereyx86_64R Under development (unstable) (2025-10-21 r88958) -- "Unsuffered Consequences" 4602
kjohnson3macOS 13.7.7 Venturaarm64R Under development (unstable) (2025-11-04 r88984) -- "Unsuffered Consequences" 4566
Click on any hostname to see more info about the system (e.g. compilers)      (*) as reported by 'uname -p', except on Windows and Mac OS X

Package 882/2327HostnameOS / ArchINSTALLBUILDCHECKBUILD BIN
GladiaTOX 1.27.0  (landing page)
PMP S.A. R Support
Snapshot Date: 2025-11-20 13:40 -0500 (Thu, 20 Nov 2025)
git_url: https://git.bioconductor.org/packages/GladiaTOX
git_branch: devel
git_last_commit: ab512db
git_last_commit_date: 2025-10-29 10:52:17 -0500 (Wed, 29 Oct 2025)
nebbiolo1Linux (Ubuntu 24.04.3 LTS) / x86_64  OK    OK    OK  UNNEEDED, same version is already published
lconwaymacOS 12.7.6 Monterey / x86_64  OK    OK    OK    OK  UNNEEDED, same version is already published
kjohnson3macOS 13.7.7 Ventura / arm64  OK    OK    OK    OK  UNNEEDED, same version is already published


CHECK results for GladiaTOX on lconway

To the developers/maintainers of the GladiaTOX package:
- Allow up to 24 hours (and sometimes 48 hours) for your latest push to git@git.bioconductor.org:packages/GladiaTOX.git to reflect on this report. See Troubleshooting Build Report for more information.
- Use the following Renviron settings to reproduce errors and warnings.
- If 'R CMD check' started to fail recently on the Linux builder(s) over a missing dependency, add the missing dependency to 'Suggests:' in your DESCRIPTION file. See Renviron.bioc for more information.

raw results


Summary

Package: GladiaTOX
Version: 1.27.0
Command: /Library/Frameworks/R.framework/Resources/bin/R CMD check --install=check:GladiaTOX.install-out.txt --library=/Library/Frameworks/R.framework/Resources/library --no-vignettes --timings GladiaTOX_1.27.0.tar.gz
StartedAt: 2025-11-20 21:30:17 -0500 (Thu, 20 Nov 2025)
EndedAt: 2025-11-20 21:32:48 -0500 (Thu, 20 Nov 2025)
EllapsedTime: 151.2 seconds
RetCode: 0
Status:   OK  
CheckDir: GladiaTOX.Rcheck
Warnings: 0

Command output

##############################################################################
##############################################################################
###
### Running command:
###
###   /Library/Frameworks/R.framework/Resources/bin/R CMD check --install=check:GladiaTOX.install-out.txt --library=/Library/Frameworks/R.framework/Resources/library --no-vignettes --timings GladiaTOX_1.27.0.tar.gz
###
##############################################################################
##############################################################################


* using log directory ‘/Users/biocbuild/bbs-3.23-bioc/meat/GladiaTOX.Rcheck’
* using R Under development (unstable) (2025-10-21 r88958)
* using platform: x86_64-apple-darwin20
* R was compiled by
    Apple clang version 14.0.0 (clang-1400.0.29.202)
    GNU Fortran (GCC) 14.2.0
* running under: macOS Ventura 13.7.8
* using session charset: UTF-8
* using option ‘--no-vignettes’
* checking for file ‘GladiaTOX/DESCRIPTION’ ... OK
* checking extension type ... Package
* this is package ‘GladiaTOX’ version ‘1.27.0’
* checking package namespace information ... OK
* checking package dependencies ... OK
* checking if this is a source package ... OK
* checking if there is a namespace ... OK
* checking for hidden files and directories ... OK
* checking for portable file names ... OK
* checking for sufficient/correct file permissions ... OK
* checking whether package ‘GladiaTOX’ can be installed ... OK
* checking installed package size ... INFO
  installed size is  5.3Mb
  sub-directories of 1Mb or more:
    sql   3.8Mb
* checking package directory ... OK
* checking ‘build’ directory ... OK
* checking DESCRIPTION meta-information ... OK
* checking top-level files ... OK
* checking for left-over files ... OK
* checking index information ... OK
* checking package subdirectories ... OK
* checking code files for non-ASCII characters ... OK
* checking R files for syntax errors ... OK
* checking whether the package can be loaded ... OK
* checking whether the package can be loaded with stated dependencies ... OK
* checking whether the package can be unloaded cleanly ... OK
* checking whether the namespace can be loaded with stated dependencies ... OK
* checking whether the namespace can be unloaded cleanly ... OK
* checking whether startup messages can be suppressed ... OK
* checking dependencies in R code ... OK
* checking S3 generic/method consistency ... OK
* checking replacement functions ... OK
* checking foreign function calls ... OK
* checking R code for possible problems ... NOTE
glCheckInput: no visible global function definition for ‘read.csv’
glLoadInput: no visible global function definition for ‘read.csv’
glPlotPosCtrlMEC: no visible binding for global variable ‘aenm_wrap’
glPlotPosCtrlMEC: no visible binding for global variable ‘modl_acc’
Undefined global functions or variables:
  aenm_wrap modl_acc read.csv
Consider adding
  importFrom("utils", "read.csv")
to your NAMESPACE file.
* checking Rd files ... OK
* checking Rd metadata ... OK
* checking Rd cross-references ... NOTE
Found the following Rd file(s) with Rd \link{} targets missing package
anchors:
  gtoxLoadData.Rd: data.table
  gtoxLoadUnit.Rd: data.table
Please provide package anchors for all Rd \link{} targets not in the
package itself and the base packages.
* checking for missing documentation entries ... OK
* checking for code/documentation mismatches ... OK
* checking Rd \usage sections ... OK
* checking Rd contents ... OK
* checking for unstated dependencies in examples ... OK
* checking files in ‘vignettes’ ... OK
* checking examples ... OK
Examples with CPU (user + system) or elapsed time > 5s
                     user system elapsed
gtoxRun            22.962 14.402  19.116
assignDefaultMthds 23.367 12.275  18.906
* checking for unstated dependencies in ‘tests’ ... OK
* checking tests ...
  Running ‘testthat.R’
 OK
* checking for unstated dependencies in vignettes ... OK
* checking package vignettes ... OK
* checking running R code from vignettes ... SKIPPED
* checking re-building of vignette outputs ... SKIPPED
* checking PDF version of manual ... OK
* DONE

Status: 2 NOTEs
See
  ‘/Users/biocbuild/bbs-3.23-bioc/meat/GladiaTOX.Rcheck/00check.log’
for details.


Installation output

GladiaTOX.Rcheck/00install.out

##############################################################################
##############################################################################
###
### Running command:
###
###   /Library/Frameworks/R.framework/Resources/bin/R CMD INSTALL GladiaTOX
###
##############################################################################
##############################################################################


* installing to library ‘/Library/Frameworks/R.framework/Versions/4.6-x86_64/Resources/library’
* installing *source* package ‘GladiaTOX’ ...
** this is package ‘GladiaTOX’ version ‘1.27.0’
** using staged installation
** R
** inst
** byte-compile and prepare package for lazy loading
** help
*** installing help indices
** building package indices
** installing vignettes
** testing if installed package can be loaded from temporary location
** testing if installed package can be loaded from final location
** testing if installed package keeps a record of temporary installation path
* DONE (GladiaTOX)

Tests output

GladiaTOX.Rcheck/tests/testthat.Rout


R Under development (unstable) (2025-10-21 r88958) -- "Unsuffered Consequences"
Copyright (C) 2025 The R Foundation for Statistical Computing
Platform: x86_64-apple-darwin20

R is free software and comes with ABSOLUTELY NO WARRANTY.
You are welcome to redistribute it under certain conditions.
Type 'license()' or 'licence()' for distribution details.

R is a collaborative project with many contributors.
Type 'contributors()' for more information and
'citation()' on how to cite R or R packages in publications.

Type 'demo()' for some demos, 'help()' for on-line help, or
'help.start()' for an HTML browser interface to help.
Type 'q()' to quit R.

> library(testthat)
> library(GladiaTOX)
Loading required package: data.table
GladiaTOX (v1.27.0) loaded with the following settings:
  TCPL_DB:    /Library/Frameworks/R.framework/Versions/4.6-x86_64/Resources/library/GladiaTOX/sql/gladiatoxdb.sqlite
  TCPL_USER:  NA
  TCPL_HOST:  NA
  TCPL_DRVR:  SQLite
Default settings stored in gtox config file. See ?gtoxConf for more information.
> 
> options(testthat.junit.output_file="tests-out.xml")
> test_dir("testthat")
✔ | F W  S  OK | Context

⠏ |          0 | assignDefaultMthds                                             
⠋ |          1 | assignDefaultMthds                                             
✔ |          1 | assignDefaultMthds

⠏ |          0 | exportResultTable                                              
⠙ |          2 | exportResultTable                                              
✔ |          2 | exportResultTable

⠏ |          0 | getsplit                                                       
⠏ |          0 | getsplit                                                       
✔ |          1 | getsplit

⠏ |          0 | glComputeToxInd                                                
⠋ |          1 | glComputeToxInd                                                
✔ |          1 | glComputeToxInd

⠏ |          0 | gtoxAICProb                                                    
✔ |          1 | gtoxAICProb

⠏ |          0 | gtoxCalcVmad                                                   
⠏ |          0 | Calculate Vmad                                                 
✔ |          1 | Calculate Vmad

⠏ |          0 | gtoxLoadAcid                                                   
⠏ |          0 | Check assay component table                                    
⠙ |          2 | Check assay component table                                    
✔ |          2 | Check assay component table

⠏ |          0 | gtoxLoadAeid                                                   
⠏ |          0 | Check assay endpoint table                                     
⠙ |          2 | Check assay endpoint table                                     
✔ |          2 | Check assay endpoint table

⠏ |          0 | gtoxLoadAid                                                    
✔ |          1 | gtoxLoadAid

⠏ |          0 | gtoxLoadApid                                                   
⠏ |          0 | Check assay plate table                                        
✔ |          2 | Check assay plate table

⠏ |          0 | gtoxLoadAsid                                                   
✔ |          3 | gtoxLoadAsid

⠏ |          0 | gtoxLoadChem                                                   
⠏ |          0 | Check assay chemical table                                     
✔ |          3 | Check assay chemical table

⠏ |          0 | gtoxLoadWaid                                                   
⠏ |          0 | Check assay well table                                         
✔ |          2 | Check assay well table

⠏ |          0 | is.odd                                                         
✔ |          2 | is.odd

⠏ |          0 | lu                                                             
✔ |          1 | lu

⠏ |          0 | lw                                                             
✔ |          1 | lw

⠏ |          0 | mc2                                                            
✔ |          1 | mc2

⠏ |          0 | mc3                                                            
✔ |          1 | mc3

⠏ |          0 | mc5                                                            
✔ |          1 | mc5

⠏ |          0 | mc6                                                            
✔ |          1 | mc6

⠏ |          0 | sc1                                                            
✔ |          1 | sc1

⠏ |          0 | sc2                                                            
✔ |          1 | sc2

══ Results ═════════════════════════════════════════════════════════════════════
Duration: 2.4 s

[ FAIL 0 | WARN 0 | SKIP 0 | PASS 32 ]
> test_check("GladiaTOX")
[ FAIL 0 | WARN 0 | SKIP 0 | PASS 32 ]
> 
> proc.time()
   user  system elapsed 
  6.955   0.766   7.885 

Example timings

GladiaTOX.Rcheck/GladiaTOX-Ex.timings

nameusersystemelapsed
Models0.1390.0170.168
assay_funcs0.4410.0560.500
assignDefaultMthds23.36712.27518.906
buildAssayTab0.0180.0040.023
config_funcs0.0080.0050.012
deleteStudy0.0000.0000.001
exportResultForToxpiGUI0.3470.0470.396
exportResultTable0.1490.0120.162
glComputeToxInd0.3350.0300.367
glPlotPie2.2290.1022.345
glPlotPieLogo0.9490.0160.972
glPlotPosCtrl1.2020.0361.246
glPlotPosCtrlMEC0.4740.0490.529
glPlotStat1.2300.0251.261
glPlotToxInd0.6620.0290.697
gtoxAICProb0.0000.0010.001
gtoxAddModel0.4400.0160.461
gtoxCalcVmad0.0290.0030.032
gtoxCode2CASN0.0010.0000.001
gtoxFit0.3180.0040.326
gtoxImportThermoDB0.0010.0010.001
gtoxListFlds0.0050.0010.006
gtoxLoadApid0.0100.0030.013
gtoxLoadChem0.0520.0090.061
gtoxLoadClib0.0060.0010.007
gtoxLoadData0.0890.0120.104
gtoxLoadVehicle0.0060.0010.007
gtoxLoadVmad0.0090.0020.011
gtoxLoadWaid0.0250.0040.029
gtoxMakeAeidPlts0.3910.0390.442
gtoxPlotErrBar0.3310.0240.362
gtoxPlotFitc0.2500.0090.270
gtoxPlotFits0.4010.0150.421
gtoxPlotM4ID0.5420.0600.617
gtoxPlotPie0.1580.0120.173
gtoxPlotPieLgnd0.0050.0010.006
gtoxPlotPlate0.1940.0210.218
gtoxPlotWin0.0000.0000.001
gtoxPrepOtpt0.1340.0120.146
gtoxReport000
gtoxRun22.96214.40219.116
gtoxSetWllq0.1110.0320.147
gtoxSubsetChid0.1400.0250.167
gtoxWriteData0.0000.0000.001
hill_utils0.0010.0010.001
loadAnnot0.0010.0000.000
lu000
lw0.0000.0000.001
mthd_funcs0.0180.0040.023
prepareDatForDB0.0010.0000.001
query_funcs0.0170.0040.021
rgstr_funcs0.2880.0500.343