Back to Multiple platform build/check report for BioC 3.22:   simplified   long
ABCDEF[G]HIJKLMNOPQRSTUVWXYZ

This page was generated on 2025-10-28 12:05 -0400 (Tue, 28 Oct 2025).

HostnameOSArch (*)R versionInstalled pkgs
nebbiolo2Linux (Ubuntu 24.04.3 LTS)x86_644.5.1 Patched (2025-08-23 r88802) -- "Great Square Root" 4901
lconwaymacOS 12.7.6 Montereyx86_644.5.1 Patched (2025-09-10 r88807) -- "Great Square Root" 4691
kjohnson3macOS 13.7.7 Venturaarm644.5.1 Patched (2025-09-10 r88807) -- "Great Square Root" 4637
Click on any hostname to see more info about the system (e.g. compilers)      (*) as reported by 'uname -p', except on Windows and Mac OS X

Package 890/2361HostnameOS / ArchINSTALLBUILDCHECKBUILD BIN
GladiaTOX 1.25.3  (landing page)
PMP S.A. R Support
Snapshot Date: 2025-10-27 13:45 -0400 (Mon, 27 Oct 2025)
git_url: https://git.bioconductor.org/packages/GladiaTOX
git_branch: devel
git_last_commit: ec9e027
git_last_commit_date: 2025-09-24 13:05:49 -0400 (Wed, 24 Sep 2025)
nebbiolo2Linux (Ubuntu 24.04.3 LTS) / x86_64  OK    OK    OK  UNNEEDED, same version is already published
lconwaymacOS 12.7.6 Monterey / x86_64  OK    OK    OK    OK  UNNEEDED, same version is already published
kjohnson3macOS 13.7.7 Ventura / arm64  OK    OK    OK    OK  UNNEEDED, same version is already published


CHECK results for GladiaTOX on kjohnson3

To the developers/maintainers of the GladiaTOX package:
- Allow up to 24 hours (and sometimes 48 hours) for your latest push to git@git.bioconductor.org:packages/GladiaTOX.git to reflect on this report. See Troubleshooting Build Report for more information.
- Use the following Renviron settings to reproduce errors and warnings.
- If 'R CMD check' started to fail recently on the Linux builder(s) over a missing dependency, add the missing dependency to 'Suggests:' in your DESCRIPTION file. See Renviron.bioc for more information.

raw results


Summary

Package: GladiaTOX
Version: 1.25.3
Command: /Library/Frameworks/R.framework/Resources/bin/R CMD check --install=check:GladiaTOX.install-out.txt --library=/Library/Frameworks/R.framework/Resources/library --no-vignettes --timings GladiaTOX_1.25.3.tar.gz
StartedAt: 2025-10-27 20:00:40 -0400 (Mon, 27 Oct 2025)
EndedAt: 2025-10-27 20:01:26 -0400 (Mon, 27 Oct 2025)
EllapsedTime: 45.5 seconds
RetCode: 0
Status:   OK  
CheckDir: GladiaTOX.Rcheck
Warnings: 0

Command output

##############################################################################
##############################################################################
###
### Running command:
###
###   /Library/Frameworks/R.framework/Resources/bin/R CMD check --install=check:GladiaTOX.install-out.txt --library=/Library/Frameworks/R.framework/Resources/library --no-vignettes --timings GladiaTOX_1.25.3.tar.gz
###
##############################################################################
##############################################################################


* using log directory ‘/Users/biocbuild/bbs-3.22-bioc/meat/GladiaTOX.Rcheck’
* using R version 4.5.1 Patched (2025-09-10 r88807)
* using platform: aarch64-apple-darwin20
* R was compiled by
    Apple clang version 16.0.0 (clang-1600.0.26.6)
    GNU Fortran (GCC) 14.2.0
* running under: macOS Ventura 13.7.7
* using session charset: UTF-8
* using option ‘--no-vignettes’
* checking for file ‘GladiaTOX/DESCRIPTION’ ... OK
* checking extension type ... Package
* this is package ‘GladiaTOX’ version ‘1.25.3’
* checking package namespace information ... OK
* checking package dependencies ... OK
* checking if this is a source package ... OK
* checking if there is a namespace ... OK
* checking for hidden files and directories ... OK
* checking for portable file names ... OK
* checking for sufficient/correct file permissions ... OK
* checking whether package ‘GladiaTOX’ can be installed ... OK
* checking installed package size ... INFO
  installed size is  5.3Mb
  sub-directories of 1Mb or more:
    sql   3.8Mb
* checking package directory ... OK
* checking ‘build’ directory ... OK
* checking DESCRIPTION meta-information ... OK
* checking top-level files ... OK
* checking for left-over files ... OK
* checking index information ... OK
* checking package subdirectories ... OK
* checking code files for non-ASCII characters ... OK
* checking R files for syntax errors ... OK
* checking whether the package can be loaded ... OK
* checking whether the package can be loaded with stated dependencies ... OK
* checking whether the package can be unloaded cleanly ... OK
* checking whether the namespace can be loaded with stated dependencies ... OK
* checking whether the namespace can be unloaded cleanly ... OK
* checking whether startup messages can be suppressed ... OK
* checking dependencies in R code ... OK
* checking S3 generic/method consistency ... OK
* checking replacement functions ... OK
* checking foreign function calls ... OK
* checking R code for possible problems ... NOTE
glCheckInput: no visible global function definition for ‘read.csv’
glLoadInput: no visible global function definition for ‘read.csv’
glPlotPosCtrlMEC: no visible binding for global variable ‘aenm_wrap’
glPlotPosCtrlMEC: no visible binding for global variable ‘modl_acc’
Undefined global functions or variables:
  aenm_wrap modl_acc read.csv
Consider adding
  importFrom("utils", "read.csv")
to your NAMESPACE file.
* checking Rd files ... OK
* checking Rd metadata ... OK
* checking Rd cross-references ... NOTE
Found the following Rd file(s) with Rd \link{} targets missing package
anchors:
  gtoxLoadData.Rd: data.table
  gtoxLoadUnit.Rd: data.table
Please provide package anchors for all Rd \link{} targets not in the
package itself and the base packages.
* checking for missing documentation entries ... OK
* checking for code/documentation mismatches ... OK
* checking Rd \usage sections ... OK
* checking Rd contents ... OK
* checking for unstated dependencies in examples ... OK
* checking files in ‘vignettes’ ... OK
* checking examples ... OK
Examples with CPU (user + system) or elapsed time > 5s
                    user system elapsed
gtoxRun            5.942  4.917   5.788
assignDefaultMthds 5.916  3.651   5.222
* checking for unstated dependencies in ‘tests’ ... OK
* checking tests ...
  Running ‘testthat.R’
 OK
* checking for unstated dependencies in vignettes ... OK
* checking package vignettes ... OK
* checking running R code from vignettes ... SKIPPED
* checking re-building of vignette outputs ... SKIPPED
* checking PDF version of manual ... OK
* DONE

Status: 2 NOTEs
See
  ‘/Users/biocbuild/bbs-3.22-bioc/meat/GladiaTOX.Rcheck/00check.log’
for details.


Installation output

GladiaTOX.Rcheck/00install.out

##############################################################################
##############################################################################
###
### Running command:
###
###   /Library/Frameworks/R.framework/Resources/bin/R CMD INSTALL GladiaTOX
###
##############################################################################
##############################################################################


* installing to library ‘/Library/Frameworks/R.framework/Versions/4.5-arm64/Resources/library’
* installing *source* package ‘GladiaTOX’ ...
** this is package ‘GladiaTOX’ version ‘1.25.3’
** using staged installation
** R
** inst
** byte-compile and prepare package for lazy loading
** help
*** installing help indices
** building package indices
** installing vignettes
** testing if installed package can be loaded from temporary location
** testing if installed package can be loaded from final location
** testing if installed package keeps a record of temporary installation path
* DONE (GladiaTOX)

Tests output

GladiaTOX.Rcheck/tests/testthat.Rout


R version 4.5.1 Patched (2025-09-10 r88807) -- "Great Square Root"
Copyright (C) 2025 The R Foundation for Statistical Computing
Platform: aarch64-apple-darwin20

R is free software and comes with ABSOLUTELY NO WARRANTY.
You are welcome to redistribute it under certain conditions.
Type 'license()' or 'licence()' for distribution details.

R is a collaborative project with many contributors.
Type 'contributors()' for more information and
'citation()' on how to cite R or R packages in publications.

Type 'demo()' for some demos, 'help()' for on-line help, or
'help.start()' for an HTML browser interface to help.
Type 'q()' to quit R.

> library(testthat)
> library(GladiaTOX)
Loading required package: data.table
GladiaTOX (v1.25.3) loaded with the following settings:
  TCPL_DB:    /Library/Frameworks/R.framework/Versions/4.5-arm64/Resources/library/GladiaTOX/sql/gladiatoxdb.sqlite
  TCPL_USER:  NA
  TCPL_HOST:  NA
  TCPL_DRVR:  SQLite
Default settings stored in gtox config file. See ?gtoxConf for more information.
> 
> options(testthat.junit.output_file="tests-out.xml")
> test_dir("testthat")
✔ | F W  S  OK | Context

⠏ |          0 | assignDefaultMthds                                             
⠋ |          1 | assignDefaultMthds                                             
✔ |          1 | assignDefaultMthds

⠏ |          0 | exportResultTable                                              
✔ |          2 | exportResultTable

⠏ |          0 | getsplit                                                       
⠏ |          0 | getsplit                                                       
✔ |          1 | getsplit

⠏ |          0 | glComputeToxInd                                                
✔ |          1 | glComputeToxInd

⠏ |          0 | gtoxAICProb                                                    
✔ |          1 | gtoxAICProb

⠏ |          0 | gtoxCalcVmad                                                   
⠏ |          0 | Calculate Vmad                                                 
✔ |          1 | Calculate Vmad

⠏ |          0 | gtoxLoadAcid                                                   
⠏ |          0 | Check assay component table                                    
✔ |          2 | Check assay component table

⠏ |          0 | gtoxLoadAeid                                                   
⠏ |          0 | Check assay endpoint table                                     
✔ |          2 | Check assay endpoint table

⠏ |          0 | gtoxLoadAid                                                    
✔ |          1 | gtoxLoadAid

⠏ |          0 | gtoxLoadApid                                                   
⠏ |          0 | Check assay plate table                                        
✔ |          2 | Check assay plate table

⠏ |          0 | gtoxLoadAsid                                                   
✔ |          3 | gtoxLoadAsid

⠏ |          0 | gtoxLoadChem                                                   
⠏ |          0 | Check assay chemical table                                     
✔ |          3 | Check assay chemical table

⠏ |          0 | gtoxLoadWaid                                                   
⠏ |          0 | Check assay well table                                         
✔ |          2 | Check assay well table

⠏ |          0 | is.odd                                                         
✔ |          2 | is.odd

⠏ |          0 | lu                                                             
✔ |          1 | lu

⠏ |          0 | lw                                                             
✔ |          1 | lw

⠏ |          0 | mc2                                                            
✔ |          1 | mc2

⠏ |          0 | mc3                                                            
✔ |          1 | mc3

⠏ |          0 | mc5                                                            
✔ |          1 | mc5

⠏ |          0 | mc6                                                            
✔ |          1 | mc6

⠏ |          0 | sc1                                                            
✔ |          1 | sc1

⠏ |          0 | sc2                                                            
✔ |          1 | sc2

══ Results ═════════════════════════════════════════════════════════════════════
[ FAIL 0 | WARN 0 | SKIP 0 | PASS 32 ]
> test_check("GladiaTOX")
[ FAIL 0 | WARN 0 | SKIP 0 | PASS 32 ]
> 
> proc.time()
   user  system elapsed 
  1.993   0.176   2.176 

Example timings

GladiaTOX.Rcheck/GladiaTOX-Ex.timings

nameusersystemelapsed
Models0.0420.0050.051
assay_funcs0.1060.0140.119
assignDefaultMthds5.9163.6515.222
buildAssayTab0.0070.0020.011
config_funcs0.0020.0020.003
deleteStudy000
exportResultForToxpiGUI0.0930.0180.112
exportResultTable0.0420.0020.045
glComputeToxInd0.0850.0060.090
glPlotPie0.6430.0300.675
glPlotPieLogo0.2600.0060.265
glPlotPosCtrl0.3190.0090.329
glPlotPosCtrlMEC0.1230.0110.134
glPlotStat0.3340.0050.346
glPlotToxInd0.1790.0070.188
gtoxAICProb0.0000.0010.000
gtoxAddModel0.1420.0040.147
gtoxCalcVmad0.0080.0010.009
gtoxCode2CASN000
gtoxFit0.1060.0010.107
gtoxImportThermoDB0.0000.0010.000
gtoxListFlds0.0020.0000.002
gtoxLoadApid0.0030.0010.004
gtoxLoadChem0.0190.0030.022
gtoxLoadClib0.0020.0000.002
gtoxLoadData0.0240.0020.026
gtoxLoadVehicle0.0020.0000.003
gtoxLoadVmad0.0020.0010.003
gtoxLoadWaid0.0080.0000.009
gtoxMakeAeidPlts0.1120.0100.122
gtoxPlotErrBar0.0840.0050.090
gtoxPlotFitc0.0720.0010.074
gtoxPlotFits0.0380.0040.042
gtoxPlotM4ID0.2680.0190.288
gtoxPlotPie0.0370.0040.040
gtoxPlotPieLgnd0.0030.0000.003
gtoxPlotPlate0.0520.0060.058
gtoxPlotWin000
gtoxPrepOtpt0.0460.0050.052
gtoxReport0.0000.0000.001
gtoxRun5.9424.9175.788
gtoxSetWllq0.0240.0090.033
gtoxSubsetChid0.0240.0060.030
gtoxWriteData0.0000.0010.000
hill_utils0.0000.0000.001
loadAnnot000
lu000
lw000
mthd_funcs0.0040.0010.005
prepareDatForDB0.0000.0000.001
query_funcs0.0040.0020.005
rgstr_funcs0.0620.0140.077