Back to Multiple platform build/check report for BioC 3.23:   simplified   long
ABCDEF[G]HIJKLMNOPQRSTUVWXYZ

This page was generated on 2025-11-18 11:39 -0500 (Tue, 18 Nov 2025).

HostnameOSArch (*)R versionInstalled pkgs
nebbiolo1Linux (Ubuntu 24.04.3 LTS)x86_64R Under development (unstable) (2025-10-20 r88955) -- "Unsuffered Consequences" 4826
lconwaymacOS 12.7.6 Montereyx86_64R Under development (unstable) (2025-10-21 r88958) -- "Unsuffered Consequences" 4561
kjohnson3macOS 13.7.7 Venturaarm64R Under development (unstable) (2025-11-04 r88984) -- "Unsuffered Consequences" 4562
Click on any hostname to see more info about the system (e.g. compilers)      (*) as reported by 'uname -p', except on Windows and Mac OS X

Package 856/2325HostnameOS / ArchINSTALLBUILDCHECKBUILD BIN
GeoTcgaData 2.11.0  (landing page)
Erqiang Hu
Snapshot Date: 2025-11-17 13:40 -0500 (Mon, 17 Nov 2025)
git_url: https://git.bioconductor.org/packages/GeoTcgaData
git_branch: devel
git_last_commit: 4541645
git_last_commit_date: 2025-10-29 11:21:53 -0500 (Wed, 29 Oct 2025)
nebbiolo1Linux (Ubuntu 24.04.3 LTS) / x86_64  OK    OK    OK  UNNEEDED, same version is already published
lconwaymacOS 12.7.6 Monterey / x86_64  OK    OK    TIMEOUT    OK  
kjohnson3macOS 13.7.7 Ventura / arm64  OK    OK    OK    OK  UNNEEDED, same version is already published


CHECK results for GeoTcgaData on lconway

To the developers/maintainers of the GeoTcgaData package:
- Allow up to 24 hours (and sometimes 48 hours) for your latest push to git@git.bioconductor.org:packages/GeoTcgaData.git to reflect on this report. See Troubleshooting Build Report for more information.
- Use the following Renviron settings to reproduce errors and warnings.
- If 'R CMD check' started to fail recently on the Linux builder(s) over a missing dependency, add the missing dependency to 'Suggests:' in your DESCRIPTION file. See Renviron.bioc for more information.

raw results


Summary

Package: GeoTcgaData
Version: 2.11.0
Command: /Library/Frameworks/R.framework/Resources/bin/R CMD check --install=check:GeoTcgaData.install-out.txt --library=/Library/Frameworks/R.framework/Resources/library --no-vignettes --timings GeoTcgaData_2.11.0.tar.gz
StartedAt: 2025-11-18 01:19:58 -0500 (Tue, 18 Nov 2025)
EndedAt: 2025-11-18 02:01:11 -0500 (Tue, 18 Nov 2025)
EllapsedTime: 2473.3 seconds
RetCode: None
Status:   TIMEOUT  
CheckDir: GeoTcgaData.Rcheck
Warnings: NA

Command output

##############################################################################
##############################################################################
###
### Running command:
###
###   /Library/Frameworks/R.framework/Resources/bin/R CMD check --install=check:GeoTcgaData.install-out.txt --library=/Library/Frameworks/R.framework/Resources/library --no-vignettes --timings GeoTcgaData_2.11.0.tar.gz
###
##############################################################################
##############################################################################


* using log directory ‘/Users/biocbuild/bbs-3.23-bioc/meat/GeoTcgaData.Rcheck’
* using R Under development (unstable) (2025-10-21 r88958)
* using platform: x86_64-apple-darwin20
* R was compiled by
    Apple clang version 14.0.0 (clang-1400.0.29.202)
    GNU Fortran (GCC) 14.2.0
* running under: macOS Ventura 13.7.8
* using session charset: UTF-8

Installation output


Tests output


Example timings