| Back to Multiple platform build/check report for BioC 3.23: simplified long |
|
This page was generated on 2025-11-24 11:37 -0500 (Mon, 24 Nov 2025).
| Hostname | OS | Arch (*) | R version | Installed pkgs |
|---|---|---|---|---|
| nebbiolo1 | Linux (Ubuntu 24.04.3 LTS) | x86_64 | R Under development (unstable) (2025-10-20 r88955) -- "Unsuffered Consequences" | 4829 |
| lconway | macOS 12.7.6 Monterey | x86_64 | R Under development (unstable) (2025-10-21 r88958) -- "Unsuffered Consequences" | 4605 |
| kjohnson3 | macOS 13.7.7 Ventura | arm64 | R Under development (unstable) (2025-11-04 r88984) -- "Unsuffered Consequences" | 4568 |
| Click on any hostname to see more info about the system (e.g. compilers) (*) as reported by 'uname -p', except on Windows and Mac OS X | ||||
| Package 757/2327 | Hostname | OS / Arch | INSTALL | BUILD | CHECK | BUILD BIN | ||||||||
| FlowSOM 2.19.0 (landing page) Sofie Van Gassen
| nebbiolo1 | Linux (Ubuntu 24.04.3 LTS) / x86_64 | OK | OK | OK | |||||||||
| lconway | macOS 12.7.6 Monterey / x86_64 | OK | OK | OK | OK | |||||||||
| kjohnson3 | macOS 13.7.7 Ventura / arm64 | OK | OK | OK | OK | |||||||||
|
To the developers/maintainers of the FlowSOM package: - Allow up to 24 hours (and sometimes 48 hours) for your latest push to git@git.bioconductor.org:packages/FlowSOM.git to reflect on this report. See Troubleshooting Build Report for more information. - Use the following Renviron settings to reproduce errors and warnings. - If 'R CMD check' started to fail recently on the Linux builder(s) over a missing dependency, add the missing dependency to 'Suggests:' in your DESCRIPTION file. See Renviron.bioc for more information. |
| Package: FlowSOM |
| Version: 2.19.0 |
| Command: /home/biocbuild/bbs-3.23-bioc/R/bin/R CMD check --install=check:FlowSOM.install-out.txt --library=/home/biocbuild/bbs-3.23-bioc/R/site-library --timings FlowSOM_2.19.0.tar.gz |
| StartedAt: 2025-11-23 23:36:40 -0500 (Sun, 23 Nov 2025) |
| EndedAt: 2025-11-23 23:46:34 -0500 (Sun, 23 Nov 2025) |
| EllapsedTime: 594.8 seconds |
| RetCode: 0 |
| Status: OK |
| CheckDir: FlowSOM.Rcheck |
| Warnings: 0 |
##############################################################################
##############################################################################
###
### Running command:
###
### /home/biocbuild/bbs-3.23-bioc/R/bin/R CMD check --install=check:FlowSOM.install-out.txt --library=/home/biocbuild/bbs-3.23-bioc/R/site-library --timings FlowSOM_2.19.0.tar.gz
###
##############################################################################
##############################################################################
* using log directory ‘/home/biocbuild/bbs-3.23-bioc/meat/FlowSOM.Rcheck’
* using R Under development (unstable) (2025-10-20 r88955)
* using platform: x86_64-pc-linux-gnu
* R was compiled by
gcc (Ubuntu 13.3.0-6ubuntu2~24.04) 13.3.0
GNU Fortran (Ubuntu 13.3.0-6ubuntu2~24.04) 13.3.0
* running under: Ubuntu 24.04.3 LTS
* using session charset: UTF-8
* checking for file ‘FlowSOM/DESCRIPTION’ ... OK
* this is package ‘FlowSOM’ version ‘2.19.0’
* package encoding: UTF-8
* checking package namespace information ... OK
* checking package dependencies ... OK
* checking if this is a source package ... OK
* checking if there is a namespace ... OK
* checking for hidden files and directories ... OK
* checking for portable file names ... OK
* checking for sufficient/correct file permissions ... OK
* checking whether package ‘FlowSOM’ can be installed ... OK
* used C compiler: ‘gcc (Ubuntu 13.3.0-6ubuntu2~24.04) 13.3.0’
* checking installed package size ... OK
* checking package directory ... OK
* checking ‘build’ directory ... OK
* checking DESCRIPTION meta-information ... OK
* checking top-level files ... OK
* checking for left-over files ... OK
* checking index information ... OK
* checking package subdirectories ... OK
* checking code files for non-ASCII characters ... OK
* checking R files for syntax errors ... OK
* checking whether the package can be loaded ... OK
* checking whether the package can be loaded with stated dependencies ... OK
* checking whether the package can be unloaded cleanly ... OK
* checking whether the namespace can be loaded with stated dependencies ... OK
* checking whether the namespace can be unloaded cleanly ... OK
* checking loading without being on the library search path ... OK
* checking whether startup messages can be suppressed ... OK
* checking dependencies in R code ... OK
* checking S3 generic/method consistency ... OK
* checking replacement functions ... OK
* checking foreign function calls ... OK
* checking R code for possible problems ... OK
* checking Rd files ... NOTE
checkRd: (-1) PlotDimRed.Rd:55: Lost braces
55 | of the dimred default = function(dimred){dimred$Y}.}
| ^
* checking Rd metadata ... OK
* checking Rd cross-references ... NOTE
Non-topic package-anchored link(s) in Rd file 'pipe.Rd':
‘[magrittr:pipe]{%>%}’
See section 'Cross-references' in the 'Writing R Extensions' manual.
* checking for missing documentation entries ... OK
* checking for code/documentation mismatches ... OK
* checking Rd \usage sections ... OK
* checking Rd contents ... OK
* checking for unstated dependencies in examples ... OK
* checking line endings in C/C++/Fortran sources/headers ... OK
* checking compiled code ... INFO
Note: information on .o files is not available
* checking sizes of PDF files under ‘inst/doc’ ...* checking files in ‘vignettes’ ... OK
* checking examples ... OK
Examples with CPU (user + system) or elapsed time > 5s
user system elapsed
FlowSOMmary 50.596 0.307 50.581
PlotDimRed 43.963 0.153 44.073
PlotOutliers 29.086 0.021 29.107
PlotMarker 17.596 0.117 17.716
UpdateMetaclusters 15.590 0.051 15.641
PlotStars 13.689 0.011 13.701
GroupStats 12.023 0.112 12.136
FlowSOM 10.684 0.056 10.740
PlotGroups 10.423 0.013 10.438
QueryMultiple 9.801 0.015 9.817
Plot2DScatters 9.403 0.068 9.461
query_multiple 9.151 0.007 9.160
AddAnnotation 8.220 0.190 8.415
PlotManualBars 7.662 0.014 7.677
PlotPies 7.468 0.040 7.509
QueryStarPlot 7.244 0.008 7.252
GetFlowJoLabels 7.015 0.136 7.156
PlotNode 6.639 0.066 6.705
PlotVariable 6.461 0.019 6.480
PlotNumbers 6.295 0.021 6.317
UpdateNodeSize 6.068 0.016 6.085
PlotFlowSOM 5.477 0.080 5.558
CountGroups 5.364 0.080 5.445
PlotOverview2D 5.352 0.056 5.407
SaveClustersToFCS 5.188 0.016 5.205
* checking for unstated dependencies in vignettes ... OK
* checking package vignettes ... OK
* checking re-building of vignette outputs ... OK
* checking PDF version of manual ... OK
* DONE
Status: 2 NOTEs
See
‘/home/biocbuild/bbs-3.23-bioc/meat/FlowSOM.Rcheck/00check.log’
for details.
FlowSOM.Rcheck/00install.out
############################################################################## ############################################################################## ### ### Running command: ### ### /home/biocbuild/bbs-3.23-bioc/R/bin/R CMD INSTALL FlowSOM ### ############################################################################## ############################################################################## * installing to library ‘/home/biocbuild/bbs-3.23-bioc/R/site-library’ * installing *source* package ‘FlowSOM’ ... ** this is package ‘FlowSOM’ version ‘2.19.0’ ** using staged installation ** libs using C compiler: ‘gcc (Ubuntu 13.3.0-6ubuntu2~24.04) 13.3.0’ gcc -std=gnu2x -I"/home/biocbuild/bbs-3.23-bioc/R/include" -DNDEBUG -I/usr/local/include -fpic -g -O2 -Wall -Werror=format-security -c som.c -o som.o gcc -std=gnu2x -shared -L/home/biocbuild/bbs-3.23-bioc/R/lib -L/usr/local/lib -o FlowSOM.so som.o -L/home/biocbuild/bbs-3.23-bioc/R/lib -lR installing to /home/biocbuild/bbs-3.23-bioc/R/site-library/00LOCK-FlowSOM/00new/FlowSOM/libs ** R ** inst ** byte-compile and prepare package for lazy loading ** help *** installing help indices ** building package indices ** installing vignettes ** testing if installed package can be loaded from temporary location ** checking absolute paths in shared objects and dynamic libraries ** testing if installed package can be loaded from final location ** testing if installed package keeps a record of temporary installation path * DONE (FlowSOM)
FlowSOM.Rcheck/FlowSOM-Ex.timings
| name | user | system | elapsed | |
| AddAnnotation | 8.220 | 0.190 | 8.415 | |
| AggregateFlowFrames | 0.067 | 0.012 | 0.079 | |
| BuildMST | 1.318 | 0.035 | 1.354 | |
| BuildSOM | 1.001 | 0.016 | 1.017 | |
| CountGroups | 5.364 | 0.080 | 5.445 | |
| FMeasure | 0.002 | 0.000 | 0.002 | |
| FlowSOM | 10.684 | 0.056 | 10.740 | |
| FlowSOMSubset | 3.997 | 0.016 | 4.013 | |
| FlowSOMmary | 50.596 | 0.307 | 50.581 | |
| GetChannels | 0.026 | 0.001 | 0.028 | |
| GetClusterMFIs | 3.851 | 0.013 | 3.865 | |
| GetClusterPercentagesPositive | 3.932 | 0.032 | 3.974 | |
| GetClusters | 3.793 | 0.047 | 3.841 | |
| GetCounts | 3.949 | 0.074 | 4.024 | |
| GetFeatures | 4.919 | 0.016 | 4.936 | |
| GetFlowJoLabels | 7.015 | 0.136 | 7.156 | |
| GetMFIs | 4.586 | 0.069 | 4.657 | |
| GetMarkers | 0.027 | 0.000 | 0.027 | |
| GetMetaclusterCVs | 4.208 | 0.014 | 4.222 | |
| GetMetaclusterMFIs | 4.453 | 0.026 | 4.479 | |
| GetMetaclusterPercentagesPositive | 4.382 | 0.026 | 4.409 | |
| GetMetaclusters | 4.265 | 0.017 | 4.283 | |
| GetPercentages | 4.334 | 0.031 | 4.366 | |
| GroupStats | 12.023 | 0.112 | 12.136 | |
| Initialize_KWSP | 0.005 | 0.000 | 0.005 | |
| Initialize_PCA | 0.001 | 0.000 | 0.001 | |
| MetaClustering | 3.102 | 0.051 | 3.153 | |
| MetaclusterCVs | 4.249 | 0.045 | 4.294 | |
| MetaclusterMFIs | 4.576 | 0.023 | 4.600 | |
| NClusters | 4.542 | 0.053 | 4.608 | |
| NMetaclusters | 4.556 | 0.031 | 4.586 | |
| NewData | 3.460 | 0.022 | 3.482 | |
| Plot2DScatters | 9.403 | 0.068 | 9.461 | |
| PlotCenters | 1.046 | 0.001 | 1.046 | |
| PlotClusters2D | 0.955 | 0.002 | 0.957 | |
| PlotDimRed | 43.963 | 0.153 | 44.073 | |
| PlotFileScatters | 1.066 | 0.029 | 1.096 | |
| PlotFlowSOM | 5.477 | 0.080 | 5.558 | |
| PlotGroups | 10.423 | 0.013 | 10.438 | |
| PlotLabels | 4.843 | 0.013 | 4.856 | |
| PlotManualBars | 7.662 | 0.014 | 7.677 | |
| PlotMarker | 17.596 | 0.117 | 17.716 | |
| PlotNode | 6.639 | 0.066 | 6.705 | |
| PlotNumbers | 6.295 | 0.021 | 6.317 | |
| PlotOutliers | 29.086 | 0.021 | 29.107 | |
| PlotOverview2D | 5.352 | 0.056 | 5.407 | |
| PlotPies | 7.468 | 0.040 | 7.509 | |
| PlotSD | 2.045 | 0.011 | 2.057 | |
| PlotStars | 13.689 | 0.011 | 13.701 | |
| PlotVariable | 6.461 | 0.019 | 6.480 | |
| Purity | 0.000 | 0.001 | 0.001 | |
| QueryMultiple | 9.801 | 0.015 | 9.817 | |
| QueryStarPlot | 7.244 | 0.008 | 7.252 | |
| ReadInput | 2.983 | 0.063 | 3.046 | |
| SaveClustersToFCS | 5.188 | 0.016 | 5.205 | |
| TestOutliers | 4.478 | 0.007 | 4.486 | |
| UpdateMetaclusters | 15.590 | 0.051 | 15.641 | |
| UpdateNodeSize | 6.068 | 0.016 | 6.085 | |
| get_channels | 0.028 | 0.000 | 0.027 | |
| get_markers | 0.028 | 0.000 | 0.027 | |
| metaClustering_consensus | 2.141 | 0.013 | 2.154 | |
| plotStarLegend | 0.454 | 0.002 | 0.456 | |
| print.FlowSOM | 4.351 | 0.017 | 4.368 | |
| query_multiple | 9.151 | 0.007 | 9.160 | |