| Back to Multiple platform build/check report for BioC 3.22: simplified long |
|
This page was generated on 2025-10-25 12:05 -0400 (Sat, 25 Oct 2025).
| Hostname | OS | Arch (*) | R version | Installed pkgs |
|---|---|---|---|---|
| nebbiolo2 | Linux (Ubuntu 24.04.3 LTS) | x86_64 | 4.5.1 Patched (2025-08-23 r88802) -- "Great Square Root" | 4901 |
| lconway | macOS 12.7.6 Monterey | x86_64 | 4.5.1 Patched (2025-09-10 r88807) -- "Great Square Root" | 4691 |
| kjohnson3 | macOS 13.7.7 Ventura | arm64 | 4.5.1 Patched (2025-09-10 r88807) -- "Great Square Root" | 4637 |
| taishan | Linux (openEuler 24.03 LTS) | aarch64 | 4.5.0 (2025-04-11) -- "How About a Twenty-Six" | 4658 |
| Click on any hostname to see more info about the system (e.g. compilers) (*) as reported by 'uname -p', except on Windows and Mac OS X | ||||
| Package 273/2361 | Hostname | OS / Arch | INSTALL | BUILD | CHECK | BUILD BIN | ||||||||
| CAGEr 2.15.2 (landing page) Charles Plessy
| nebbiolo2 | Linux (Ubuntu 24.04.3 LTS) / x86_64 | OK | OK | OK | |||||||||
| lconway | macOS 12.7.6 Monterey / x86_64 | OK | OK | OK | OK | |||||||||
| kjohnson3 | macOS 13.7.7 Ventura / arm64 | OK | OK | OK | OK | |||||||||
| taishan | Linux (openEuler 24.03 LTS) / aarch64 | OK | NA | NA | ||||||||||
|
To the developers/maintainers of the CAGEr package: - Allow up to 24 hours (and sometimes 48 hours) for your latest push to git@git.bioconductor.org:packages/CAGEr.git to reflect on this report. See Troubleshooting Build Report for more information. - Use the following Renviron settings to reproduce errors and warnings. - If 'R CMD check' started to fail recently on the Linux builder(s) over a missing dependency, add the missing dependency to 'Suggests:' in your DESCRIPTION file. See Renviron.bioc for more information. |
| Package: CAGEr |
| Version: 2.15.2 |
| Command: /Library/Frameworks/R.framework/Resources/bin/R CMD check --install=check:CAGEr.install-out.txt --library=/Library/Frameworks/R.framework/Resources/library --no-vignettes --timings CAGEr_2.15.2.tar.gz |
| StartedAt: 2025-10-24 18:49:08 -0400 (Fri, 24 Oct 2025) |
| EndedAt: 2025-10-24 18:52:49 -0400 (Fri, 24 Oct 2025) |
| EllapsedTime: 220.6 seconds |
| RetCode: 0 |
| Status: OK |
| CheckDir: CAGEr.Rcheck |
| Warnings: 0 |
##############################################################################
##############################################################################
###
### Running command:
###
### /Library/Frameworks/R.framework/Resources/bin/R CMD check --install=check:CAGEr.install-out.txt --library=/Library/Frameworks/R.framework/Resources/library --no-vignettes --timings CAGEr_2.15.2.tar.gz
###
##############################################################################
##############################################################################
* using log directory ‘/Users/biocbuild/bbs-3.22-bioc/meat/CAGEr.Rcheck’
* using R version 4.5.1 Patched (2025-09-10 r88807)
* using platform: aarch64-apple-darwin20
* R was compiled by
Apple clang version 16.0.0 (clang-1600.0.26.6)
GNU Fortran (GCC) 14.2.0
* running under: macOS Ventura 13.7.7
* using session charset: UTF-8
* using option ‘--no-vignettes’
* checking for file ‘CAGEr/DESCRIPTION’ ... OK
* this is package ‘CAGEr’ version ‘2.15.2’
* package encoding: UTF-8
* checking package namespace information ... OK
* checking package dependencies ... INFO
Imports includes 30 non-default packages.
Importing from so many packages makes the package vulnerable to any of
them becoming unavailable. Move as many as possible to Suggests and
use conditionally.
* checking if this is a source package ... OK
* checking if there is a namespace ... OK
* checking for hidden files and directories ... OK
* checking for portable file names ... OK
* checking for sufficient/correct file permissions ... OK
* checking whether package ‘CAGEr’ can be installed ... OK
* checking installed package size ... OK
* checking package directory ... OK
* checking ‘build’ directory ... OK
* checking DESCRIPTION meta-information ... OK
* checking top-level files ... OK
* checking for left-over files ... OK
* checking index information ... OK
* checking package subdirectories ... OK
* checking code files for non-ASCII characters ... OK
* checking R files for syntax errors ... OK
* checking whether the package can be loaded ... OK
* checking whether the package can be loaded with stated dependencies ... OK
* checking whether the package can be unloaded cleanly ... OK
* checking whether the namespace can be loaded with stated dependencies ... OK
* checking whether the namespace can be unloaded cleanly ... OK
* checking dependencies in R code ... OK
* checking S3 generic/method consistency ... OK
* checking replacement functions ... OK
* checking foreign function calls ... OK
* checking R code for possible problems ... OK
* checking Rd files ... OK
* checking Rd metadata ... OK
* checking Rd cross-references ... OK
* checking for missing documentation entries ... OK
* checking for code/documentation mismatches ... OK
* checking Rd \usage sections ... OK
* checking Rd contents ... OK
* checking for unstated dependencies in examples ... OK
* checking contents of ‘data’ directory ... OK
* checking data for non-ASCII characters ... OK
* checking LazyData ... OK
* checking data for ASCII and uncompressed saves ... OK
* checking files in ‘vignettes’ ... OK
* checking examples ... OK
Examples with CPU (user + system) or elapsed time > 5s
user system elapsed
paraclu 12.118 0.022 12.174
exportToTrack 10.391 0.057 10.501
scoreShift 6.455 0.039 6.501
aggregateTagClusters 6.085 0.067 6.160
* checking for unstated dependencies in vignettes ... OK
* checking package vignettes ... OK
* checking running R code from vignettes ... SKIPPED
* checking re-building of vignette outputs ... SKIPPED
* checking PDF version of manual ... OK
* DONE
Status: OK
CAGEr.Rcheck/00install.out
############################################################################## ############################################################################## ### ### Running command: ### ### /Library/Frameworks/R.framework/Resources/bin/R CMD INSTALL CAGEr ### ############################################################################## ############################################################################## * installing to library ‘/Library/Frameworks/R.framework/Versions/4.5-arm64/Resources/library’ * installing *source* package ‘CAGEr’ ... ** this is package ‘CAGEr’ version ‘2.15.2’ ** using staged installation ** R ** data *** moving datasets to lazyload DB ** inst ** byte-compile and prepare package for lazy loading ** help *** installing help indices ** building package indices ** installing vignettes ** testing if installed package can be loaded from temporary location ** testing if installed package can be loaded from final location ** testing if installed package keeps a record of temporary installation path * DONE (CAGEr)
CAGEr.Rcheck/CAGEr-Ex.timings
| name | user | system | elapsed | |
| CAGEexp-class | 1.699 | 0.239 | 1.951 | |
| CAGEr_Multicore | 1.721 | 0.009 | 1.730 | |
| CTSS-class | 0.078 | 0.000 | 0.079 | |
| CTSScoordinates | 0.025 | 0.000 | 0.027 | |
| CTSSnormalizedTpm | 0.218 | 0.003 | 0.223 | |
| CTSStagCount | 0.200 | 0.016 | 0.217 | |
| CTSStoGenes | 0.167 | 0.010 | 0.176 | |
| CustomConsensusClusters | 1.355 | 0.008 | 1.367 | |
| GeneExpDESeq2 | 0.169 | 0.005 | 0.174 | |
| GeneExpSE | 0.001 | 0.000 | 0.002 | |
| QuantileWidthFunctions | 0.045 | 0.001 | 0.046 | |
| TSSlogo | 0.803 | 0.015 | 0.822 | |
| aggregateTagClusters | 6.085 | 0.067 | 6.160 | |
| annotateCTSS | 3.525 | 0.010 | 3.536 | |
| byCtss | 0.007 | 0.000 | 0.007 | |
| consensusClusters | 0.047 | 0.001 | 0.048 | |
| consensusClustersDESeq2 | 0.535 | 0.001 | 0.535 | |
| consensusClustersTpm | 0.002 | 0.000 | 0.002 | |
| cumulativeCTSSdistribution | 1.180 | 0.022 | 1.203 | |
| distclu | 2.674 | 0.010 | 2.687 | |
| dot-ctss_summary_for_clusters | 0.257 | 0.001 | 0.259 | |
| exampleCAGEexp | 0 | 0 | 0 | |
| exportToTrack | 10.391 | 0.057 | 10.501 | |
| expressionClasses | 0.509 | 0.001 | 0.511 | |
| filteredCTSSidx | 0.003 | 0.000 | 0.003 | |
| flagLowExpCTSS | 0.010 | 0.000 | 0.011 | |
| genomeName | 0 | 0 | 0 | |
| getCTSS | 0.337 | 0.007 | 0.345 | |
| getExpressionProfiles | 1.595 | 0.008 | 1.608 | |
| getShiftingPromoters | 0.532 | 0.001 | 0.535 | |
| hanabi | 0.082 | 0.005 | 0.087 | |
| hanabiPlot | 0.104 | 0.010 | 0.114 | |
| import.CAGEscanMolecule | 0 | 0 | 0 | |
| import.CTSS | 0.025 | 0.001 | 0.025 | |
| import.bam | 0 | 0 | 0 | |
| import.bedCTSS | 0 | 0 | 0 | |
| import.bedScore | 0 | 0 | 0 | |
| import.bedmolecule | 0 | 0 | 0 | |
| import.bigwig | 0.116 | 0.001 | 0.117 | |
| importPublicData | 0.000 | 0.000 | 0.001 | |
| inputFiles | 0 | 0 | 0 | |
| inputFilesType | 0.001 | 0.000 | 0.000 | |
| librarySizes | 0.000 | 0.000 | 0.001 | |
| mapStats | 0.016 | 0.001 | 0.017 | |
| mergeCAGEsets | 0.734 | 0.010 | 0.760 | |
| mergeSamples | 0.187 | 0.002 | 0.197 | |
| moleculesGR2CTSS | 0.037 | 0.001 | 0.039 | |
| normalizeTagCount | 0.184 | 0.003 | 0.188 | |
| paraclu | 12.118 | 0.022 | 12.174 | |
| parseCAGEscanBlocksToGrangeTSS | 0.007 | 0.001 | 0.010 | |
| plotAnnot | 1.027 | 0.005 | 1.034 | |
| plotCorrelation | 0.073 | 0.002 | 0.073 | |
| plotExpressionProfiles | 2.662 | 0.113 | 2.800 | |
| plotInterquantileWidth | 0.755 | 0.002 | 0.758 | |
| plotReverseCumulatives | 1.520 | 0.034 | 1.570 | |
| quantilePositions | 3.594 | 0.039 | 3.650 | |
| quickEnhancers | 0 | 0 | 0 | |
| ranges2annot | 0.110 | 0.003 | 0.113 | |
| ranges2genes | 0.017 | 0.000 | 0.018 | |
| ranges2names | 0.017 | 0.001 | 0.018 | |
| resetCAGEexp | 0.093 | 0.000 | 0.093 | |
| rowSums.RleDataFrame | 0.007 | 0.000 | 0.007 | |
| rowsum.RleDataFrame | 0.007 | 0.000 | 0.008 | |
| sampleLabels | 0.001 | 0.000 | 0.001 | |
| scoreShift | 6.455 | 0.039 | 6.501 | |
| seqNameTotalsSE | 0.001 | 0.000 | 0.001 | |
| setColors | 0.138 | 0.002 | 0.141 | |
| strandInvaders | 0.256 | 0.028 | 0.287 | |
| summariseChrExpr | 0.173 | 0.007 | 0.179 | |
| tagClusters | 0.128 | 0.013 | 0.140 | |