| Back to Workflows build report for BioC 3.9 |
This page was generated on 2019-01-30 16:00:22 -0500 (Wed, 30 Jan 2019).
| Package 11/23 | Hostname | OS / Arch | INSTALL | BUILD | ||||||
| liftOver 1.7.0 Bioconductor Package Maintainer
| malbec2 | Linux (Ubuntu 18.04.1 LTS) / x86_64 | OK | OK | ||||||
| tokay2 | Windows Server 2012 R2 Standard / x64 | [ OK ] | OK |
| Package: liftOver |
| Version: 1.7.0 |
| Command: C:\cygwin\bin\curl.exe -O https://malbec2.bioconductor.org/BBS/3.9/workflows/src/contrib/liftOver_1.7.0.tar.gz && rm -rf liftOver.buildbin-libdir && mkdir liftOver.buildbin-libdir && C:\Users\biocbuild\bbs-3.9-bioc\R\bin\R.exe CMD INSTALL --merge-multiarch --build --library=liftOver.buildbin-libdir liftOver_1.7.0.tar.gz && C:\Users\biocbuild\bbs-3.9-bioc\R\bin\R.exe CMD INSTALL liftOver_1.7.0.zip && rm liftOver_1.7.0.tar.gz liftOver_1.7.0.zip |
| StartedAt: 2019-01-30 09:35:22 -0500 (Wed, 30 Jan 2019) |
| EndedAt: 2019-01-30 09:37:36 -0500 (Wed, 30 Jan 2019) |
| EllapsedTime: 133.9 seconds |
| RetCode: 0 |
| Status: OK |
##############################################################################
##############################################################################
###
### Running command:
###
### C:\cygwin\bin\curl.exe -O https://malbec2.bioconductor.org/BBS/3.9/workflows/src/contrib/liftOver_1.7.0.tar.gz && rm -rf liftOver.buildbin-libdir && mkdir liftOver.buildbin-libdir && C:\Users\biocbuild\bbs-3.9-bioc\R\bin\R.exe CMD INSTALL --merge-multiarch --build --library=liftOver.buildbin-libdir liftOver_1.7.0.tar.gz && C:\Users\biocbuild\bbs-3.9-bioc\R\bin\R.exe CMD INSTALL liftOver_1.7.0.zip && rm liftOver_1.7.0.tar.gz liftOver_1.7.0.zip
###
##############################################################################
##############################################################################
% Total % Received % Xferd Average Speed Time Time Time Current
Dload Upload Total Spent Left Speed
0 0 0 0 0 0 0 0 --:--:-- --:--:-- --:--:-- 0
0 0 0 0 0 0 0 0 --:--:-- 0:00:03 --:--:-- 0
0 0 0 0 0 0 0 0 --:--:-- 0:00:04 --:--:-- 0
0 4281k 0 0 0 0 0 0 --:--:-- 0:00:05 --:--:-- 0
14 4281k 14 640k 0 0 103k 0 0:00:41 0:00:06 0:00:35 109k
100 4281k 100 4281k 0 0 614k 0 0:00:06 0:00:06 --:--:-- 644k
install for i386
* installing *source* package 'liftOver' ...
** data
*** moving datasets to lazyload DB
** inst
** help
No man pages found in package 'liftOver'
*** installing help indices
** building package indices
** installing vignettes
** testing if installed package can be loaded
install for x64
* installing *source* package 'liftOver' ...
** testing if installed package can be loaded
* MD5 sums
packaged installation of 'liftOver' as liftOver_1.7.0.zip
* DONE (liftOver)
* installing to library 'C:/Users/biocbuild/bbs-3.9-bioc/R/library'
package 'liftOver' successfully unpacked and MD5 sums checked