| Back to Multiple platform build/check report for BioC 3.9 |
|
This page was generated on 2019-07-31 12:33:56 -0400 (Wed, 31 Jul 2019).
| Package 1341/1741 | Hostname | OS / Arch | INSTALL | BUILD | CHECK | BUILD BIN | ||||||
| readat 1.10.0 Richard Cotton
| malbec2 | Linux (Ubuntu 18.04.2 LTS) / x86_64 | ERROR | ERROR | skipped | |||||||
| tokay2 | Windows Server 2012 R2 Standard / x64 | OK | OK | WARNINGS | OK | |||||||
| celaya2 | OS X 10.11.6 El Capitan / x86_64 | OK | OK | [ OK ] | OK |
| Package: readat |
| Version: 1.10.0 |
| Command: /Library/Frameworks/R.framework/Versions/Current/Resources/bin/R CMD check --install=check:readat.install-out.txt --library=/Library/Frameworks/R.framework/Versions/Current/Resources/library --no-vignettes --timings readat_1.10.0.tar.gz |
| StartedAt: 2019-07-31 06:02:26 -0400 (Wed, 31 Jul 2019) |
| EndedAt: 2019-07-31 06:06:36 -0400 (Wed, 31 Jul 2019) |
| EllapsedTime: 250.7 seconds |
| RetCode: 0 |
| Status: OK |
| CheckDir: readat.Rcheck |
| Warnings: 0 |
##############################################################################
##############################################################################
###
### Running command:
###
### /Library/Frameworks/R.framework/Versions/Current/Resources/bin/R CMD check --install=check:readat.install-out.txt --library=/Library/Frameworks/R.framework/Versions/Current/Resources/library --no-vignettes --timings readat_1.10.0.tar.gz
###
##############################################################################
##############################################################################
* using log directory ‘/Users/biocbuild/bbs-3.9-bioc/meat/readat.Rcheck’
* using R version 3.6.0 (2019-04-26)
* using platform: x86_64-apple-darwin15.6.0 (64-bit)
* using session charset: UTF-8
* using option ‘--no-vignettes’
* checking for file ‘readat/DESCRIPTION’ ... OK
* this is package ‘readat’ version ‘1.10.0’
* checking package namespace information ... OK
* checking package dependencies ... OK
* checking if this is a source package ... OK
* checking if there is a namespace ... OK
* checking for hidden files and directories ... OK
* checking for portable file names ... OK
* checking for sufficient/correct file permissions ... OK
* checking whether package ‘readat’ can be installed ... OK
* checking installed package size ... OK
* checking package directory ... OK
* checking ‘build’ directory ... OK
* checking DESCRIPTION meta-information ... OK
* checking top-level files ... OK
* checking for left-over files ... OK
* checking index information ... OK
* checking package subdirectories ... OK
* checking R files for non-ASCII characters ... OK
* checking R files for syntax errors ... OK
* checking whether the package can be loaded ... OK
* checking whether the package can be loaded with stated dependencies ... OK
* checking whether the package can be unloaded cleanly ... OK
* checking whether the namespace can be loaded with stated dependencies ... OK
* checking whether the namespace can be unloaded cleanly ... OK
* checking dependencies in R code ... OK
* checking S3 generic/method consistency ... OK
* checking replacement functions ... OK
* checking foreign function calls ... OK
* checking R code for possible problems ... NOTE
sfread: no visible binding for global variable ‘header’
sfread: no visible binding for global variable ‘nrows’
Undefined global functions or variables:
header nrows
* checking Rd files ... OK
* checking Rd metadata ... OK
* checking Rd cross-references ... OK
* checking for missing documentation entries ... OK
* checking for code/documentation mismatches ... OK
* checking Rd \usage sections ... OK
* checking Rd contents ... OK
* checking for unstated dependencies in examples ... OK
* checking contents of ‘data’ directory ... OK
* checking data for non-ASCII characters ... OK
* checking data for ASCII and uncompressed saves ... OK
* checking files in ‘vignettes’ ... OK
* checking examples ... OK
Examples with CPU or elapsed time > 5s
user system elapsed
as.ExpressionSet 4.741 1.207 4.034
* checking for unstated dependencies in ‘tests’ ... OK
* checking tests ...
Running ‘testthat.R’
OK
* checking for unstated dependencies in vignettes ... OK
* checking package vignettes in ‘inst/doc’ ... OK
* checking running R code from vignettes ... SKIPPED
* checking re-building of vignette outputs ... SKIPPED
* checking PDF version of manual ... OK
* DONE
Status: 1 NOTE
See
‘/Users/biocbuild/bbs-3.9-bioc/meat/readat.Rcheck/00check.log’
for details.
readat.Rcheck/00install.out
############################################################################## ############################################################################## ### ### Running command: ### ### /Library/Frameworks/R.framework/Versions/Current/Resources/bin/R CMD INSTALL readat ### ############################################################################## ############################################################################## * installing to library ‘/Library/Frameworks/R.framework/Versions/3.6/Resources/library’ * installing *source* package ‘readat’ ... ** using staged installation ** R ** data *** moving datasets to lazyload DB ** inst ** byte-compile and prepare package for lazy loading ** help *** installing help indices ** building package indices ** installing vignettes ** testing if installed package can be loaded from temporary location ** testing if installed package can be loaded from final location ** testing if installed package keeps a record of temporary installation path * DONE (readat)
readat.Rcheck/tests/testthat.Rout
R version 3.6.0 (2019-04-26) -- "Planting of a Tree"
Copyright (C) 2019 The R Foundation for Statistical Computing
Platform: x86_64-apple-darwin15.6.0 (64-bit)
R is free software and comes with ABSOLUTELY NO WARRANTY.
You are welcome to redistribute it under certain conditions.
Type 'license()' or 'licence()' for distribution details.
R is a collaborative project with many contributors.
Type 'contributors()' for more information and
'citation()' on how to cite R or R packages in publications.
Type 'demo()' for some demos, 'help()' for on-line help, or
'help.start()' for an HTML browser interface to help.
Type 'q()' to quit R.
> library(readat)
> library(testthat)
>
> test_check("readat")
══ testthat results ═══════════════════════════════════════════════════════════
[ OK: 62 | SKIPPED: 0 | WARNINGS: 0 | FAILED: 0 ]
>
> proc.time()
user system elapsed
15.480 3.267 12.411
readat.Rcheck/readat-Ex.timings
| name | user | system | elapsed | |
| WideSomaLogicData | 0.041 | 0.018 | 0.059 | |
| WideSomaLogicDataAttributes | 1.240 | 0.986 | 0.528 | |
| aptamers | 0.059 | 0.051 | 0.024 | |
| as.ExpressionSet | 4.741 | 1.207 | 4.034 | |
| as.SummarizedExperiment | 0.800 | 0.449 | 0.578 | |
| chromosomalPositions | 0.308 | 0.157 | 0.159 | |
| colnamesStartWithSeqId | 0.612 | 0.374 | 0.359 | |
| convertSeqIdToAptamer | 0.002 | 0.001 | 0.001 | |
| ensemblIds | 0.008 | 0.005 | 0.003 | |
| extractSampleData | 0.050 | 0.052 | 0.027 | |
| getChromosomalPositions | 0.110 | 0.066 | 0.046 | |
| getEnsemblIds | 0.013 | 0.009 | 0.006 | |
| getGoMolecularFunctions | 1.534 | 0.090 | 1.071 | |
| getKeggDefinitions | 0.039 | 0.005 | 0.045 | |
| getPfam | 0.014 | 0.001 | 0.015 | |
| getUniProtKeywords | 0.027 | 0.004 | 0.032 | |
| goMolecularFunction | 0.313 | 0.035 | 0.348 | |
| keggDefinitions | 0.042 | 0.003 | 0.045 | |
| pfam | 0.020 | 0.001 | 0.021 | |
| readAdat | 1.033 | 0.615 | 0.431 | |
| readComments | 0.099 | 0.067 | 0.044 | |
| readControls | 0.809 | 0.237 | 0.243 | |
| readSamples | 1.560 | 0.157 | 0.351 | |
| readSlides | 0.140 | 0.094 | 0.052 | |
| sub-.WideSomaLogicData | 0.972 | 0.646 | 0.332 | |
| uniprotKeywords | 0.112 | 0.080 | 0.039 | |
| writeSampleSubmissionForm | 0.437 | 0.335 | 0.158 | |